Workbook

Sheet Releases
A1: Date | B1: Color | C1: Side | D1: Location | E1: Number | F1: Agency | G1: Facility | H1: Lot Number | I1: Source of fish | J1: Age | K1: SL (mm) | L1: Release | M1: Reach | N1: Notes | O1: Mark | P1: C | Q1: L | R1: S | S1: Year | T1: RM | U1: lat | V1: long | W1: Truck temp | X1: Comments
A2: 37257 | B2: yellow | C2: left | D2: predorsal | E2: 4600 | F2: MSB | G2: Dexter | L2: San Marcial | M2: 3 | O2: =CONCATENATE(P2,Q2,R2, " ", YEAR(A2)) -> YLD 2002 | P2: =UPPER(LEFT(B2)) -> Y | Q2: =UPPER(LEFT(C2)) -> L | R2: =IF(LEFT(D2) = "p", "D", "A") -> D | S2: =YEAR(A2) -> 2002 | T2: =VLOOKUP(L2, Metadata!E$3:F$101, 2, FALSE) -> 67.5 | U2: =VLOOKUP(T2,Metadata!$H:$J,2,FALSE) -> 33.680714 | V2: =VLOOKUP(T2,Metadata!$H:$J,3,FALSE) -> -106.99298
A3: 37258 | B3: green | C3: left | D3: predorsal | E3: 7300 | F3: MSB | G3: Dexter | L3: Socorro | M3: 3 | O3: =CONCATENATE(P3,Q3,R3, " ", YEAR(A3)) -> GLD 2002 | P3: =UPPER(LEFT(B3)) -> G | Q3: =UPPER(LEFT(C3)) -> L | R3: =IF(LEFT(D3) = "p", "D", "A") -> D | S3: =YEAR(A3) -> 2002 | T3: =VLOOKUP(L3, Metadata!E$3:F$101, 2, FALSE) -> 101.6 | U3: =VLOOKUP(T3,Metadata!H:J,2,FALSE) -> 34.079163 | V3: =VLOOKUP(T3,Metadata!$H:$J,3,FALSE) -> -106.86713
A4: 37409 | B4: orange | C4: right | D4: predorsal | E4: 2082 | F4: FRO | G4: Abq | L4: Alameda Bridge | M4: 1 | O4: =CONCATENATE(P4,Q4,R4, " ", YEAR(A4)) -> ORD 2002 | P4: =UPPER(LEFT(B4)) -> O | Q4: =UPPER(LEFT(C4)) -> R | R4: =IF(LEFT(D4) = "p", "D", "A") -> D | S4: =YEAR(A4) -> 2002 | T4: =VLOOKUP(L4, Metadata!E$3:F$101, 2, FALSE) -> 191.1 | U4: =VLOOKUP(T4,Metadata!H:J,2,FALSE) -> 35.193578 | V4: =VLOOKUP(T4,Metadata!$H:$J,3,FALSE) -> -106.64481
A5: 37599 | B5: orange | C5: left | D5: predorsal | E5: 41500 | F5: FRO | G5: Dexter | L5: Corrales | M5: 1 | O5: =CONCATENATE(P5,Q5,R5, " ", YEAR(A5)) -> OLD 2002 | P5: =UPPER(LEFT(B5)) -> O | Q5: =UPPER(LEFT(C5)) -> L | R5: =IF(LEFT(D5) = "p", "D", "A") -> D | S5: =YEAR(A5) -> 2002 | T5: =VLOOKUP(L5, Metadata!E$3:F$101, 2, FALSE) -> 195 | U5: =VLOOKUP(T5,Metadata!H:J,2,FALSE) -> 35.226104 | V5: =VLOOKUP(T5,Metadata!$H:$J,3,FALSE) -> -106.59647
A6: 37623 | B6: green | C6: left | D6: predorsal | E6: 61118 | F6: FRO | G6: Dexter | L6: Bernalillo | M6: 1 | N6: * plus 918 yankton fish | O6: =CONCATENATE(P6,Q6,R6, " ", YEAR(A6)) -> GLD 2003 | P6: =UPPER(LEFT(B6)) -> G | Q6: =UPPER(LEFT(C6)) -> L | R6: =IF(LEFT(D6) = "p", "D", "A") -> D | S6: =YEAR(A6) -> 2003 | T6: =VLOOKUP(L6, Metadata!E$3:F$101, 2, FALSE) -> 203.2 | U6: =VLOOKUP(T6,Metadata!H:J,2,FALSE) -> 35.322184 | V6: =VLOOKUP(T6,Metadata!$H:$J,3,FALSE) -> -106.55748
A7: 37714 | B7: red | C7: left | D7: predorsal | E7: 22266 | F7: FRO | G7: Dexter | L7: Sandia Pueblo | M7: 1 | O7: =CONCATENATE(P7,Q7,R7, " ", YEAR(A7)) -> RLD 2003 | P7: =UPPER(LEFT(B7)) -> R | Q7: =UPPER(LEFT(C7)) -> L | R7: =IF(LEFT(D7) = "p", "D", "A") -> D | S7: =YEAR(A7) -> 2003 | T7: =VLOOKUP(L7, Metadata!E$3:F$101, 2, FALSE) -> 197.8 | U7: =VLOOKUP(T7,Metadata!H:J,2,FALSE) -> 35.263284 | V7: =VLOOKUP(T7,Metadata!$H:$J,3,FALSE) -> -106.59521
A8: 37989 | E8: 43206 | F8: FRO | G8: Dexter | L8: Sandia Pueblo | M8: 1 | O8: none 2004 | S8: =YEAR(A8) -> 2004 | T8: 197.8 | U8: =VLOOKUP(T8,Metadata!H:J,2,FALSE) -> 35.263284 | V8: =VLOOKUP(T8,Metadata!$H:$J,3,FALSE) -> -106.59521
A9: 37989 | B9: yellow | C9: right | D9: predorsal | E9: 5307 | F9: FRO | G9: Dexter | L9: Sandia Pueblo | M9: 1 | N9: * 5,307 VIE marked, all were calcein marked (Dexter) | O9: =CONCATENATE(P9,Q9,R9, " ", YEAR(A9)) -> YRD 2004 | P9: =UPPER(LEFT(B9)) -> Y | Q9: =UPPER(LEFT(C9)) -> R | R9: =IF(LEFT(D9) = "p", "D", "A") -> D | S9: =YEAR(A9) -> 2004 | T9: =VLOOKUP(L9, Metadata!E$3:F$101, 2, FALSE) -> 197.8 | U9: =VLOOKUP(T9,Metadata!H:J,2,FALSE) -> 35.263284 | V9: =VLOOKUP(T9,Metadata!$H:$J,3,FALSE) -> -106.59521
A10: 38081 | E10: 41445 | F10: FRO | G10: Dexter | L10: Sandia-float | M10: 1 | O10: none 2004 | S10: =YEAR(A10) -> 2004 | T10: 203-193 | U10: =VLOOKUP(T10,Metadata!H:J,2,FALSE) -> #N/A | V10: =VLOOKUP(T10,Metadata!$H:$J,3,FALSE) -> #N/A
A11: 38081 | B11: red | C11: right | D11: predorsal | E11: 5100 | F11: FRO | G11: Dexter | I11: 2003 Las Cruces, 2001 Dexter, 2003 BioPark wild caught | J11: 1-3 | K11: 30 | L11: Sandia-float | M11: 1 | N11: * 5,100 VIE marked, all were calcein marked (Dexter) | O11: =CONCATENATE(P11,Q11,R11, " ", YEAR(A11)) -> RRD 2004 | P11: =UPPER(LEFT(B11)) -> R | Q11: =UPPER(LEFT(C11)) -> R | R11: =IF(LEFT(D11) = "p", "D", "A") -> D | S11: =YEAR(A11) -> 2004 | T11: =VLOOKUP(L11, Metadata!E$3:F$101, 2, FALSE) -> 203-193 | U11: =VLOOKUP(T11,Metadata!H:J,2,FALSE) -> #N/A | V11: =VLOOKUP(T11,Metadata!$H:$J,3,FALSE) -> #N/A
A12: 38081 | B12: red | C12: right | D12: predorsal | E12: 10099 | F12: FRO | G12: LC | I12: 2004 Las Cruces, 2001 Dexter, 2003 BioPark wild caught | J12: 1-3 | K12: 31 | L12: Sandia-float | M12: 1 | N12: * all VIE and calcein (A mountain) | O12: =CONCATENATE(P12,Q12,R12, " ", YEAR(A12)) -> RRD 2004 | P12: =UPPER(LEFT(B12)) -> R | Q12: =UPPER(LEFT(C12)) -> R | R12: =IF(LEFT(D12) = "p", "D", "A") -> D | S12: =YEAR(A12) -> 2004 | T12: =VLOOKUP(L12, Metadata!E$3:F$101, 2, FALSE) -> 203-193 | U12: =VLOOKUP(T12,Metadata!H:J,2,FALSE) -> #N/A | V12: =VLOOKUP(T12,Metadata!$H:$J,3,FALSE) -> #N/A
A13: 38081 | B13: green | C13: right | D13: predorsal | E13: 8500 | F13: FRO | G13: Abq | H13: CSSA03 | I13: Spawn progeny of 01 and 02 wild caught eggs and 01 and 02 adults from those eggs from SA 16 june 2003 | J13: 1 | L13: Sandia-float | M13: 1 | N13: (COA) | O13: =CONCATENATE(P13,Q13,R13, " ", YEAR(A13)) -> GRD 2004 | P13: =UPPER(LEFT(B13)) -> G | Q13: =UPPER(LEFT(C13)) -> R | R13: =IF(LEFT(D13) = "p", "D", "A") -> D | S13: =YEAR(A13) -> 2004 | T13: =VLOOKUP(L13, Metadata!E$3:F$101, 2, FALSE) -> 203-193 | U13: =VLOOKUP(T13,Metadata!H:J,2,FALSE) -> #N/A | V13: =VLOOKUP(T13,Metadata!$H:$J,3,FALSE) -> #N/A
A14: 38092 | B14: orange | C14: right | D14: predorsal | E14: 1500 | F14: FRO | G14: Abq | H14: CSSA03 | I14: Spawn progeny of 01 and 02 wild caught eggs from SA 16 june 2003 | J14: 1 | L14: Bernalillo | M14: 1 | N14: all calcein(COA) | O14: =CONCATENATE(P14,Q14,R14, " ", YEAR(A14)) -> ORD 2004 | P14: =UPPER(LEFT(B14)) -> O | Q14: =UPPER(LEFT(C14)) -> R | R14: =IF(LEFT(D14) = "p", "D", "A") -> D | S14: =YEAR(A14) -> 2004 | T14: =VLOOKUP(L14, Metadata!E$3:F$101, 2, FALSE) -> 203.2 | U14: =VLOOKUP(T14,Metadata!H:J,2,FALSE) -> 35.322184 | V14: =VLOOKUP(T14,Metadata!$H:$J,3,FALSE) -> -106.55748
A15: 38280 | B15: yellow | C15: left | D15: predorsal | E15: 570 | F15: ABQ | G15: Abq | H15: WCSA02 | L15: Central bridge | M15: 1 | N15: not part of protocol study | O15: =CONCATENATE(P15,Q15,R15, " ", YEAR(A15)) -> YLD 2004 | P15: =UPPER(LEFT(B15)) -> Y | Q15: =UPPER(LEFT(C15)) -> L | R15: =IF(LEFT(D15) = "p", "D", "A") -> D | S15: =YEAR(A15) -> 2004 | T15: =VLOOKUP(L15, Metadata!E$3:F$101, 2, FALSE) -> 182.8 | U15: =VLOOKUP(T15,Metadata!H:J,2,FALSE) -> 35.088992 | V15: =VLOOKUP(T15,Metadata!$H:$J,3,FALSE) -> -106.68041
A16: 38294 | B16: yellow | C16: right | D16: anal | E16: 9622 | F16: FRO | G16: Dexter | J16: 0 | L16: Bernalillo-day | M16: 1 | O16: =CONCATENATE(P16,Q16,R16, " ", YEAR(A16)) -> YRA 2004 | P16: =UPPER(LEFT(B16)) -> Y | Q16: =UPPER(LEFT(C16)) -> R | R16: =IF(LEFT(D16) = "p", "D", "A") -> A | S16: =YEAR(A16) -> 2004 | T16: =VLOOKUP(L16, Metadata!E$3:F$101, 2, FALSE) -> 203.2-193.6 | U16: =VLOOKUP(T16,Metadata!H:J,2,FALSE) -> #N/A | V16: =VLOOKUP(T16,Metadata!$H:$J,3,FALSE) -> #N/A
A17: 38294 | B17: red | C17: right | D17: anal | E17: 8639 | F17: FRO | G17: Dexter | L17: Sandia-float-day | M17: 1 | O17: =CONCATENATE(P17,Q17,R17, " ", YEAR(A17)) -> RRA 2004 | P17: =UPPER(LEFT(B17)) -> R | Q17: =UPPER(LEFT(C17)) -> R | R17: =IF(LEFT(D17) = "p", "D", "A") -> A | S17: =YEAR(A17) -> 2004 | T17: =VLOOKUP(L17, Metadata!E$3:F$101, 2, FALSE) -> 204-193.6 | U17: =VLOOKUP(T17,Metadata!H:J,2,FALSE) -> #N/A | V17: =VLOOKUP(T17,Metadata!$H:$J,3,FALSE) -> #N/A
A18: 38294 | B18: yellow | C18: left | D18: anal | E18: 3021 | F18: FRO | G18: Abq | H18: ABP04-007 | I18: Wild caught as eggs in 2002 | J18: 0 | L18: Bernalillo-day | M18: 1 | O18: =CONCATENATE(P18,Q18,R18, " ", YEAR(A18)) -> YLA 2004 | P18: =UPPER(LEFT(B18)) -> Y | Q18: =UPPER(LEFT(C18)) -> L | R18: =IF(LEFT(D18) = "p", "D", "A") -> A | S18: =YEAR(A18) -> 2004 | T18: =VLOOKUP(L18, Metadata!E$3:F$101, 2, FALSE) -> 203.2-193.6 | U18: =VLOOKUP(T18,Metadata!H:J,2,FALSE) -> #N/A | V18: =VLOOKUP(T18,Metadata!$H:$J,3,FALSE) -> #N/A
A19: 38294 | B19: yellow | C19: left | D19: anal | E19: 2791 | F19: FRO | G19: Abq | H19: CSSA03 | I19: Captive spawn of CSSA01 and WCSA02 13 Aug 2003 | J19: 1 | L19: Bernalillo-day | M19: 1 | O19: =CONCATENATE(P19,Q19,R19, " ", YEAR(A19)) -> YLA 2004 | P19: =UPPER(LEFT(B19)) -> Y | Q19: =UPPER(LEFT(C19)) -> L | R19: =IF(LEFT(D19) = "p", "D", "A") -> A | S19: =YEAR(A19) -> 2004 | T19: =VLOOKUP(L19, Metadata!E$3:F$101, 2, FALSE) -> 203.2-193.6 | U19: =VLOOKUP(T19,Metadata!H:J,2,FALSE) -> #N/A | V19: =VLOOKUP(T19,Metadata!$H:$J,3,FALSE) -> #N/A
A20: 38294 | B20: yellow | C20: left | D20: anal | E20: 433 | F20: FRO | G20: Abq | H20: CSSA03,WCSA03 | I20: Natural spawn of CSSA01 and WCSA02, wild caught at San Acacia 2003 16 June 2003 | J20: 1 | L20: Bernalillo-day | M20: 1 | O20: =CONCATENATE(P20,Q20,R20, " ", YEAR(A20)) -> YLA 2004 | P20: =UPPER(LEFT(B20)) -> Y | Q20: =UPPER(LEFT(C20)) -> L | R20: =IF(LEFT(D20) = "p", "D", "A") -> A | S20: =YEAR(A20) -> 2004 | T20: =VLOOKUP(L20, Metadata!E$3:F$101, 2, FALSE) -> 203.2-193.6 | U20: =VLOOKUP(T20,Metadata!H:J,2,FALSE) -> #N/A | V20: =VLOOKUP(T20,Metadata!$H:$J,3,FALSE) -> #N/A
A21: 38294 | B21: red | C21: left | D21: anal | E21: 2638 | F21: FRO | G21: Abq | H21: CSSA03(natural),CSSA03(cpe),WCSA03 | J21: 1 | L21: Sandia-float-day | M21: 1 | O21: =CONCATENATE(P21,Q21,R21, " ", YEAR(A21)) -> RLA 2004 | P21: =UPPER(LEFT(B21)) -> R | Q21: =UPPER(LEFT(C21)) -> L | R21: =IF(LEFT(D21) = "p", "D", "A") -> A | S21: =YEAR(A21) -> 2004 | T21: =VLOOKUP(L21, Metadata!E$3:F$101, 2, FALSE) -> 204-193.6 | U21: =VLOOKUP(T21,Metadata!H:J,2,FALSE) -> #N/A | V21: =VLOOKUP(T21,Metadata!$H:$J,3,FALSE) -> #N/A
A22: 38294 | B22: red | C22: left | D22: anal | E22: 715 | F22: FRO | G22: Abq | H22: ABP04-006,010 | I22: Wild caught as eggs in 2003 or faster growing CSSA03 | J22: 1 | L22: Sandia-float-day | M22: 1 | O22: =CONCATENATE(P22,Q22,R22, " ", YEAR(A22)) -> RLA 2004 | P22: =UPPER(LEFT(B22)) -> R | Q22: =UPPER(LEFT(C22)) -> L | R22: =IF(LEFT(D22) = "p", "D", "A") -> A | S22: =YEAR(A22) -> 2004 | T22: =VLOOKUP(L22, Metadata!E$3:F$101, 2, FALSE) -> 204-193.6 | U22: =VLOOKUP(T22,Metadata!H:J,2,FALSE) -> #N/A | V22: =VLOOKUP(T22,Metadata!$H:$J,3,FALSE) -> #N/A
A23: 38294 | B23: red | C23: left | D23: anal | E23: 357 | F23: FRO | G23: Abq | H23: CSSA03 | I23: Captive spawn 13 Aug 2003 | J23: 1 | L23: Sandia-float-day | M23: 1 | O23: =CONCATENATE(P23,Q23,R23, " ", YEAR(A23)) -> RLA 2004 | P23: =UPPER(LEFT(B23)) -> R | Q23: =UPPER(LEFT(C23)) -> L | R23: =IF(LEFT(D23) = "p", "D", "A") -> A | S23: =YEAR(A23) -> 2004 | T23: =VLOOKUP(L23, Metadata!E$3:F$101, 2, FALSE) -> 204-193.6 | U23: =VLOOKUP(T23,Metadata!H:J,2,FALSE) -> #N/A | V23: =VLOOKUP(T23,Metadata!$H:$J,3,FALSE) -> #N/A
A24: 38294 | B24: red | C24: left | D24: anal | E24: 2792 | F24: FRO | G24: Abq | H24: ABP04-011,012,WCSA01,WCSA02,CSSA03 (natural), WCSA03 | I24: ABP04-011,012 wild caught as eggs, adults in 2002 | J24: 2 | L24: Sandia-float-day | M24: 1 | O24: =CONCATENATE(P24,Q24,R24, " ", YEAR(A24)) -> RLA 2004 | P24: =UPPER(LEFT(B24)) -> R | Q24: =UPPER(LEFT(C24)) -> L | R24: =IF(LEFT(D24) = "p", "D", "A") -> A | S24: =YEAR(A24) -> 2004 | T24: =VLOOKUP(L24, Metadata!E$3:F$101, 2, FALSE) -> 204-193.6 | U24: =VLOOKUP(T24,Metadata!H:J,2,FALSE) -> #N/A | V24: =VLOOKUP(T24,Metadata!$H:$J,3,FALSE) -> #N/A
A25: 38296 | B25: orange | C25: right | D25: anal | E25: 7845 | F25: FRO | G25: Dexter | K25: 50 | L25: Bernalillo-night | M25: 1 | O25: =CONCATENATE(P25,Q25,R25, " ", YEAR(A25)) -> ORA 2004 | P25: =UPPER(LEFT(B25)) -> O | Q25: =UPPER(LEFT(C25)) -> R | R25: =IF(LEFT(D25) = "p", "D", "A") -> A | S25: =YEAR(A25) -> 2004 | T25: =VLOOKUP(L25, Metadata!E$3:F$101, 2, FALSE) -> 203.2-193.6 | U25: =VLOOKUP(T25,Metadata!H:J,2,FALSE) -> #N/A | V25: =VLOOKUP(T25,Metadata!$H:$J,3,FALSE) -> #N/A
A26: 38296 | B26: green | C26: right | D26: anal | E26: 6956 | F26: FRO | G26: Dexter | K26: 50 | L26: Sandia-float-night | M26: 1 | O26: =CONCATENATE(P26,Q26,R26, " ", YEAR(A26)) -> GRA 2004 | P26: =UPPER(LEFT(B26)) -> G | Q26: =UPPER(LEFT(C26)) -> R | R26: =IF(LEFT(D26) = "p", "D", "A") -> A | S26: =YEAR(A26) -> 2004 | T26: =VLOOKUP(L26, Metadata!E$3:F$101, 2, FALSE) -> 204-193.6 | U26: =VLOOKUP(T26,Metadata!H:J,2,FALSE) -> #N/A | V26: =VLOOKUP(T26,Metadata!$H:$J,3,FALSE) -> #N/A
A27: 38296 | B27: orange | C27: left | D27: anal | E27: 3245 | F27: FRO | G27: Abq | H27: ABP04-007 | I27: Wild caught as eggs in 2003 | J27: 1 | L27: Bernalillo-night | M27: 1 | O27: =CONCATENATE(P27,Q27,R27, " ", YEAR(A27)) -> OLA 2004 | P27: =UPPER(LEFT(B27)) -> O | Q27: =UPPER(LEFT(C27)) -> L | R27: =IF(LEFT(D27) = "p", "D", "A") -> A | S27: =YEAR(A27) -> 2004 | T27: =VLOOKUP(L27, Metadata!E$3:F$101, 2, FALSE) -> 203.2-193.6 | U27: =VLOOKUP(T27,Metadata!H:J,2,FALSE) -> #N/A | V27: =VLOOKUP(T27,Metadata!$H:$J,3,FALSE) -> #N/A
A28: 38296 | B28: orange | C28: left | D28: anal | E28: 834 | F28: FRO | G28: Abq | H28: ABP04-001,002,015 | I28: Wild caught as eggs from Dexter, adults from Dexter, from raceway WCSA01/WCSA02/CSSA03/WCSA03 | L28: Bernalillo-night | M28: 1 | O28: =CONCATENATE(P28,Q28,R28, " ", YEAR(A28)) -> OLA 2004 | P28: =UPPER(LEFT(B28)) -> O | Q28: =UPPER(LEFT(C28)) -> L | R28: =IF(LEFT(D28) = "p", "D", "A") -> A | S28: =YEAR(A28) -> 2004 | T28: =VLOOKUP(L28, Metadata!E$3:F$101, 2, FALSE) -> 203.2-193.6 | U28: =VLOOKUP(T28,Metadata!H:J,2,FALSE) -> #N/A | V28: =VLOOKUP(T28,Metadata!$H:$J,3,FALSE) -> #N/A
A29: 38296 | B29: orange | C29: left | D29: anal | E29: 1986 | F29: FRO | G29: Abq | H29: ABP04-011,012,WCSA01,WCSA02,CSSA03 (natural), WCSA03 | I29: ABP04-011,012 wild caught as eggs, adults in 2002 | J29: 2 | L29: Bernalillo-night | M29: 1 | O29: =CONCATENATE(P29,Q29,R29, " ", YEAR(A29)) -> OLA 2004 | P29: =UPPER(LEFT(B29)) -> O | Q29: =UPPER(LEFT(C29)) -> L | R29: =IF(LEFT(D29) = "p", "D", "A") -> A | S29: =YEAR(A29) -> 2004 | T29: =VLOOKUP(L29, Metadata!E$3:F$101, 2, FALSE) -> 203.2-193.6 | U29: =VLOOKUP(T29,Metadata!H:J,2,FALSE) -> #N/A | V29: =VLOOKUP(T29,Metadata!$H:$J,3,FALSE) -> #N/A
A30: 38296 | B30: green | C30: left | D30: anal | E30: 4777 | F30: FRO | G30: Abq | H30: ABP04-006, 010 | I30: Wild caught as eggs in 2003 or faster growing CSSAO3 from natural spawn | J30: 0 | L30: Sandia-float-night | M30: 1 | N30: =SUM(E16:E30) -> 56651 | O30: =CONCATENATE(P30,Q30,R30, " ", YEAR(A30)) -> GLA 2004 | P30: =UPPER(LEFT(B30)) -> G | Q30: =UPPER(LEFT(C30)) -> L | R30: =IF(LEFT(D30) = "p", "D", "A") -> A | S30: =YEAR(A30) -> 2004 | T30: =VLOOKUP(L30, Metadata!E$3:F$101, 2, FALSE) -> 204-193.6 | U30: =VLOOKUP(T30,Metadata!H:J,2,FALSE) -> #N/A | V30: =VLOOKUP(T30,Metadata!$H:$J,3,FALSE) -> #N/A
A31: 38296 | B31: green | C31: left | D31: anal | E31: 773 | F31: FRO | G31: Abq | H31: CSSA03 | I31: Captive spawn 13 Aug 2003 | J31: 1 | L31: Sandia-float-night | M31: 1 | O31: =CONCATENATE(P31,Q31,R31, " ", YEAR(A31)) -> GLA 2004 | P31: =UPPER(LEFT(B31)) -> G | Q31: =UPPER(LEFT(C31)) -> L | R31: =IF(LEFT(D31) = "p", "D", "A") -> A | S31: =YEAR(A31) -> 2004 | T31: =VLOOKUP(L31, Metadata!E$3:F$101, 2, FALSE) -> 204-193.6 | U31: =VLOOKUP(T31,Metadata!H:J,2,FALSE) -> #N/A | V31: =VLOOKUP(T31,Metadata!$H:$J,3,FALSE) -> #N/A
A32: 38296 | B32: green | C32: left | D32: anal | E32: 297 | F32: FRO | G32: Abq | H32: CSSA03 (hormone free), CSSA03 (cpe),WCSA03 | J32: 1 | L32: Sandia-float-night | M32: 1 | O32: =CONCATENATE(P32,Q32,R32, " ", YEAR(A32)) -> GLA 2004 | P32: =UPPER(LEFT(B32)) -> G | Q32: =UPPER(LEFT(C32)) -> L | R32: =IF(LEFT(D32) = "p", "D", "A") -> A | S32: =YEAR(A32) -> 2004 | T32: =VLOOKUP(L32, Metadata!E$3:F$101, 2, FALSE) -> 204-193.6 | U32: =VLOOKUP(T32,Metadata!H:J,2,FALSE) -> #N/A | V32: =VLOOKUP(T32,Metadata!$H:$J,3,FALSE) -> #N/A
A33: 38296 | B33: green | C33: left | D33: anal | E33: 1032 | F33: FRO | G33: Abq | H33: APB04-011,012,WCSA01,WCSA02,WCSA03,CSSA03(natural) | I33: ABP04-011,012 wild caught as eggs, adults in 2002 | L33: Sandia-float-night | M33: 1 | O33: =CONCATENATE(P33,Q33,R33, " ", YEAR(A33)) -> GLA 2004 | P33: =UPPER(LEFT(B33)) -> G | Q33: =UPPER(LEFT(C33)) -> L | R33: =IF(LEFT(D33) = "p", "D", "A") -> A | S33: =YEAR(A33) -> 2004 | T33: =VLOOKUP(L33, Metadata!E$3:F$101, 2, FALSE) -> 204-193.6 | U33: =VLOOKUP(T33,Metadata!H:J,2,FALSE) -> #N/A | V33: =VLOOKUP(T33,Metadata!$H:$J,3,FALSE) -> #N/A
A34: 38300 | B34: yellow | C34: left | D34: predorsal | E34: 1318 | F34: ABQ | G34: Abq | H34: CSSA03 | I34: Captive spawn 13 Aug 2003 | J34: 1 | L34: Central bridge | M34: 1 | N34: not part of protocol study | O34: =CONCATENATE(P34,Q34,R34, " ", YEAR(A34)) -> YLD 2004 | P34: =UPPER(LEFT(B34)) -> Y | Q34: =UPPER(LEFT(C34)) -> L | R34: =IF(LEFT(D34) = "p", "D", "A") -> D | S34: =YEAR(A34) -> 2004 | T34: =VLOOKUP(L34, Metadata!E$3:F$101, 2, FALSE) -> 182.8 | U34: =VLOOKUP(T34,Metadata!H:J,2,FALSE) -> 35.088992 | V34: =VLOOKUP(T34,Metadata!$H:$J,3,FALSE) -> -106.68041
A35: 38357 | B35: yellow | C35: left | D35: predorsal | E35: 4349 | F35: ABQ | G35: Abq | H35: ABP04-011,012,WCSA01,WCSA02,CSSA03 (natural), WCSA03 | I35: ABP04-011,012 wild caught as eggs, adults in 2002 | J35: 2 | L35: Central bridge | M35: 1 | O35: =CONCATENATE(P35,Q35,R35, " ", YEAR(A35)) -> YLD 2005 | P35: =UPPER(LEFT(B35)) -> Y | Q35: =UPPER(LEFT(C35)) -> L | R35: =IF(LEFT(D35) = "p", "D", "A") -> D | S35: =YEAR(A35) -> 2005 | T35: =VLOOKUP(L35, Metadata!E$3:F$101, 2, FALSE) -> 182.8 | U35: =VLOOKUP(T35,Metadata!H:J,2,FALSE) -> 35.088992 | V35: =VLOOKUP(T35,Metadata!$H:$J,3,FALSE) -> -106.68041
A36: 38357 | B36: yellow | C36: left | D36: predorsal | E36: 475 | F36: FRO | G36: LC | L36: Rio Bravo | M36: 1 | N36: not part of protocol study | O36: =CONCATENATE(P36,Q36,R36, " ", YEAR(A36)) -> YLD 2005 | P36: =UPPER(LEFT(B36)) -> Y | Q36: =UPPER(LEFT(C36)) -> L | R36: =IF(LEFT(D36) = "p", "D", "A") -> D | S36: =YEAR(A36) -> 2005 | T36: =VLOOKUP(L36, Metadata!E$3:F$101, 2, FALSE) -> 177.9 | U36: =VLOOKUP(T36,Metadata!H:J,2,FALSE) -> 35.02636 | V36: =VLOOKUP(T36,Metadata!$H:$J,3,FALSE) -> -106.67297
A37: 38357 | B37: orange | C37: right | D37: predorsal | E37: 1540 | F37: FRO | G37: FRO | L37: Rio Bravo | M37: 1 | N37: not part of protocol study | O37: =CONCATENATE(P37,Q37,R37, " ", YEAR(A37)) -> ORD 2005 | P37: =UPPER(LEFT(B37)) -> O | Q37: =UPPER(LEFT(C37)) -> R | R37: =IF(LEFT(D37) = "p", "D", "A") -> D | S37: =YEAR(A37) -> 2005 | T37: =VLOOKUP(L37, Metadata!E$3:F$101, 2, FALSE) -> 177.9 | U37: =VLOOKUP(T37,Metadata!H:J,2,FALSE) -> 35.02636 | V37: =VLOOKUP(T37,Metadata!$H:$J,3,FALSE) -> -106.67297
A38: 38454 | B38: white | C38: right | D38: anal | E38: 802 | F38: FRO | G38: Abq | H38: ABP04-004, ABP04-008 | I38: Captive spawn of adults that were wild caught as eggs in 2002 in SA reach | J38: 1 | L38: Sandia-float-day | M38: 1 | O38: =CONCATENATE(P38,Q38,R38, " ", YEAR(A38)) -> WRA 2005 | P38: =UPPER(LEFT(B38)) -> W | Q38: =UPPER(LEFT(C38)) -> R | R38: =IF(LEFT(D38) = "p", "D", "A") -> A | S38: =YEAR(A38) -> 2005 | T38: =VLOOKUP(L38, Metadata!E$3:F$101, 2, FALSE) -> 204-193.6 | U38: =VLOOKUP(T38,Metadata!H:J,2,FALSE) -> #N/A | V38: =VLOOKUP(T38,Metadata!$H:$J,3,FALSE) -> #N/A
A39: 38454 | B39: white | C39: right | D39: anal | E39: 3858 | F39: FRO | G39: Abq | H39: ABP04-006, 010, 016, 022 | I39: Miscellaneous adults from Dexter, B13, WCSA03, CSSA03 (hormone free), wild caught of eggs in 2003, or faster growing CSSAO3 from natural spawn | J39: 2 | L39: Sandia-float-day | M39: 1 | O39: =CONCATENATE(P39,Q39,R39, " ", YEAR(A39)) -> WRA 2005 | P39: =UPPER(LEFT(B39)) -> W | Q39: =UPPER(LEFT(C39)) -> R | R39: =IF(LEFT(D39) = "p", "D", "A") -> A | S39: =YEAR(A39) -> 2005 | T39: =VLOOKUP(L39, Metadata!E$3:F$101, 2, FALSE) -> 204-193.6 | U39: =VLOOKUP(T39,Metadata!H:J,2,FALSE) -> #N/A | V39: =VLOOKUP(T39,Metadata!$H:$J,3,FALSE) -> #N/A
A40: 38454 | B40: white | C40: right | D40: anal | E40: 143 | F40: FRO | G40: Abq | H40: ABP04-013,020 | I40: Wild caught as eggs in 2002- ABP04-020 reared at Dexter | J40: 3 | L40: Sandia-float-day | M40: 1 | O40: =CONCATENATE(P40,Q40,R40, " ", YEAR(A40)) -> WRA 2005 | P40: =UPPER(LEFT(B40)) -> W | Q40: =UPPER(LEFT(C40)) -> R | R40: =IF(LEFT(D40) = "p", "D", "A") -> A | S40: =YEAR(A40) -> 2005 | T40: =VLOOKUP(L40, Metadata!E$3:F$101, 2, FALSE) -> 204-193.6 | U40: =VLOOKUP(T40,Metadata!H:J,2,FALSE) -> #N/A | V40: =VLOOKUP(T40,Metadata!$H:$J,3,FALSE) -> #N/A
A41: 38454 | B41: white | C41: right | D41: anal | E41: 197 | F41: FRO | G41: Abq | H41: APB04-003 | I41: Wild caught as eggs in 2002 some were CSSA03 naturally spawned in raceway | J41: 3 | L41: Sandia-float-day | M41: 1 | O41: =CONCATENATE(P41,Q41,R41, " ", YEAR(A41)) -> WRA 2005 | P41: =UPPER(LEFT(B41)) -> W | Q41: =UPPER(LEFT(C41)) -> R | R41: =IF(LEFT(D41) = "p", "D", "A") -> A | S41: =YEAR(A41) -> 2005 | T41: =VLOOKUP(L41, Metadata!E$3:F$101, 2, FALSE) -> 204-193.6 | U41: =VLOOKUP(T41,Metadata!H:J,2,FALSE) -> #N/A | V41: =VLOOKUP(T41,Metadata!$H:$J,3,FALSE) -> #N/A
A42: 38454 | B42: purple | C42: right | D42: anal | E42: 4258 | F42: FRO | G42: Abq | H42: APB04-006,010,016,022 | I42: Miscellaneous adults from Dexter, B13, WCSA03, CSSA03 (hormone free), wild caught of eggs in 2003, or faster growing CSSAO3 from natural spawn | J42: 2 | L42: Bernalillo-day | M42: 1 | O42: =CONCATENATE(P42,Q42,R42, " ", YEAR(A42)) -> PRA 2005 | P42: =UPPER(LEFT(B42)) -> P | Q42: =UPPER(LEFT(C42)) -> R | R42: =IF(LEFT(D42) = "p", "D", "A") -> A | S42: =YEAR(A42) -> 2005 | T42: =VLOOKUP(L42, Metadata!E$3:F$101, 2, FALSE) -> 203.2-193.6 | U42: =VLOOKUP(T42,Metadata!H:J,2,FALSE) -> #N/A | V42: =VLOOKUP(T42,Metadata!$H:$J,3,FALSE) -> #N/A
A43: 38454 | B43: purple | C43: right | D43: anal | E43: 742 | F43: FRO | G43: Abq | H43: APB04-013,020 | I43: Wild caught as eggs in 2002- ABP04-020 reared at Dexter | J43: 1-3 | L43: Bernalillo-day | M43: 1 | O43: =CONCATENATE(P43,Q43,R43, " ", YEAR(A43)) -> PRA 2005 | P43: =UPPER(LEFT(B43)) -> P | Q43: =UPPER(LEFT(C43)) -> R | R43: =IF(LEFT(D43) = "p", "D", "A") -> A | S43: =YEAR(A43) -> 2005 | T43: =VLOOKUP(L43, Metadata!E$3:F$101, 2, FALSE) -> 203.2-193.6 | U43: =VLOOKUP(T43,Metadata!H:J,2,FALSE) -> #N/A | V43: =VLOOKUP(T43,Metadata!$H:$J,3,FALSE) -> #N/A
A44: 38454 | B44: white | C44: left | D44: anal | E44: 11080 | F44: FRO | G44: Dexter | L44: Sandia-float-day | M44: 1 | O44: =CONCATENATE(P44,Q44,R44, " ", YEAR(A44)) -> WLA 2005 | P44: =UPPER(LEFT(B44)) -> W | Q44: =UPPER(LEFT(C44)) -> L | R44: =IF(LEFT(D44) = "p", "D", "A") -> A | S44: =YEAR(A44) -> 2005 | T44: =VLOOKUP(L44, Metadata!E$3:F$101, 2, FALSE) -> 204-193.6 | U44: =VLOOKUP(T44,Metadata!H:J,2,FALSE) -> #N/A | V44: =VLOOKUP(T44,Metadata!$H:$J,3,FALSE) -> #N/A
A45: 38454 | B45: purple | C45: left | D45: anal | E45: 8800 | F45: FRO | G45: Dexter | L45: Bernalillo-day | M45: 1 | O45: =CONCATENATE(P45,Q45,R45, " ", YEAR(A45)) -> PLA 2005 | P45: =UPPER(LEFT(B45)) -> P | Q45: =UPPER(LEFT(C45)) -> L | R45: =IF(LEFT(D45) = "p", "D", "A") -> A | S45: =YEAR(A45) -> 2005 | T45: =VLOOKUP(L45, Metadata!E$3:F$101, 2, FALSE) -> 203.2-193.6 | U45: =VLOOKUP(T45,Metadata!H:J,2,FALSE) -> #N/A | V45: =VLOOKUP(T45,Metadata!$H:$J,3,FALSE) -> #N/A
A46: 38455 | B46: pink | C46: right | D46: anal | E46: 500 | F46: FRO | G46: Abq | H46: APB04-003 | I46: Wild caught as eggs in 2002 some were CSSA03 naturally spawned in raceway | J46: 3 | L46: Sandia-truck-night | M46: 1 | O46: =CONCATENATE(P46,Q46,R46, " ", YEAR(A46)) -> PRA 2005 | P46: =UPPER(LEFT(B46)) -> P | Q46: =UPPER(LEFT(C46)) -> R | R46: =IF(LEFT(D46) = "p", "D", "A") -> A | S46: =YEAR(A46) -> 2005 | T46: =VLOOKUP(L46, Metadata!E$3:F$101, 2, FALSE) -> 193.6 | U46: =VLOOKUP(T46,Metadata!H:J,2,FALSE) -> 35.211824 | V46: =VLOOKUP(T46,Metadata!$H:$J,3,FALSE) -> -106.61291
A47: 38455 | B47: pink | C47: right | D47: anal | E47: 1940 | F47: FRO | G47: Abq | H47: APB04-004,008 | I47: Captive spawn of adults that were wild caught as eggs in 2002 in SA reach | J47: 3 | L47: Sandia-truck-night | M47: 1 | O47: =CONCATENATE(P47,Q47,R47, " ", YEAR(A47)) -> PRA 2005 | P47: =UPPER(LEFT(B47)) -> P | Q47: =UPPER(LEFT(C47)) -> R | R47: =IF(LEFT(D47) = "p", "D", "A") -> A | S47: =YEAR(A47) -> 2005 | T47: =VLOOKUP(L47, Metadata!E$3:F$101, 2, FALSE) -> 193.6 | U47: =VLOOKUP(T47,Metadata!H:J,2,FALSE) -> 35.211824 | V47: =VLOOKUP(T47,Metadata!$H:$J,3,FALSE) -> -106.61291
A48: 38455 | B48: pink | C48: right | D48: anal | E48: 1088 | F48: FRO | G48: Abq | H48: APB04-006,010,016,022 | I48: Miscellaneous adults from Dexter, B13, WCSA03, CSSA03 (hormone free), wild caught of eggs in 2003, or faster growing CSSAO3 from natural spawn | J48: 2 | L48: Sandia-truck-night | M48: 1 | O48: =CONCATENATE(P48,Q48,R48, " ", YEAR(A48)) -> PRA 2005 | P48: =UPPER(LEFT(B48)) -> P | Q48: =UPPER(LEFT(C48)) -> R | R48: =IF(LEFT(D48) = "p", "D", "A") -> A | S48: =YEAR(A48) -> 2005 | T48: =VLOOKUP(L48, Metadata!E$3:F$101, 2, FALSE) -> 193.6 | U48: =VLOOKUP(T48,Metadata!H:J,2,FALSE) -> 35.211824 | V48: =VLOOKUP(T48,Metadata!$H:$J,3,FALSE) -> -106.61291
A49: 38455 | B49: pink | C49: right | D49: anal | E49: 672 | F49: FRO | G49: Abq | H49: APB04-013,020 | I49: Wild caught as eggs in 2002- ABP04-020 reared at Dexter | J49: 3 | L49: Sandia-truck-night | M49: 1 | O49: =CONCATENATE(P49,Q49,R49, " ", YEAR(A49)) -> PRA 2005 | P49: =UPPER(LEFT(B49)) -> P | Q49: =UPPER(LEFT(C49)) -> R | R49: =IF(LEFT(D49) = "p", "D", "A") -> A | S49: =YEAR(A49) -> 2005 | T49: =VLOOKUP(L49, Metadata!E$3:F$101, 2, FALSE) -> 193.6 | U49: =VLOOKUP(T49,Metadata!H:J,2,FALSE) -> 35.211824 | V49: =VLOOKUP(T49,Metadata!$H:$J,3,FALSE) -> -106.61291
A50: 38455 | B50: pink | C50: right | D50: anal | E50: 1454 | F50: FRO | G50: Abq | H50: CSSA03,CSSA04? | L50: Sandia-truck-night | M50: 1 | O50: =CONCATENATE(P50,Q50,R50, " ", YEAR(A50)) -> PRA 2005 | P50: =UPPER(LEFT(B50)) -> P | Q50: =UPPER(LEFT(C50)) -> R | R50: =IF(LEFT(D50) = "p", "D", "A") -> A | S50: =YEAR(A50) -> 2005 | T50: =VLOOKUP(L50, Metadata!E$3:F$101, 2, FALSE) -> 193.6 | U50: =VLOOKUP(T50,Metadata!H:J,2,FALSE) -> 35.211824 | V50: =VLOOKUP(T50,Metadata!$H:$J,3,FALSE) -> -106.61291
A51: 38455 | B51: blue | C51: right | D51: anal | E51: 4549 | F51: FRO | G51: Abq | H51: ABP04-004,008 | I51: Captive spawn of adults that were wild caught as eggs in 2002 in SA reach | J51: 1 | L51: Bernalillo-night | M51: 1 | O51: =CONCATENATE(P51,Q51,R51, " ", YEAR(A51)) -> BRA 2005 | P51: =UPPER(LEFT(B51)) -> B | Q51: =UPPER(LEFT(C51)) -> R | R51: =IF(LEFT(D51) = "p", "D", "A") -> A | S51: =YEAR(A51) -> 2005 | T51: =VLOOKUP(L51, Metadata!E$3:F$101, 2, FALSE) -> 203.2-193.6 | U51: =VLOOKUP(T51,Metadata!H:J,2,FALSE) -> #N/A | V51: =VLOOKUP(T51,Metadata!$H:$J,3,FALSE) -> #N/A
A52: 38455 | B52: blue | C52: right | D52: anal | E52: 462 | F52: FRO | G52: Abq | H52: ABP04-013,020 | I52: Wild caught as eggs in 2002- ABP04-020 reared at Dexter | J52: 3 | L52: Bernalillo-night | M52: 1 | O52: =CONCATENATE(P52,Q52,R52, " ", YEAR(A52)) -> BRA 2005 | P52: =UPPER(LEFT(B52)) -> B | Q52: =UPPER(LEFT(C52)) -> R | R52: =IF(LEFT(D52) = "p", "D", "A") -> A | S52: =YEAR(A52) -> 2005 | T52: =VLOOKUP(L52, Metadata!E$3:F$101, 2, FALSE) -> 203.2-193.6 | U52: =VLOOKUP(T52,Metadata!H:J,2,FALSE) -> #N/A | V52: =VLOOKUP(T52,Metadata!$H:$J,3,FALSE) -> #N/A
A53: 38455 | B53: pink | C53: left | D53: anal | E53: 10026 | F53: FRO | G53: Dexter | L53: Sandia-truck-night | M53: 1 | O53: =CONCATENATE(P53,Q53,R53, " ", YEAR(A53)) -> PLA 2005 | P53: =UPPER(LEFT(B53)) -> P | Q53: =UPPER(LEFT(C53)) -> L | R53: =IF(LEFT(D53) = "p", "D", "A") -> A | S53: =YEAR(A53) -> 2005 | T53: =VLOOKUP(L53, Metadata!E$3:F$101, 2, FALSE) -> 193.6 | U53: =VLOOKUP(T53,Metadata!H:J,2,FALSE) -> 35.211824 | V53: =VLOOKUP(T53,Metadata!$H:$J,3,FALSE) -> -106.61291
A54: 38455 | B54: blue | C54: left | D54: anal | E54: 10242 | F54: FRO | G54: Dexter | L54: Bernalillo-night | M54: 1 | N54: =SUM(E38:E54) -> 60813 | O54: =CONCATENATE(P54,Q54,R54, " ", YEAR(A54)) -> BLA 2005 | P54: =UPPER(LEFT(B54)) -> B | Q54: =UPPER(LEFT(C54)) -> L | R54: =IF(LEFT(D54) = "p", "D", "A") -> A | S54: =YEAR(A54) -> 2005 | T54: =VLOOKUP(L54, Metadata!E$3:F$101, 2, FALSE) -> 203.2-193.6 | U54: =VLOOKUP(T54,Metadata!H:J,2,FALSE) -> #N/A | V54: =VLOOKUP(T54,Metadata!$H:$J,3,FALSE) -> #N/A
A55: 38498 | B55: green | C55: left | D55: dorsal | E55: 6638 | F55: FRO | G55: Abq | H55: APB04-001,002,005,007,009,014,015,018,021 | I55: Wild caught as eggs in 2002 from San Acacia or Dexter. Some adults wild caught from Dexter. ABP04-015 all fish from raceway, WCSA01/WCSA02/CSSA03/WCSA03 | J55: 2 | L55: Rio Bravo | M55: 1 | N55: not part of protocol study | O55: =CONCATENATE(P55,Q55,R55, " ", YEAR(A55)) -> GLD 2005 | P55: =UPPER(LEFT(B55)) -> G | Q55: =UPPER(LEFT(C55)) -> L | R55: D | S55: =YEAR(A55) -> 2005 | T55: =VLOOKUP(L55, Metadata!E$3:F$101, 2, FALSE) -> 177.9 | U55: =VLOOKUP(T55,Metadata!H:J,2,FALSE) -> 35.02636 | V55: =VLOOKUP(T55,Metadata!$H:$J,3,FALSE) -> -106.67297
A56: 38498 | B56: green | C56: left | D56: dorsal | E56: 3719 | F56: FRO | G56: Abq | H56: APB04-006,010,016,022 | I56: Miscellaneous adults from Dexter, B13, WCSA03, CSSA03 (hormone free), wild caught of eggs in 2003, or faster growing CSSAO3 from natural spawn | J56: 2 | L56: Rio Bravo | M56: 1 | O56: =CONCATENATE(P56,Q56,R56, " ", YEAR(A56)) -> GLD 2005 | P56: =UPPER(LEFT(B56)) -> G | Q56: =UPPER(LEFT(C56)) -> L | R56: D | S56: =YEAR(A56) -> 2005 | T56: =VLOOKUP(L56, Metadata!E$3:F$101, 2, FALSE) -> 177.9 | U56: =VLOOKUP(T56,Metadata!H:J,2,FALSE) -> 35.02636 | V56: =VLOOKUP(T56,Metadata!$H:$J,3,FALSE) -> -106.67297
A57: 38538 | B57: orange | C57: right | D57: predorsal | E57: 227 | F57: ABQ | G57: Abq | H57: DXWC02? | I57: Wild caught as eggs in 2002, received from Dexter on 31 March 2005 | J57: 3 | L57: Bridge street | M57: 1 | N57: P. Domenici | O57: =CONCATENATE(P57,Q57,R57, " ", YEAR(A57)) -> ORD 2005 | P57: =UPPER(LEFT(B57)) -> O | Q57: =UPPER(LEFT(C57)) -> R | R57: =IF(LEFT(D57) = "p", "D", "A") -> D | S57: =YEAR(A57) -> 2005 | T57: =VLOOKUP(L57, Metadata!E$3:F$101, 2, FALSE) -> 181 | U57: =VLOOKUP(T57,Metadata!H:J,2,FALSE) -> 35.069992 | V57: =VLOOKUP(T57,Metadata!$H:$J,3,FALSE) -> -106.66038
A58: 38538 | B58: orange | C58: left | D58: predorsal | E58: 21 | F58: ABQ | G58: Abq | H58: CSSA03,WCSA03 | L58: Bridge street | M58: 1 | N58: P. Domenici | O58: =CONCATENATE(P58,Q58,R58, " ", YEAR(A58)) -> OLD 2005 | P58: =UPPER(LEFT(B58)) -> O | Q58: =UPPER(LEFT(C58)) -> L | R58: =IF(LEFT(D58) = "p", "D", "A") -> D | S58: =YEAR(A58) -> 2005 | T58: =VLOOKUP(L58, Metadata!E$3:F$101, 2, FALSE) -> 181 | U58: =VLOOKUP(T58,Metadata!H:J,2,FALSE) -> 35.069992 | V58: =VLOOKUP(T58,Metadata!$H:$J,3,FALSE) -> -106.66038
A59: 38607 | B59: orange | C59: right | D59: predorsal | E59: 20000 | F59: FRO | G59: Dexter | J59: 1-1.5 | K59: 50 | L59: Bernalillo | M59: 1 | N59: not part of protocol study | O59: =CONCATENATE(P59,Q59,R59, " ", YEAR(A59)) -> ORD 2005 | P59: =UPPER(LEFT(B59)) -> O | Q59: =UPPER(LEFT(C59)) -> R | R59: =IF(LEFT(D59) = "p", "D", "A") -> D | S59: =YEAR(A59) -> 2005 | T59: =VLOOKUP(L59, Metadata!E$3:F$101, 2, FALSE) -> 203.2 | U59: =VLOOKUP(T59,Metadata!H:J,2,FALSE) -> 35.322184 | V59: =VLOOKUP(T59,Metadata!$H:$J,3,FALSE) -> -106.55748
A60: 38663 | B60: white | C60: left | D60: predorsal | E60: 21000 | F60: FRO | G60: Dexter | K60: 50 | L60: Lemitar-Socorro | M60: 3 | O60: =CONCATENATE(P60,Q60,R60, " ", YEAR(A60)) -> WLD 2005 | P60: =UPPER(LEFT(B60)) -> W | Q60: =UPPER(LEFT(C60)) -> L | R60: =IF(LEFT(D60) = "p", "D", "A") -> D | S60: =YEAR(A60) -> 2005 | T60: =VLOOKUP(L60, Metadata!E$3:F$101, 2, FALSE) -> 107.7-100.3 | U60: =VLOOKUP(T60,Metadata!H:J,2,FALSE) -> #N/A | V60: =VLOOKUP(T60,Metadata!$H:$J,3,FALSE) -> #N/A
A61: 38663 | B61: purple | C61: left | D61: predorsal | E61: 28986 | F61: FRO | G61: Dexter | K61: 50 | L61: Bernardo | M61: 2 | O61: =CONCATENATE(P61,Q61,R61, " ", YEAR(A61)) -> PLD 2005 | P61: =UPPER(LEFT(B61)) -> P | Q61: =UPPER(LEFT(C61)) -> L | R61: =IF(LEFT(D61) = "p", "D", "A") -> D | S61: =YEAR(A61) -> 2005 | T61: =VLOOKUP(L61, Metadata!E$3:F$101, 2, FALSE) -> 131.1 | U61: =VLOOKUP(T61,Metadata!H:J,2,FALSE) -> 34.413847 | V61: =VLOOKUP(T61,Metadata!$H:$J,3,FALSE) -> -106.80102
A62: 38663 | B62: pink | C62: left | D62: predorsal | E62: 25642 | F62: FRO | G62: Dexter | K62: 50 | L62: Socorro | M62: 3 | O62: =CONCATENATE(P62,Q62,R62, " ", YEAR(A62)) -> PLD 2005 | P62: =UPPER(LEFT(B62)) -> P | Q62: =UPPER(LEFT(C62)) -> L | R62: =IF(LEFT(D62) = "p", "D", "A") -> D | S62: =YEAR(A62) -> 2005 | T62: =VLOOKUP(L62, Metadata!E$3:F$101, 2, FALSE) -> 101.6 | U62: =VLOOKUP(T62,Metadata!H:J,2,FALSE) -> 34.079163 | V62: =VLOOKUP(T62,Metadata!$H:$J,3,FALSE) -> -106.86713
A63: 38663 | B63: blue | C63: left | D63: predorsal | E63: 25436 | F63: FRO | G63: Dexter | I63: Wild caught as eggs in 2002 from Dexter | J63: 3 | K63: 50 | L63: Bernardo - Rio Puerco | M63: 2 | N63: =E47:E63 -> 25436 | O63: =CONCATENATE(P63,Q63,R63, " ", YEAR(A63)) -> BLD 2005 | P63: =UPPER(LEFT(B63)) -> B | Q63: =UPPER(LEFT(C63)) -> L | R63: =IF(LEFT(D63) = "p", "D", "A") -> D | S63: =YEAR(A63) -> 2005 | T63: =VLOOKUP(L63, Metadata!E$3:F$101, 2, FALSE) -> 131.4-127.9 | U63: =VLOOKUP(T63,Metadata!H:J,2,FALSE) -> #N/A | V63: =VLOOKUP(T63,Metadata!$H:$J,3,FALSE) -> #N/A
A64: 38664 | B64: white | C64: right | D64: predorsal | E64: 5812 | F64: FRO | G64: Abq | H64: LC05-003,ABP04-004,008,013,020 | I64: ABP04-004,008,013, 020 wild caught from 2002 at San Acacia and Dexter | J64: 3 | L64: Bernalillo-Montano | M64: 1 | O64: =CONCATENATE(P64,Q64,R64, " ", YEAR(A64)) -> WRD 2005 | P64: =UPPER(LEFT(B64)) -> W | Q64: =UPPER(LEFT(C64)) -> R | R64: =IF(LEFT(D64) = "p", "D", "A") -> D | S64: =YEAR(A64) -> 2005 | T64: =VLOOKUP(L64, Metadata!E$3:F$101, 2, FALSE) -> 203-187.2 | U64: =VLOOKUP(T64,Metadata!H:J,2,FALSE) -> #N/A | V64: =VLOOKUP(T64,Metadata!$H:$J,3,FALSE) -> #N/A
A65: 38664 | B65: white | C65: right | D65: predorsal | E65: 6968 | F65: FRO | G65: Abq | H65: ABP05-002,003,004 | I65: Wild caught as eggs in 2002 from Dexter | J65: 3 | L65: Bernalillo-Montano | M65: 1 | O65: =CONCATENATE(P65,Q65,R65, " ", YEAR(A65)) -> WRD 2005 | P65: =UPPER(LEFT(B65)) -> W | Q65: =UPPER(LEFT(C65)) -> R | R65: =IF(LEFT(D65) = "p", "D", "A") -> D | S65: =YEAR(A65) -> 2005 | T65: =VLOOKUP(L65, Metadata!E$3:F$101, 2, FALSE) -> 203-187.2 | U65: =VLOOKUP(T65,Metadata!H:J,2,FALSE) -> #N/A | V65: =VLOOKUP(T65,Metadata!$H:$J,3,FALSE) -> #N/A
A66: 38664 | B66: white | C66: right | D66: predorsal | E66: 2073 | F66: FRO | G66: Abq | H66: ABP05-007,008,009,010 | I66: From WCSA03/CSSA03 | L66: Bernalillo-Montano | M66: 1 | O66: =CONCATENATE(P66,Q66,R66, " ", YEAR(A66)) -> WRD 2005 | P66: =UPPER(LEFT(B66)) -> W | Q66: =UPPER(LEFT(C66)) -> R | R66: =IF(LEFT(D66) = "p", "D", "A") -> D | S66: =YEAR(A66) -> 2005 | T66: =VLOOKUP(L66, Metadata!E$3:F$101, 2, FALSE) -> 203-187.2 | U66: =VLOOKUP(T66,Metadata!H:J,2,FALSE) -> #N/A | V66: =VLOOKUP(T66,Metadata!$H:$J,3,FALSE) -> #N/A
A67: 38664 | B67: purple | C67: right | D67: predorsal | E67: 7693 | F67: FRO | G67: Abq | H67: LC05-004 | L67: Bridge street | M67: 1 | O67: =CONCATENATE(P67,Q67,R67, " ", YEAR(A67)) -> PRD 2005 | P67: =UPPER(LEFT(B67)) -> P | Q67: =UPPER(LEFT(C67)) -> R | R67: =IF(LEFT(D67) = "p", "D", "A") -> D | S67: =YEAR(A67) -> 2005 | T67: =VLOOKUP(L67, Metadata!E$3:F$101, 2, FALSE) -> 181 | U67: =VLOOKUP(T67,Metadata!H:J,2,FALSE) -> 35.069992 | V67: =VLOOKUP(T67,Metadata!$H:$J,3,FALSE) -> -106.66038
A68: 38664 | B68: purple | C68: right | D68: predorsal | E68: 6228 | F68: FRO | G68: Abq | H68: LC05-003,ABP04-004,008,013,020 | I68: ABP04-004,008,013, 020 wild caught in 2002 at San Acacia and Dexter | J68: 3 | L68: Bridge street | M68: 1 | O68: =CONCATENATE(P68,Q68,R68, " ", YEAR(A68)) -> PRD 2005 | P68: =UPPER(LEFT(B68)) -> P | Q68: =UPPER(LEFT(C68)) -> R | R68: =IF(LEFT(D68) = "p", "D", "A") -> D | S68: =YEAR(A68) -> 2005 | T68: =VLOOKUP(L68, Metadata!E$3:F$101, 2, FALSE) -> 181 | U68: =VLOOKUP(T68,Metadata!H:J,2,FALSE) -> 35.069992 | V68: =VLOOKUP(T68,Metadata!$H:$J,3,FALSE) -> -106.66038
A69: 38664 | B69: pink | C69: right | D69: predorsal | E69: 3765 | F69: FRO | G69: Abq | H69: LC05-003 | L69: Bernalillo | M69: 1 | O69: =CONCATENATE(P69,Q69,R69, " ", YEAR(A69)) -> PRD 2005 | P69: =UPPER(LEFT(B69)) -> P | Q69: =UPPER(LEFT(C69)) -> R | R69: =IF(LEFT(D69) = "p", "D", "A") -> D | S69: =YEAR(A69) -> 2005 | T69: =VLOOKUP(L69, Metadata!E$3:F$101, 2, FALSE) -> 203.2 | U69: =VLOOKUP(T69,Metadata!H:J,2,FALSE) -> 35.322184 | V69: =VLOOKUP(T69,Metadata!$H:$J,3,FALSE) -> -106.55748
A70: 38664 | B70: pink | C70: right | D70: predorsal | E70: 5677 | F70: FRO | G70: Abq | H70: LC04-004 | L70: Bernalillo | M70: 1 | O70: =CONCATENATE(P70,Q70,R70, " ", YEAR(A70)) -> PRD 2005 | P70: =UPPER(LEFT(B70)) -> P | Q70: =UPPER(LEFT(C70)) -> R | R70: =IF(LEFT(D70) = "p", "D", "A") -> D | S70: =YEAR(A70) -> 2005 | T70: =VLOOKUP(L70, Metadata!E$3:F$101, 2, FALSE) -> 203.2 | U70: =VLOOKUP(T70,Metadata!H:J,2,FALSE) -> 35.322184 | V70: =VLOOKUP(T70,Metadata!$H:$J,3,FALSE) -> -106.55748
A71: 38664 | B71: pink | C71: right | D71: predorsal | E71: 5733 | F71: FRO | G71: Abq | H71: LC05-003,ABP04-004,008,013,020 | I71: ABP04-004,008,013, 020 wild caught in 2002 at San Acacia and Dexter | J71: 3 | L71: Bernalillo | M71: 1 | O71: =CONCATENATE(P71,Q71,R71, " ", YEAR(A71)) -> PRD 2005 | P71: =UPPER(LEFT(B71)) -> P | Q71: =UPPER(LEFT(C71)) -> R | R71: =IF(LEFT(D71) = "p", "D", "A") -> D | S71: =YEAR(A71) -> 2005 | T71: =VLOOKUP(L71, Metadata!E$3:F$101, 2, FALSE) -> 203.2 | U71: =VLOOKUP(T71,Metadata!H:J,2,FALSE) -> 35.322184 | V71: =VLOOKUP(T71,Metadata!$H:$J,3,FALSE) -> -106.55748
A72: 38664 | B72: blue | C72: right | D72: predorsal | E72: 8741 | F72: FRO | G72: Abq | H72: LC05-004 | L72: Bridge - Los Padillas | M72: 1 | O72: =CONCATENATE(P72,Q72,R72, " ", YEAR(A72)) -> BRD 2005 | P72: =UPPER(LEFT(B72)) -> B | Q72: =UPPER(LEFT(C72)) -> R | R72: =IF(LEFT(D72) = "p", "D", "A") -> D | S72: =YEAR(A72) -> 2005 | T72: =VLOOKUP(L72, Metadata!E$3:F$101, 2, FALSE) -> 181-173.7 | U72: =VLOOKUP(T72,Metadata!H:J,2,FALSE) -> #N/A | V72: =VLOOKUP(T72,Metadata!$H:$J,3,FALSE) -> #N/A
A73: 38664 | B73: blue | C73: right | D73: predorsal | E73: 1037 | F73: FRO | G73: Abq | H73: LC05-003 | L73: Bridge - Los Padillas | M73: 1 | O73: =CONCATENATE(P73,Q73,R73, " ", YEAR(A73)) -> BRD 2005 | P73: =UPPER(LEFT(B73)) -> B | Q73: =UPPER(LEFT(C73)) -> R | R73: =IF(LEFT(D73) = "p", "D", "A") -> D | S73: =YEAR(A73) -> 2005 | T73: =VLOOKUP(L73, Metadata!E$3:F$101, 2, FALSE) -> 181-173.7 | U73: =VLOOKUP(T73,Metadata!H:J,2,FALSE) -> #N/A | V73: =VLOOKUP(T73,Metadata!$H:$J,3,FALSE) -> #N/A
A74: 38664 | B74: blue | C74: right | D74: predorsal | E74: 2739 | F74: FRO | G74: Abq | H74: LC05-003,ABP04-004,008,013,020 | I74: ABP04-004,008,013, 020 wild caught in 2002 at San Acacia and Dexter | J74: 3 | L74: Bridge - Los Padillas | M74: 1 | O74: =CONCATENATE(P74,Q74,R74, " ", YEAR(A74)) -> BRD 2005 | P74: =UPPER(LEFT(B74)) -> B | Q74: =UPPER(LEFT(C74)) -> R | R74: =IF(LEFT(D74) = "p", "D", "A") -> D | S74: =YEAR(A74) -> 2005 | T74: =VLOOKUP(L74, Metadata!E$3:F$101, 2, FALSE) -> 181-173.7 | U74: =VLOOKUP(T74,Metadata!H:J,2,FALSE) -> #N/A | V74: =VLOOKUP(T74,Metadata!$H:$J,3,FALSE) -> #N/A
A75: 38664 | B75: blue | C75: right | D75: predorsal | E75: 1568 | F75: FRO | G75: Abq | H75: WCSA03,CSSA03 | L75: Bridge - Los Padillas | M75: 1 | O75: =CONCATENATE(P75,Q75,R75, " ", YEAR(A75)) -> BRD 2005 | P75: =UPPER(LEFT(B75)) -> B | Q75: =UPPER(LEFT(C75)) -> R | R75: =IF(LEFT(D75) = "p", "D", "A") -> D | S75: =YEAR(A75) -> 2005 | T75: =VLOOKUP(L75, Metadata!E$3:F$101, 2, FALSE) -> 181-173.7 | U75: =VLOOKUP(T75,Metadata!H:J,2,FALSE) -> #N/A | V75: =VLOOKUP(T75,Metadata!$H:$J,3,FALSE) -> #N/A
A76: 38664 | B76: blue | C76: right | D76: predorsal | E76: 2197 | F76: FRO | G76: Abq | H76: ABP05-007,008,009,010 | I76: From WCSA03/CSSA03 | L76: Bridge - Los Padillas | M76: 1 | O76: =CONCATENATE(P76,Q76,R76, " ", YEAR(A76)) -> BRD 2005 | P76: =UPPER(LEFT(B76)) -> B | Q76: =UPPER(LEFT(C76)) -> R | R76: =IF(LEFT(D76) = "p", "D", "A") -> D | S76: =YEAR(A76) -> 2005 | T76: =VLOOKUP(L76, Metadata!E$3:F$101, 2, FALSE) -> 181-173.7 | U76: =VLOOKUP(T76,Metadata!H:J,2,FALSE) -> #N/A | V76: =VLOOKUP(T76,Metadata!$H:$J,3,FALSE) -> #N/A
A77: 38825 | B77: red | C77: right | D77: predorsal | E77: 10209 | F77: FRO | G77: Abq | H77: ABP05-001,005 | I77: ABP05-001 Wild caught as eggs in 2002; ABP05-005 Wild caught in 2002 Dexter. | J77: 4 | L77: Bridge street | M77: 1 | O77: =CONCATENATE(P77,Q77,R77, " ", YEAR(A77)) -> RRD 2006 | P77: =UPPER(LEFT(B77)) -> R | Q77: =UPPER(LEFT(C77)) -> R | R77: =IF(LEFT(D77) = "p", "D", "A") -> D | S77: =YEAR(A77) -> 2006 | T77: =VLOOKUP(L77, Metadata!E$3:F$101, 2, FALSE) -> 181 | U77: =VLOOKUP(T77,Metadata!H:J,2,FALSE) -> 35.069992 | V77: =VLOOKUP(T77,Metadata!$H:$J,3,FALSE) -> -106.66038
A78: 38825 | B78: red | C78: right | D78: predorsal | E78: 9534 | F78: FRO | G78: Abq | H78: ABP05-007,008,009,010 | I78: From WCSA03/CSSA03 | L78: Bridge street | M78: 1 | O78: =CONCATENATE(P78,Q78,R78, " ", YEAR(A78)) -> RRD 2006 | P78: =UPPER(LEFT(B78)) -> R | Q78: =UPPER(LEFT(C78)) -> R | R78: =IF(LEFT(D78) = "p", "D", "A") -> D | S78: =YEAR(A78) -> 2006 | T78: =VLOOKUP(L78, Metadata!E$3:F$101, 2, FALSE) -> 181 | U78: =VLOOKUP(T78,Metadata!H:J,2,FALSE) -> 35.069992 | V78: =VLOOKUP(T78,Metadata!$H:$J,3,FALSE) -> -106.66038
A79: 38825 | B79: red | C79: right | D79: predorsal | E79: 4662 | F79: FRO | G79: Abq | H79: LC05-003 | L79: Bridge street | M79: 1 | O79: =CONCATENATE(P79,Q79,R79, " ", YEAR(A79)) -> RRD 2006 | P79: =UPPER(LEFT(B79)) -> R | Q79: =UPPER(LEFT(C79)) -> R | R79: =IF(LEFT(D79) = "p", "D", "A") -> D | S79: =YEAR(A79) -> 2006 | T79: =VLOOKUP(L79, Metadata!E$3:F$101, 2, FALSE) -> 181 | U79: =VLOOKUP(T79,Metadata!H:J,2,FALSE) -> 35.069992 | V79: =VLOOKUP(T79,Metadata!$H:$J,3,FALSE) -> -106.66038
A80: 38825 | B80: green | C80: right | D80: predorsal | E80: 14143 | F80: FRO | G80: Abq | H80: APB05-002,003 | I80: Wild caught as eggs in 2002 from Dexter | J80: 4 | L80: Bernalillo | M80: 1 | O80: =CONCATENATE(P80,Q80,R80, " ", YEAR(A80)) -> GRD 2006 | P80: =UPPER(LEFT(B80)) -> G | Q80: =UPPER(LEFT(C80)) -> R | R80: =IF(LEFT(D80) = "p", "D", "A") -> D | S80: =YEAR(A80) -> 2006 | T80: =VLOOKUP(L80, Metadata!E$3:F$101, 2, FALSE) -> 203.2 | U80: =VLOOKUP(T80,Metadata!H:J,2,FALSE) -> 35.322184 | V80: =VLOOKUP(T80,Metadata!$H:$J,3,FALSE) -> -106.55748
A81: 38825 | B81: green | C81: right | D81: predorsal | E81: 4520 | F81: FRO | G81: Abq | H81: APB05-007,008,009,010 | I81: From WCSA03/CSSA03 | L81: Bernalillo | M81: 1 | O81: =CONCATENATE(P81,Q81,R81, " ", YEAR(A81)) -> GRD 2006 | P81: =UPPER(LEFT(B81)) -> G | Q81: =UPPER(LEFT(C81)) -> R | R81: =IF(LEFT(D81) = "p", "D", "A") -> D | S81: =YEAR(A81) -> 2006 | T81: =VLOOKUP(L81, Metadata!E$3:F$101, 2, FALSE) -> 203.2 | U81: =VLOOKUP(T81,Metadata!H:J,2,FALSE) -> 35.322184 | V81: =VLOOKUP(T81,Metadata!$H:$J,3,FALSE) -> -106.55748
A82: 38825 | B82: green | C82: right | D82: predorsal | E82: 4242 | F82: FRO | G82: Abq | H82: LC05-003 | L82: Bernalillo | M82: 1 | O82: =CONCATENATE(P82,Q82,R82, " ", YEAR(A82)) -> GRD 2006 | P82: =UPPER(LEFT(B82)) -> G | Q82: =UPPER(LEFT(C82)) -> R | R82: =IF(LEFT(D82) = "p", "D", "A") -> D | S82: =YEAR(A82) -> 2006 | T82: =VLOOKUP(L82, Metadata!E$3:F$101, 2, FALSE) -> 203.2 | U82: =VLOOKUP(T82,Metadata!H:J,2,FALSE) -> 35.322184 | V82: =VLOOKUP(T82,Metadata!$H:$J,3,FALSE) -> -106.55748
A83: 38825 | B83: orange | C83: right | D83: predorsal | E83: 30117 | F83: FRO | G83: Dexter | K83: 50 | L83: Sadd | M83: 3 | O83: =CONCATENATE(P83,Q83,R83, " ", YEAR(A83)) -> ORD 2006 | P83: =UPPER(LEFT(B83)) -> O | Q83: =UPPER(LEFT(C83)) -> R | R83: =IF(LEFT(D83) = "p", "D", "A") -> D | S83: =YEAR(A83) -> 2006 | T83: =VLOOKUP(L83, Metadata!E$3:F$101, 2, FALSE) -> 115.6 | U83: =VLOOKUP(T83,Metadata!H:J,2,FALSE) -> 34.255859 | V83: =VLOOKUP(T83,Metadata!$H:$J,3,FALSE) -> -106.88885
A84: 38825 | B84: yellow | C84: right | D84: predorsal | E84: 30893 | F84: FRO | G84: Dexter | K84: 50 | L84: Rio Puerco Confluence | M84: 2 | N84: =SUM(E77:E84) -> 108320 | O84: =CONCATENATE(P84,Q84,R84, " ", YEAR(A84)) -> YRD 2006 | P84: =UPPER(LEFT(B84)) -> Y | Q84: =UPPER(LEFT(C84)) -> R | R84: =IF(LEFT(D84) = "p", "D", "A") -> D | S84: =YEAR(A84) -> 2006 | T84: =VLOOKUP(L84, Metadata!E$3:F$101, 2, FALSE) -> 127.9 | U84: =VLOOKUP(T84,Metadata!H:J,2,FALSE) -> 34.383985 | V84: =VLOOKUP(T84,Metadata!$H:$J,3,FALSE) -> -106.83584
A85: 38981 | B85: red | C85: left | D85: predorsal | E85: 25367 | F85: FRO | G85: Abq | H85: ABP05-011,012,014 | I85: ABP05-011: B1 (ABP04-004/008/013/020)Wild caught as eggs in 2002 at San Acacia and Dexter; ABP05-012: Wild caught as eggs in 2002 from Dexter; ABP05-014: CSSA03/WCSA03 | J85: 4 | L85: Bridge street | M85: 1 | O85: =CONCATENATE(P85,Q85,R85, " ", YEAR(A85)) -> RLD 2006 | P85: =UPPER(LEFT(B85)) -> R | Q85: =UPPER(LEFT(C85)) -> L | R85: =IF(LEFT(D85) = "p", "D", "A") -> D | S85: =YEAR(A85) -> 2006 | T85: =VLOOKUP(L85, Metadata!E$3:F$101, 2, FALSE) -> 181 | U85: =VLOOKUP(T85,Metadata!H:J,2,FALSE) -> 35.069992 | V85: =VLOOKUP(T85,Metadata!$H:$J,3,FALSE) -> -106.66038
A86: 38981 | B86: red | C86: left | D86: predorsal | E86: 18474 | F86: FRO | G86: Abq | H86: ABP05-013,014 | I86: CSSA03/WCSA03 | L86: Bridge street | M86: 1 | O86: =CONCATENATE(P86,Q86,R86, " ", YEAR(A86)) -> RLD 2006 | P86: =UPPER(LEFT(B86)) -> R | Q86: =UPPER(LEFT(C86)) -> L | R86: =IF(LEFT(D86) = "p", "D", "A") -> D | S86: =YEAR(A86) -> 2006 | T86: =VLOOKUP(L86, Metadata!E$3:F$101, 2, FALSE) -> 181 | U86: =VLOOKUP(T86,Metadata!H:J,2,FALSE) -> 35.069992 | V86: =VLOOKUP(T86,Metadata!$H:$J,3,FALSE) -> -106.66038
A87: 38981 | B87: green | C87: left | D87: predorsal | E87: 28227 | F87: FRO | G87: Abq | H87: ABP05-011,012,014 | I87: ABP05-011: B1 (ABP04-004/008/013/020)Wild caught as eggs in 2002 at San Acacia and Dexter; ABP05-012: Wild caught as eggs in 2002 from Dexter; ABP05-014: CSSA03/WCSA03 | J87: 4 | L87: Bernalillo | M87: 1 | N87: =SUM(E60:E87) -> 341683 | O87: =CONCATENATE(P87,Q87,R87, " ", YEAR(A87)) -> GLD 2006 | P87: =UPPER(LEFT(B87)) -> G | Q87: =UPPER(LEFT(C87)) -> L | R87: =IF(LEFT(D87) = "p", "D", "A") -> D | S87: =YEAR(A87) -> 2006 | T87: =VLOOKUP(L87, Metadata!E$3:F$101, 2, FALSE) -> 203.2 | U87: =VLOOKUP(T87,Metadata!H:J,2,FALSE) -> 35.322184 | V87: =VLOOKUP(T87,Metadata!$H:$J,3,FALSE) -> -106.55748
A88: 38981 | B88: green | C88: left | D88: predorsal | E88: 8246 | F88: FRO | G88: Abq | H88: ABP05-013,014 | I88: CSSA03/WCSA03 | J88: 1 | L88: Bernalillo | M88: 1 | O88: =CONCATENATE(P88,Q88,R88, " ", YEAR(A88)) -> GLD 2006 | P88: =UPPER(LEFT(B88)) -> G | Q88: =UPPER(LEFT(C88)) -> L | R88: =IF(LEFT(D88) = "p", "D", "A") -> D | S88: =YEAR(A88) -> 2006 | T88: =VLOOKUP(L88, Metadata!E$3:F$101, 2, FALSE) -> 203.2 | U88: =VLOOKUP(T88,Metadata!H:J,2,FALSE) -> 35.322184 | V88: =VLOOKUP(T88,Metadata!$H:$J,3,FALSE) -> -106.55748
A89: 38981 | B89: green | C89: left | D89: predorsal | E89: 7693 | F89: FRO | G89: Abq | H89: ABP05-016 | I89: Unknown | L89: Bernalillo | M89: 1 | O89: =CONCATENATE(P89,Q89,R89, " ", YEAR(A89)) -> GLD 2006 | P89: =UPPER(LEFT(B89)) -> G | Q89: =UPPER(LEFT(C89)) -> L | R89: =IF(LEFT(D89) = "p", "D", "A") -> D | S89: =YEAR(A89) -> 2006 | T89: =VLOOKUP(L89, Metadata!E$3:F$101, 2, FALSE) -> 203.2 | U89: =VLOOKUP(T89,Metadata!H:J,2,FALSE) -> 35.322184 | V89: =VLOOKUP(T89,Metadata!$H:$J,3,FALSE) -> -106.55748
A90: 38981 | B90: green | C90: left | D90: predorsal | E90: 162 | F90: FRO | G90: Abq | H90: ABP06-001 | L90: Bernalillo | M90: 1 | O90: =CONCATENATE(P90,Q90,R90, " ", YEAR(A90)) -> GLD 2006 | P90: =UPPER(LEFT(B90)) -> G | Q90: =UPPER(LEFT(C90)) -> L | R90: =IF(LEFT(D90) = "p", "D", "A") -> D | S90: =YEAR(A90) -> 2006 | T90: =VLOOKUP(L90, Metadata!E$3:F$101, 2, FALSE) -> 203.2 | U90: =VLOOKUP(T90,Metadata!H:J,2,FALSE) -> 35.322184 | V90: =VLOOKUP(T90,Metadata!$H:$J,3,FALSE) -> -106.55748
A91: 38981 | B91: green | C91: left | D91: predorsal | E91: 60 | F91: FRO | G91: Abq | H91: ABP06-018 | I91: ABP06-001 w/WC02 Dexter | J91: 1-4 | L91: Bernalillo | M91: 1 | O91: =CONCATENATE(P91,Q91,R91, " ", YEAR(A91)) -> GLD 2006 | P91: =UPPER(LEFT(B91)) -> G | Q91: =UPPER(LEFT(C91)) -> L | R91: =IF(LEFT(D91) = "p", "D", "A") -> D | S91: =YEAR(A91) -> 2006 | T91: =VLOOKUP(L91, Metadata!E$3:F$101, 2, FALSE) -> 203.2 | U91: =VLOOKUP(T91,Metadata!H:J,2,FALSE) -> 35.322184 | V91: =VLOOKUP(T91,Metadata!$H:$J,3,FALSE) -> -106.55748
A92: 39003 | C92: none | E92: 51158 | F92: FRO | G92: Dexter | L92: San Marcial | M92: 3 | N92: *dexter surplus | O92: none 2006 | P92: =UPPER(LEFT(B92)) | S92: =YEAR(A92) -> 2006 | T92: =VLOOKUP(L92, Metadata!E$3:F$101, 2, FALSE) -> 67.5 | U92: =VLOOKUP(T92,Metadata!H:J,2,FALSE) -> 33.680714 | V92: =VLOOKUP(T92,Metadata!$H:$J,3,FALSE) -> -106.99298
A93: 39006 | B93: orange | C93: left | D93: predorsal | E93: 30349 | F93: FRO | G93: Dexter | K93: 40 | L93: SADD | M93: 3 | O93: =CONCATENATE(P93,Q93,R93, " ", YEAR(A93)) -> OLD 2006 | P93: =UPPER(LEFT(B93)) -> O | Q93: =UPPER(LEFT(C93)) -> L | R93: =IF(LEFT(D93) = "p", "D", "A") -> D | S93: =YEAR(A93) -> 2006 | T93: =VLOOKUP(L93, Metadata!E$3:F$101, 2, FALSE) -> 115.6 | U93: =VLOOKUP(T93,Metadata!H:J,2,FALSE) -> 34.255859 | V93: =VLOOKUP(T93,Metadata!$H:$J,3,FALSE) -> -106.88885
A94: 39006 | B94: yellow | C94: left | D94: predorsal | E94: 30385 | F94: FRO | G94: Dexter | K94: 40 | L94: Rio Puerco Confluence | M94: 2 | N94: =SUM(E86:E94) -> 174754 | O94: =CONCATENATE(P94,Q94,R94, " ", YEAR(A94)) -> YLD 2006 | P94: =UPPER(LEFT(B94)) -> Y | Q94: =UPPER(LEFT(C94)) -> L | R94: =IF(LEFT(D94) = "p", "D", "A") -> D | S94: =YEAR(A94) -> 2006 | T94: =VLOOKUP(L94, Metadata!E$3:F$101, 2, FALSE) -> 127.9 | U94: =VLOOKUP(T94,Metadata!H:J,2,FALSE) -> 34.383985 | V94: =VLOOKUP(T94,Metadata!$H:$J,3,FALSE) -> -106.83584
A95: 39024 | C95: none | E95: 2500 | F95: FRO | G95: Dexter | L95: San Marcial | M95: 3 | N95: *abq surplus | O95: none 2006 | P95: =UPPER(LEFT(B95)) | S95: =YEAR(A95) -> 2006 | T95: =VLOOKUP(L95, Metadata!E$3:F$101, 2, FALSE) -> 67.5 | U95: =VLOOKUP(T95,Metadata!H:J,2,FALSE) -> 33.680714 | V95: =VLOOKUP(T95,Metadata!$H:$J,3,FALSE) -> -106.99298
A96: 39042 | C96: none | E96: 107910 | F96: FRO | G96: Dexter | K96: 40 | L96: San Marcial | M96: 3 | N96: *dexter surplus | O96: none 2006 | P96: =UPPER(LEFT(B96)) | S96: =YEAR(A96) -> 2006 | T96: =VLOOKUP(L96, Metadata!E$3:F$101, 2, FALSE) -> 67.5 | U96: =VLOOKUP(T96,Metadata!H:J,2,FALSE) -> 33.680714 | V96: =VLOOKUP(T96,Metadata!$H:$J,3,FALSE) -> -106.99298
A97: 39231 | B97: pink | C97: right | D97: predorsal | E97: 370 | F97: FRO | G97: Dexter | H97: DX05 | I97: Wild caught as eggs | J97: 2 | L97: Bridge street | M97: 1 | O97: =CONCATENATE(P97,Q97,R97, " ", YEAR(A97)) -> PRD 2007 | P97: =UPPER(LEFT(B97)) -> P | Q97: =UPPER(LEFT(C97)) -> R | R97: =IF(LEFT(D97) = "p", "D", "A") -> D | S97: =YEAR(A97) -> 2007 | T97: =VLOOKUP(L97, Metadata!E$3:F$101, 2, FALSE) -> 181 | U97: =VLOOKUP(T97,Metadata!H:J,2,FALSE) -> 35.069992 | V97: =VLOOKUP(T97,Metadata!$H:$J,3,FALSE) -> -106.66038
A98: 39231 | B98: pink | C98: right | D98: predorsal | E98: 10148 | F98: FRO | G98: Dexter | H98: DX06 | I98: Captive spawn | J98: 1 | K98: 62 | L98: Bridge street | M98: 1 | N98: *millionth minnow release | O98: =CONCATENATE(P98,Q98,R98, " ", YEAR(A98)) -> PRD 2007 | P98: =UPPER(LEFT(B98)) -> P | Q98: =UPPER(LEFT(C98)) -> R | R98: =IF(LEFT(D98) = "p", "D", "A") -> D | S98: =YEAR(A98) -> 2007 | T98: =VLOOKUP(L98, Metadata!E$3:F$101, 2, FALSE) -> 181 | U98: =VLOOKUP(T98,Metadata!H:J,2,FALSE) -> 35.069992 | V98: =VLOOKUP(T98,Metadata!$H:$J,3,FALSE) -> -106.66038
A99: 39231 | B99: pink | C99: right | D99: predorsal | E99: 5938 | F99: FRO | G99: Abq | H99: ABP06-005,006,007,008,009,010,011,012,013 | I99: Wild caught as eggs from 380 bridge | J99: 1 | L99: Bridge street | M99: 1 | N99: * millionth minnow release | O99: =CONCATENATE(P99,Q99,R99, " ", YEAR(A99)) -> PRD 2007 | P99: =UPPER(LEFT(B99)) -> P | Q99: =UPPER(LEFT(C99)) -> R | R99: =IF(LEFT(D99) = "p", "D", "A") -> D | S99: =YEAR(A99) -> 2007 | T99: =VLOOKUP(L99, Metadata!E$3:F$101, 2, FALSE) -> 181 | U99: =VLOOKUP(T99,Metadata!H:J,2,FALSE) -> 35.069992 | V99: =VLOOKUP(T99,Metadata!$H:$J,3,FALSE) -> -106.66038
A100: 39231 | B100: pink | C100: right | D100: predorsal | E100: 4732 | F100: FRO | G100: Abq | H100: ABP06-015 | I100: Captive spawn | J100: 1 | L100: Bridge street | M100: 1 | O100: =CONCATENATE(P100,Q100,R100, " ", YEAR(A100)) -> PRD 2007 | P100: =UPPER(LEFT(B100)) -> P | Q100: =UPPER(LEFT(C100)) -> R | R100: =IF(LEFT(D100) = "p", "D", "A") -> D | S100: =YEAR(A100) -> 2007 | T100: =VLOOKUP(L100, Metadata!E$3:F$101, 2, FALSE) -> 181 | U100: =VLOOKUP(T100,Metadata!H:J,2,FALSE) -> 35.069992 | V100: =VLOOKUP(T100,Metadata!$H:$J,3,FALSE) -> -106.66038
...

Sheet Recaptures
A1: collno | B1: agency | C1: mark | D1: n | E1: Recapture Date | F1: Release Date | G1: Number of Days Post-Release | H1: Max RM Released | I1: MinReleased | J1: rm recapture | K1: Distance Traveled (RM)* | L1: N Released | M1: year | N1: site | O1: comment | P1: Report Year | Q1: SL
A2: WJR213 | B2: NMFWCO | C2: OLD 2002 | D2: 1 | E2: 38154 | F2: =VLOOKUP(C2, Pivot!A$2:C$999, 3, FALSE) -> 37599 | G2: =E2-F2 -> 555 | H2: 199.9 | I2: =H2 -> 199.9 | J2: 198.3 | K2: =IF(J2>H2, J2-H2, IF(J2<I2, J2-I2, 0)) -> -1.6 | L2: =VLOOKUP(C2, Pivot!A$2:B$999, 2, FALSE) -> 41500 | M2: =YEAR(E2) -> 2004 | P2: =IF(MONTH(E2) =12, M2+1, M2) -> 2004
A3: WJR213 | B3: NMFWCO | C3: GRD 2004 | D3: 4 | E3: 38154 | F3: =VLOOKUP(C3, Pivot!A$2:C$999, 3, FALSE) -> 38081 | G3: =E3-F3 -> 73 | H3: 203.5 | I3: 196 | J3: 198.3 | K3: =IF(J3>H3, J3-H3, IF(J3<I3, J3-I3, 0)) -> 0 | L3: =VLOOKUP(C3, Pivot!A$2:B$999, 2, FALSE) -> 8500 | M3: =YEAR(E3) -> 2004 | P3: =IF(MONTH(E3) =12, M3+1, M3) -> 2004
A4: WJR213 | B4: NMFWCO | C4: ORD 2004 | D4: 3 | E4: 38154 | F4: =VLOOKUP(C4, Pivot!A$2:C$999, 3, FALSE) -> 38092 | G4: =E4-F4 -> 62 | H4: 203.5 | I4: =H4 -> 203.5 | J4: 198.3 | K4: =IF(J4>H4, J4-H4, IF(J4<I4, J4-I4, 0)) -> -5.2 | L4: =VLOOKUP(C4, Pivot!A$2:B$999, 2, FALSE) -> 1500 | M4: =YEAR(E4) -> 2004 | P4: =IF(MONTH(E4) =12, M4+1, M4) -> 2004
A5: WJR214 | B5: NMFWCO | C5: RRD 2004 | D5: 2 | E5: 38154 | F5: =VLOOKUP(C5, Pivot!A$2:C$999, 3, FALSE) -> 38081 | G5: =E5-F5 -> 73 | H5: 203.5 | I5: 196 | J5: 203.5 | K5: =IF(J5>H5, J5-H5, IF(J5<I5, J5-I5, 0)) -> 0 | L5: =VLOOKUP(C5, Pivot!A$2:B$999, 2, FALSE) -> 15199 | M5: =YEAR(E5) -> 2004 | P5: =IF(MONTH(E5) =12, M5+1, M5) -> 2004
A6: WJR215 | B6: NMFWCO | C6: GLD 2003 | D6: 1 | E6: 38154 | F6: =VLOOKUP(C6, Pivot!A$2:C$999, 3, FALSE) -> 37623 | G6: =E6-F6 -> 531 | H6: 200 | I6: =H6 -> 200 | J6: 202 | K6: =IF(J6>H6, J6-H6, IF(J6<I6, J6-I6, 0)) -> 2 | L6: =VLOOKUP(C6, Pivot!A$2:B$999, 2, FALSE) -> 61118 | M6: =YEAR(E6) -> 2004 | P6: =IF(MONTH(E6) =12, M6+1, M6) -> 2004
A7: WJR215 | B7: NMFWCO | C7: RRD 2004 | D7: 10 | E7: 38154 | F7: =VLOOKUP(C7, Pivot!A$2:C$999, 3, FALSE) -> 38081 | G7: =E7-F7 -> 73 | H7: 203.5 | I7: 196 | J7: 202 | K7: =IF(J7>H7, J7-H7, IF(J7<I7, J7-I7, 0)) -> 0 | L7: =VLOOKUP(C7, Pivot!A$2:B$999, 2, FALSE) -> 15199 | M7: =YEAR(E7) -> 2004 | P7: =IF(MONTH(E7) =12, M7+1, M7) -> 2004
A8: WJR215 | B8: NMFWCO | C8: ORD 2004 | D8: 2 | E8: 38154 | F8: =VLOOKUP(C8, Pivot!A$2:C$999, 3, FALSE) -> 38092 | G8: =E8-F8 -> 62 | H8: 203.5 | I8: =H8 -> 203.5 | J8: 202 | K8: =IF(J8>H8, J8-H8, IF(J8<I8, J8-I8, 0)) -> -1.5 | L8: =VLOOKUP(C8, Pivot!A$2:B$999, 2, FALSE) -> 1500 | M8: =YEAR(E8) -> 2004 | P8: =IF(MONTH(E8) =12, M8+1, M8) -> 2004
A9: WJR220 | B9: NMFWCO | C9: RRD 2004 | D9: 2 | E9: 38180 | F9: =VLOOKUP(C9, Pivot!A$2:C$999, 3, FALSE) -> 38081 | G9: =E9-F9 -> 99 | H9: 203.5 | I9: 196 | J9: 203.5 | K9: =IF(J9>H9, J9-H9, IF(J9<I9, J9-I9, 0)) -> 0 | L9: =VLOOKUP(C9, Pivot!A$2:B$999, 2, FALSE) -> 15199 | M9: =YEAR(E9) -> 2004 | P9: =IF(MONTH(E9) =12, M9+1, M9) -> 2004
A10: WJR221 | B10: NMFWCO | C10: RRD 2004 | D10: 1 | E10: 38180 | F10: =VLOOKUP(C10, Pivot!A$2:C$999, 3, FALSE) -> 38081 | G10: =E10-F10 -> 99 | H10: 203.5 | I10: 196 | J10: 202 | K10: =IF(J10>H10, J10-H10, IF(J10<I10, J10-I10, 0)) -> 0 | L10: =VLOOKUP(C10, Pivot!A$2:B$999, 2, FALSE) -> 15199 | M10: =YEAR(E10) -> 2004 | P10: =IF(MONTH(E10) =12, M10+1, M10) -> 2004
A11: WJR222 | B11: NMFWCO | C11: RRD 2004 | D11: 1 | E11: 38180 | F11: =VLOOKUP(C11, Pivot!A$2:C$999, 3, FALSE) -> 38081 | G11: =E11-F11 -> 99 | H11: 203.5 | I11: 196 | J11: 199.9 | K11: =IF(J11>H11, J11-H11, IF(J11<I11, J11-I11, 0)) -> 0 | L11: =VLOOKUP(C11, Pivot!A$2:B$999, 2, FALSE) -> 15199 | M11: =YEAR(E11) -> 2004 | P11: =IF(MONTH(E11) =12, M11+1, M11) -> 2004
A12: WJR227 | B12: NMFWCO | C12: ORD 2004 | D12: 1 | E12: 38208 | F12: =VLOOKUP(C12, Pivot!A$2:C$999, 3, FALSE) -> 38092 | G12: =E12-F12 -> 116 | H12: 203.5 | I12: =H12 -> 203.5 | J12: 203.5 | K12: =IF(J12>H12, J12-H12, IF(J12<I12, J12-I12, 0)) -> 0 | L12: =VLOOKUP(C12, Pivot!A$2:B$999, 2, FALSE) -> 1500 | M12: =YEAR(E12) -> 2004 | P12: =IF(MONTH(E12) =12, M12+1, M12) -> 2004
A13: WJR235 | B13: NMFWCO | C13: ORD 2004 | D13: 1 | E13: 38243 | F13: =VLOOKUP(C13, Pivot!A$2:C$999, 3, FALSE) -> 38092 | G13: =E13-F13 -> 151 | H13: 203.5 | I13: =H13 -> 203.5 | J13: 198.3 | K13: =IF(J13>H13, J13-H13, IF(J13<I13, J13-I13, 0)) -> -5.2 | L13: =VLOOKUP(C13, Pivot!A$2:B$999, 2, FALSE) -> 1500 | M13: =YEAR(E13) -> 2004 | P13: =IF(MONTH(E13) =12, M13+1, M13) -> 2004
A14: WJR237 | B14: NMFWCO | C14: RRD 2004 | D14: 1 | E14: 38243 | F14: =VLOOKUP(C14, Pivot!A$2:C$999, 3, FALSE) -> 38081 | G14: =E14-F14 -> 162 | H14: 203.5 | I14: 196 | J14: 202 | K14: =IF(J14>H14, J14-H14, IF(J14<I14, J14-I14, 0)) -> 0 | L14: =VLOOKUP(C14, Pivot!A$2:B$999, 2, FALSE) -> 15199 | M14: =YEAR(E14) -> 2004 | P14: =IF(MONTH(E14) =12, M14+1, M14) -> 2004
A15: WJR238 | B15: NMFWCO | C15: GRD 2004 | D15: 1 | E15: 38244 | F15: =VLOOKUP(C15, Pivot!A$2:C$999, 3, FALSE) -> 38081 | G15: =E15-F15 -> 163 | H15: 203.5 | I15: 196 | J15: 198.3 | K15: =IF(J15>H15, J15-H15, IF(J15<I15, J15-I15, 0)) -> 0 | L15: =VLOOKUP(C15, Pivot!A$2:B$999, 2, FALSE) -> 8500 | M15: =YEAR(E15) -> 2004 | P15: =IF(MONTH(E15) =12, M15+1, M15) -> 2004
A16: WJR242 | B16: NMFWCO | C16: RRD 2004 | D16: 1 | E16: 38278 | F16: =VLOOKUP(C16, Pivot!A$2:C$999, 3, FALSE) -> 38081 | G16: =E16-F16 -> 197 | H16: 203.5 | I16: 196 | J16: 203.5 | K16: =IF(J16>H16, J16-H16, IF(J16<I16, J16-I16, 0)) -> 0 | L16: =VLOOKUP(C16, Pivot!A$2:B$999, 2, FALSE) -> 15199 | M16: =YEAR(E16) -> 2004 | P16: =IF(MONTH(E16) =12, M16+1, M16) -> 2004
A17: WJR244 | B17: NMFWCO | C17: RRD 2004 | D17: 4 | E17: 38278 | F17: =VLOOKUP(C17, Pivot!A$2:C$999, 3, FALSE) -> 38081 | G17: =E17-F17 -> 197 | H17: 203.5 | I17: 196 | J17: 199.9 | K17: =IF(J17>H17, J17-H17, IF(J17<I17, J17-I17, 0)) -> 0 | L17: =VLOOKUP(C17, Pivot!A$2:B$999, 2, FALSE) -> 15199 | M17: =YEAR(E17) -> 2004 | P17: =IF(MONTH(E17) =12, M17+1, M17) -> 2004
A18: HEW04-01 | B18: NMFWCO | C18: RRD 2004 | D18: 1 | E18: 38281 | F18: =VLOOKUP(C18, Pivot!A$2:C$999, 3, FALSE) -> 38081 | G18: =E18-F18 -> 200 | H18: 203.5 | I18: 196 | J18: 199.9 | K18: =IF(J18>H18, J18-H18, IF(J18<I18, J18-I18, 0)) -> 0 | L18: =VLOOKUP(C18, Pivot!A$2:B$999, 2, FALSE) -> 15199 | M18: =YEAR(E18) -> 2004 | P18: =IF(MONTH(E18) =12, M18+1, M18) -> 2004
A19: HEW04-01 | B19: NMFWCO | C19: ORD 2004 | D19: 1 | E19: 38281 | F19: =VLOOKUP(C19, Pivot!A$2:C$999, 3, FALSE) -> 38092 | G19: =E19-F19 -> 189 | H19: 203.5 | I19: =H19 -> 203.5 | J19: 198.3 | K19: =IF(J19>H19, J19-H19, IF(J19<I19, J19-I19, 0)) -> -5.2 | L19: =VLOOKUP(C19, Pivot!A$2:B$999, 2, FALSE) -> 1500 | M19: =YEAR(E19) -> 2004 | P19: =IF(MONTH(E19) =12, M19+1, M19) -> 2004
A20: SRD156 | B20: NMFWCO | C20: YLA 2004 | D20: 2 | E20: 38313 | F20: =VLOOKUP(C20, Pivot!A$2:C$999, 3, FALSE) -> 38294 | G20: =E20-F20 -> 19 | H20: 203.5 | I20: =H20 -> 203.5 | J20: 203.5 | K20: =IF(J20>H20, J20-H20, IF(J20<I20, J20-I20, 0)) -> 0 | L20: =VLOOKUP(C20, Pivot!A$2:B$999, 2, FALSE) -> 6245 | M20: =YEAR(E20) -> 2004 | P20: =IF(MONTH(E20) =12, M20+1, M20) -> 2004
A21: SRD156 | B21: NMFWCO | C21: YRA 2004 | D21: 2 | E21: 38313 | F21: =VLOOKUP(C21, Pivot!A$2:C$999, 3, FALSE) -> 38294 | G21: =E21-F21 -> 19 | H21: 203.5 | I21: =H21 -> 203.5 | J21: 203.5 | K21: =IF(J21>H21, J21-H21, IF(J21<I21, J21-I21, 0)) -> 0 | L21: =VLOOKUP(C21, Pivot!A$2:B$999, 2, FALSE) -> 9622 | M21: =YEAR(E21) -> 2004 | P21: =IF(MONTH(E21) =12, M21+1, M21) -> 2004
A22: SRD156 | B22: NMFWCO | C22: RLA 2004 | D22: 2 | E22: 38313 | F22: =VLOOKUP(C22, Pivot!A$2:C$999, 3, FALSE) -> 38294 | G22: =E22-F22 -> 19 | H22: 203.5 | I22: =H22 -> 203.5 | J22: 203.5 | K22: =IF(J22>H22, J22-H22, IF(J22<I22, J22-I22, 0)) -> 0 | L22: =VLOOKUP(C22, Pivot!A$2:B$999, 2, FALSE) -> 6502 | M22: =YEAR(E22) -> 2004 | P22: =IF(MONTH(E22) =12, M22+1, M22) -> 2004
A23: SRD156 | B23: NMFWCO | C23: OLA 2004 | D23: 2 | E23: 38313 | F23: =VLOOKUP(C23, Pivot!A$2:C$999, 3, FALSE) -> 38296 | G23: =E23-F23 -> 17 | H23: 203.5 | I23: =H23 -> 203.5 | J23: 203.5 | K23: =IF(J23>H23, J23-H23, IF(J23<I23, J23-I23, 0)) -> 0 | L23: =VLOOKUP(C23, Pivot!A$2:B$999, 2, FALSE) -> 6065 | M23: =YEAR(E23) -> 2004 | P23: =IF(MONTH(E23) =12, M23+1, M23) -> 2004
A24: SRD156 | B24: NMFWCO | C24: ORA 2004 | D24: 8 | E24: 38313 | F24: =VLOOKUP(C24, Pivot!A$2:C$999, 3, FALSE) -> 38296 | G24: =E24-F24 -> 17 | H24: 203.5 | I24: =H24 -> 203.5 | J24: 203.5 | K24: =IF(J24>H24, J24-H24, IF(J24<I24, J24-I24, 0)) -> 0 | L24: =VLOOKUP(C24, Pivot!A$2:B$999, 2, FALSE) -> 7845 | M24: =YEAR(E24) -> 2004 | P24: =IF(MONTH(E24) =12, M24+1, M24) -> 2004
A25: SRD157 | B25: NMFWCO | C25: YLA 2004 | D25: 6 | E25: 38313 | F25: =VLOOKUP(C25, Pivot!A$2:C$999, 3, FALSE) -> 38294 | G25: =E25-F25 -> 19 | H25: 203.5 | I25: =H25 -> 203.5 | J25: 202 | K25: =IF(J25>H25, J25-H25, IF(J25<I25, J25-I25, 0)) -> -1.5 | L25: =VLOOKUP(C25, Pivot!A$2:B$999, 2, FALSE) -> 6245 | M25: =YEAR(E25) -> 2004 | P25: =IF(MONTH(E25) =12, M25+1, M25) -> 2004
A26: SRD157 | B26: NMFWCO | C26: YRA 2004 | D26: 5 | E26: 38313 | F26: =VLOOKUP(C26, Pivot!A$2:C$999, 3, FALSE) -> 38294 | G26: =E26-F26 -> 19 | H26: 203.5 | I26: =H26 -> 203.5 | J26: 202 | K26: =IF(J26>H26, J26-H26, IF(J26<I26, J26-I26, 0)) -> -1.5 | L26: =VLOOKUP(C26, Pivot!A$2:B$999, 2, FALSE) -> 9622 | M26: =YEAR(E26) -> 2004 | P26: =IF(MONTH(E26) =12, M26+1, M26) -> 2004
A27: SRD157 | B27: NMFWCO | C27: RLA 2004 | D27: 2 | E27: 38313 | F27: =VLOOKUP(C27, Pivot!A$2:C$999, 3, FALSE) -> 38294 | G27: =E27-F27 -> 19 | H27: 203.5 | I27: =H27 -> 203.5 | J27: 202 | K27: =IF(J27>H27, J27-H27, IF(J27<I27, J27-I27, 0)) -> -1.5 | L27: =VLOOKUP(C27, Pivot!A$2:B$999, 2, FALSE) -> 6502 | M27: =YEAR(E27) -> 2004 | P27: =IF(MONTH(E27) =12, M27+1, M27) -> 2004
A28: SRD157 | B28: NMFWCO | C28: OLA 2004 | D28: 5 | E28: 38313 | F28: =VLOOKUP(C28, Pivot!A$2:C$999, 3, FALSE) -> 38296 | G28: =E28-F28 -> 17 | H28: 203.5 | I28: =H28 -> 203.5 | J28: 202 | K28: =IF(J28>H28, J28-H28, IF(J28<I28, J28-I28, 0)) -> -1.5 | L28: =VLOOKUP(C28, Pivot!A$2:B$999, 2, FALSE) -> 6065 | M28: =YEAR(E28) -> 2004 | P28: =IF(MONTH(E28) =12, M28+1, M28) -> 2004
A29: SRD157 | B29: NMFWCO | C29: ORA 2004 | D29: 10 | E29: 38313 | F29: =VLOOKUP(C29, Pivot!A$2:C$999, 3, FALSE) -> 38296 | G29: =E29-F29 -> 17 | H29: 203.5 | I29: =H29 -> 203.5 | J29: 203.5 | K29: =IF(J29>H29, J29-H29, IF(J29<I29, J29-I29, 0)) -> 0 | L29: =VLOOKUP(C29, Pivot!A$2:B$999, 2, FALSE) -> 7845 | M29: =YEAR(E29) -> 2004 | P29: =IF(MONTH(E29) =12, M29+1, M29) -> 2004
A30: SRD157 | B30: NMFWCO | C30: GLA 2004 | D30: 1 | E30: 38313 | F30: =VLOOKUP(C30, Pivot!A$2:C$999, 3, FALSE) -> 38296 | G30: =E30-F30 -> 17 | H30: 203.5 | I30: 196 | J30: 202 | K30: =IF(J30>H30, J30-H30, IF(J30<I30, J30-I30, 0)) -> 0 | L30: =VLOOKUP(C30, Pivot!A$2:B$999, 2, FALSE) -> 6879 | M30: =YEAR(E30) -> 2004 | P30: =IF(MONTH(E30) =12, M30+1, M30) -> 2004
A31: SRD157 | B31: NMFWCO | C31: GRA 2004 | D31: 3 | E31: 38313 | F31: =VLOOKUP(C31, Pivot!A$2:C$999, 3, FALSE) -> 38296 | G31: =E31-F31 -> 17 | H31: 203.5 | I31: =H31 -> 203.5 | J31: 202 | K31: =IF(J31>H31, J31-H31, IF(J31<I31, J31-I31, 0)) -> -1.5 | L31: =VLOOKUP(C31, Pivot!A$2:B$999, 2, FALSE) -> 6956 | M31: =YEAR(E31) -> 2004 | P31: =IF(MONTH(E31) =12, M31+1, M31) -> 2004
A32: SRD158 | B32: NMFWCO | C32: YLA 2004 | D32: 4 | E32: 38313 | F32: =VLOOKUP(C32, Pivot!A$2:C$999, 3, FALSE) -> 38294 | G32: =E32-F32 -> 19 | H32: 203.5 | I32: =H32 -> 203.5 | J32: 199.9 | K32: =IF(J32>H32, J32-H32, IF(J32<I32, J32-I32, 0)) -> -3.6 | L32: =VLOOKUP(C32, Pivot!A$2:B$999, 2, FALSE) -> 6245 | M32: =YEAR(E32) -> 2004 | P32: =IF(MONTH(E32) =12, M32+1, M32) -> 2004
A33: SRD158 | B33: NMFWCO | C33: YRA 2004 | D33: 4 | E33: 38313 | F33: =VLOOKUP(C33, Pivot!A$2:C$999, 3, FALSE) -> 38294 | G33: =E33-F33 -> 19 | H33: 203.5 | I33: =H33 -> 203.5 | J33: 199.9 | K33: =IF(J33>H33, J33-H33, IF(J33<I33, J33-I33, 0)) -> -3.6 | L33: =VLOOKUP(C33, Pivot!A$2:B$999, 2, FALSE) -> 9622 | M33: =YEAR(E33) -> 2004 | P33: =IF(MONTH(E33) =12, M33+1, M33) -> 2004
A34: SRD158 | B34: NMFWCO | C34: RLA 2004 | D34: 7 | E34: 38313 | F34: =VLOOKUP(C34, Pivot!A$2:C$999, 3, FALSE) -> 38294 | G34: =E34-F34 -> 19 | H34: 203.5 | I34: =H34 -> 203.5 | J34: 199.9 | K34: =IF(J34>H34, J34-H34, IF(J34<I34, J34-I34, 0)) -> -3.6 | L34: =VLOOKUP(C34, Pivot!A$2:B$999, 2, FALSE) -> 6502 | M34: =YEAR(E34) -> 2004 | P34: =IF(MONTH(E34) =12, M34+1, M34) -> 2004
A35: SRD158 | B35: NMFWCO | C35: RRA 2004 | D35: 5 | E35: 38313 | F35: =VLOOKUP(C35, Pivot!A$2:C$999, 3, FALSE) -> 38294 | G35: =E35-F35 -> 19 | H35: 203.5 | I35: =H35 -> 203.5 | J35: 199.9 | K35: =IF(J35>H35, J35-H35, IF(J35<I35, J35-I35, 0)) -> -3.6 | L35: =VLOOKUP(C35, Pivot!A$2:B$999, 2, FALSE) -> 8639 | M35: =YEAR(E35) -> 2004 | P35: =IF(MONTH(E35) =12, M35+1, M35) -> 2004
A36: SRD158 | B36: NMFWCO | C36: OLA 2004 | D36: 2 | E36: 38313 | F36: =VLOOKUP(C36, Pivot!A$2:C$999, 3, FALSE) -> 38296 | G36: =E36-F36 -> 17 | H36: 203.5 | I36: =H36 -> 203.5 | J36: 199.9 | K36: =IF(J36>H36, J36-H36, IF(J36<I36, J36-I36, 0)) -> -3.6 | L36: =VLOOKUP(C36, Pivot!A$2:B$999, 2, FALSE) -> 6065 | M36: =YEAR(E36) -> 2004 | P36: =IF(MONTH(E36) =12, M36+1, M36) -> 2004
A37: SRD158 | B37: NMFWCO | C37: ORA 2004 | D37: 3 | E37: 38313 | F37: =VLOOKUP(C37, Pivot!A$2:C$999, 3, FALSE) -> 38296 | G37: =E37-F37 -> 17 | H37: 203.5 | I37: =H37 -> 203.5 | J37: 203.5 | K37: =IF(J37>H37, J37-H37, IF(J37<I37, J37-I37, 0)) -> 0 | L37: =VLOOKUP(C37, Pivot!A$2:B$999, 2, FALSE) -> 7845 | M37: =YEAR(E37) -> 2004 | P37: =IF(MONTH(E37) =12, M37+1, M37) -> 2004
A38: SRD158 | B38: NMFWCO | C38: GLA 2004 | D38: 1 | E38: 38313 | F38: =VLOOKUP(C38, Pivot!A$2:C$999, 3, FALSE) -> 38296 | G38: =E38-F38 -> 17 | H38: 203.5 | I38: 196 | J38: 199.9 | K38: =IF(J38>H38, J38-H38, IF(J38<I38, J38-I38, 0)) -> 0 | L38: =VLOOKUP(C38, Pivot!A$2:B$999, 2, FALSE) -> 6879 | M38: =YEAR(E38) -> 2004 | P38: =IF(MONTH(E38) =12, M38+1, M38) -> 2004
A39: SRD158 | B39: NMFWCO | C39: GRA 2004 | D39: 2 | E39: 38313 | F39: =VLOOKUP(C39, Pivot!A$2:C$999, 3, FALSE) -> 38296 | G39: =E39-F39 -> 17 | H39: 203.5 | I39: =H39 -> 203.5 | J39: 199.9 | K39: =IF(J39>H39, J39-H39, IF(J39<I39, J39-I39, 0)) -> -3.6 | L39: =VLOOKUP(C39, Pivot!A$2:B$999, 2, FALSE) -> 6956 | M39: =YEAR(E39) -> 2004 | P39: =IF(MONTH(E39) =12, M39+1, M39) -> 2004
A40: SRD159 | B40: NMFWCO | C40: ORD 2004 | D40: 1 | E40: 38313 | F40: =VLOOKUP(C40, Pivot!A$2:C$999, 3, FALSE) -> 38092 | G40: =E40-F40 -> 221 | H40: 203.5 | I40: =H40 -> 203.5 | J40: 198.3 | K40: =IF(J40>H40, J40-H40, IF(J40<I40, J40-I40, 0)) -> -5.2 | L40: =VLOOKUP(C40, Pivot!A$2:B$999, 2, FALSE) -> 1500 | M40: =YEAR(E40) -> 2004 | P40: =IF(MONTH(E40) =12, M40+1, M40) -> 2004
A41: SRD159 | B41: NMFWCO | C41: RLA 2004 | D41: 2 | E41: 38313 | F41: =VLOOKUP(C41, Pivot!A$2:C$999, 3, FALSE) -> 38294 | G41: =E41-F41 -> 19 | H41: 203.5 | I41: =H41 -> 203.5 | J41: 198.3 | K41: =IF(J41>H41, J41-H41, IF(J41<I41, J41-I41, 0)) -> -5.2 | L41: =VLOOKUP(C41, Pivot!A$2:B$999, 2, FALSE) -> 6502 | M41: =YEAR(E41) -> 2004 | P41: =IF(MONTH(E41) =12, M41+1, M41) -> 2004
A42: SRD159 | B42: NMFWCO | C42: RRA 2004 | D42: 1 | E42: 38313 | F42: =VLOOKUP(C42, Pivot!A$2:C$999, 3, FALSE) -> 38294 | G42: =E42-F42 -> 19 | H42: 203.5 | I42: =H42 -> 203.5 | J42: 198.3 | K42: =IF(J42>H42, J42-H42, IF(J42<I42, J42-I42, 0)) -> -5.2 | L42: =VLOOKUP(C42, Pivot!A$2:B$999, 2, FALSE) -> 8639 | M42: =YEAR(E42) -> 2004 | P42: =IF(MONTH(E42) =12, M42+1, M42) -> 2004
A43: WJR253 | B43: NMFWCO | C43: YRA 2004 | D43: 1 | E43: 38341 | F43: =VLOOKUP(C43, Pivot!A$2:C$999, 3, FALSE) -> 38294 | G43: =E43-F43 -> 47 | H43: 203.5 | I43: =H43 -> 203.5 | J43: 196 | K43: =IF(J43>H43, J43-H43, IF(J43<I43, J43-I43, 0)) -> -7.5 | L43: =VLOOKUP(C43, Pivot!A$2:B$999, 2, FALSE) -> 9622 | M43: =YEAR(E43) -> 2004 | P43: =IF(MONTH(E43) =12, M43+1, M43) -> 2005
A44: WJR255 | B44: NMFWCO | C44: YRA 2004 | D44: 2 | E44: 38341 | F44: =VLOOKUP(C44, Pivot!A$2:C$999, 3, FALSE) -> 38294 | G44: =E44-F44 -> 47 | H44: 203.5 | I44: =H44 -> 203.5 | J44: 202 | K44: =IF(J44>H44, J44-H44, IF(J44<I44, J44-I44, 0)) -> -1.5 | L44: =VLOOKUP(C44, Pivot!A$2:B$999, 2, FALSE) -> 9622 | M44: =YEAR(E44) -> 2004 | P44: =IF(MONTH(E44) =12, M44+1, M44) -> 2005
A45: WJR256 | B45: NMFWCO | C45: ORA 2004 | D45: 1 | E45: 38341 | F45: =VLOOKUP(C45, Pivot!A$2:C$999, 3, FALSE) -> 38296 | G45: =E45-F45 -> 45 | H45: 203.5 | I45: =H45 -> 203.5 | J45: 199.9 | K45: =IF(J45>H45, J45-H45, IF(J45<I45, J45-I45, 0)) -> -3.6 | L45: =VLOOKUP(C45, Pivot!A$2:B$999, 2, FALSE) -> 7845 | M45: =YEAR(E45) -> 2004 | P45: =IF(MONTH(E45) =12, M45+1, M45) -> 2005
A46: WJR05-259 | B46: NMFWCO | C46: RRA 2004 | D46: 1 | E46: 38370 | F46: =VLOOKUP(C46, Pivot!A$2:C$999, 3, FALSE) -> 38294 | G46: =E46-F46 -> 76 | H46: 203.5 | I46: =H46 -> 203.5 | J46: 196 | K46: =IF(J46>H46, J46-H46, IF(J46<I46, J46-I46, 0)) -> -7.5 | L46: =VLOOKUP(C46, Pivot!A$2:B$999, 2, FALSE) -> 8639 | M46: =YEAR(E46) -> 2005 | P46: =IF(MONTH(E46) =12, M46+1, M46) -> 2005
A47: WJR05-262 | B47: NMFWCO | C47: YLA 2004 | D47: 1 | E47: 38370 | F47: =VLOOKUP(C47, Pivot!A$2:C$999, 3, FALSE) -> 38294 | G47: =E47-F47 -> 76 | H47: 203.5 | I47: =H47 -> 203.5 | J47: 202 | K47: =IF(J47>H47, J47-H47, IF(J47<I47, J47-I47, 0)) -> -1.5 | L47: =VLOOKUP(C47, Pivot!A$2:B$999, 2, FALSE) -> 6245 | M47: =YEAR(E47) -> 2005 | P47: =IF(MONTH(E47) =12, M47+1, M47) -> 2005
A48: WJR05-262 | B48: NMFWCO | C48: OLA 2004 | D48: 1 | E48: 38370 | F48: =VLOOKUP(C48, Pivot!A$2:C$999, 3, FALSE) -> 38296 | G48: =E48-F48 -> 74 | H48: 203.5 | I48: =H48 -> 203.5 | J48: 199.9 | K48: =IF(J48>H48, J48-H48, IF(J48<I48, J48-I48, 0)) -> -3.6 | L48: =VLOOKUP(C48, Pivot!A$2:B$999, 2, FALSE) -> 6065 | M48: =YEAR(E48) -> 2005 | P48: =IF(MONTH(E48) =12, M48+1, M48) -> 2005
A49: WJR05-263 | B49: NMFWCO | C49: OLA 2004 | D49: 1 | E49: 38370 | F49: =VLOOKUP(C49, Pivot!A$2:C$999, 3, FALSE) -> 38296 | G49: =E49-F49 -> 74 | H49: 203.5 | I49: =H49 -> 203.5 | J49: 202 | K49: =IF(J49>H49, J49-H49, IF(J49<I49, J49-I49, 0)) -> -1.5 | L49: =VLOOKUP(C49, Pivot!A$2:B$999, 2, FALSE) -> 6065 | M49: =YEAR(E49) -> 2005 | P49: =IF(MONTH(E49) =12, M49+1, M49) -> 2005
A50: WJR05-263 | B50: NMFWCO | C50: GLA 2004 | D50: 1 | E50: 38370 | F50: =VLOOKUP(C50, Pivot!A$2:C$999, 3, FALSE) -> 38296 | G50: =E50-F50 -> 74 | H50: 203.5 | I50: 196 | J50: 199.9 | K50: =IF(J50>H50, J50-H50, IF(J50<I50, J50-I50, 0)) -> 0 | L50: =VLOOKUP(C50, Pivot!A$2:B$999, 2, FALSE) -> 6879 | M50: =YEAR(E50) -> 2005 | P50: =IF(MONTH(E50) =12, M50+1, M50) -> 2005
A51: RKD05-016 | B51: ASIR | C51: GLD 2003 | D51: 2 | E51: 38377 | F51: =VLOOKUP(C51, Pivot!A$2:C$999, 3, FALSE) -> 37623 | G51: =E51-F51 -> 754 | H51: 200 | I51: =H51 -> 200 | J51: 178.3 | K51: =IF(J51>H51, J51-H51, IF(J51<I51, J51-I51, 0)) -> -21.7 | L51: =VLOOKUP(C51, Pivot!A$2:B$999, 2, FALSE) -> 61118 | M51: =YEAR(E51) -> 2005 | P51: =IF(MONTH(E51) =12, M51+1, M51) -> 2005
A52: RKD05-021 | B52: ASIR | C52: OLA 2004 | D52: 2 | E52: 38378 | F52: =VLOOKUP(C52, Pivot!A$2:C$999, 3, FALSE) -> 38296 | G52: =E52-F52 -> 82 | H52: 203.5 | I52: =H52 -> 203.5 | J52: 200 | K52: =IF(J52>H52, J52-H52, IF(J52<I52, J52-I52, 0)) -> -3.5 | L52: =VLOOKUP(C52, Pivot!A$2:B$999, 2, FALSE) -> 6065 | M52: =YEAR(E52) -> 2005 | P52: =IF(MONTH(E52) =12, M52+1, M52) -> 2005
A53: RKD05-021 | B53: ASIR | C53: GLA 2004 | D53: 2 | E53: 38378 | F53: =VLOOKUP(C53, Pivot!A$2:C$999, 3, FALSE) -> 38296 | G53: =E53-F53 -> 82 | H53: 203.5 | I53: 196 | J53: 200 | K53: =IF(J53>H53, J53-H53, IF(J53<I53, J53-I53, 0)) -> 0 | L53: =VLOOKUP(C53, Pivot!A$2:B$999, 2, FALSE) -> 6879 | M53: =YEAR(E53) -> 2005 | P53: =IF(MONTH(E53) =12, M53+1, M53) -> 2005
A54: WJR05-267 | B54: NMFWCO | C54: YLA 2004 | D54: 1 | E54: 38397 | F54: =VLOOKUP(C54, Pivot!A$2:C$999, 3, FALSE) -> 38294 | G54: =E54-F54 -> 103 | H54: 203.5 | I54: =H54 -> 203.5 | J54: 196 | K54: =IF(J54>H54, J54-H54, IF(J54<I54, J54-I54, 0)) -> -7.5 | L54: =VLOOKUP(C54, Pivot!A$2:B$999, 2, FALSE) -> 6245 | M54: =YEAR(E54) -> 2005 | P54: =IF(MONTH(E54) =12, M54+1, M54) -> 2005
A55: WJR05-267 | B55: NMFWCO | C55: RLA 2004 | D55: 3 | E55: 38397 | F55: =VLOOKUP(C55, Pivot!A$2:C$999, 3, FALSE) -> 38294 | G55: =E55-F55 -> 103 | H55: 203.5 | I55: =H55 -> 203.5 | J55: 196 | K55: =IF(J55>H55, J55-H55, IF(J55<I55, J55-I55, 0)) -> -7.5 | L55: =VLOOKUP(C55, Pivot!A$2:B$999, 2, FALSE) -> 6502 | M55: =YEAR(E55) -> 2005 | P55: =IF(MONTH(E55) =12, M55+1, M55) -> 2005
A56: WJR05-267 | B56: NMFWCO | C56: OLA 2004 | D56: 1 | E56: 38397 | F56: =VLOOKUP(C56, Pivot!A$2:C$999, 3, FALSE) -> 38296 | G56: =E56-F56 -> 101 | H56: 203.5 | I56: =H56 -> 203.5 | J56: 198.3 | K56: =IF(J56>H56, J56-H56, IF(J56<I56, J56-I56, 0)) -> -5.2 | L56: =VLOOKUP(C56, Pivot!A$2:B$999, 2, FALSE) -> 6065 | M56: =YEAR(E56) -> 2005 | P56: =IF(MONTH(E56) =12, M56+1, M56) -> 2005
A57: WJR05-267 | B57: NMFWCO | C57: GLA 2004 | D57: 1 | E57: 38397 | F57: =VLOOKUP(C57, Pivot!A$2:C$999, 3, FALSE) -> 38296 | G57: =E57-F57 -> 101 | H57: 203.5 | I57: 196 | J57: 196 | K57: =IF(J57>H57, J57-H57, IF(J57<I57, J57-I57, 0)) -> 0 | L57: =VLOOKUP(C57, Pivot!A$2:B$999, 2, FALSE) -> 6879 | M57: =YEAR(E57) -> 2005 | P57: =IF(MONTH(E57) =12, M57+1, M57) -> 2005
A58: WJR05-267 | B58: NMFWCO | C58: GRA 2004 | D58: 2 | E58: 38397 | F58: =VLOOKUP(C58, Pivot!A$2:C$999, 3, FALSE) -> 38296 | G58: =E58-F58 -> 101 | H58: 203.5 | I58: =H58 -> 203.5 | J58: 196 | K58: =IF(J58>H58, J58-H58, IF(J58<I58, J58-I58, 0)) -> -7.5 | L58: =VLOOKUP(C58, Pivot!A$2:B$999, 2, FALSE) -> 6956 | M58: =YEAR(E58) -> 2005 | P58: =IF(MONTH(E58) =12, M58+1, M58) -> 2005
A59: WJR05-268 | B59: NMFWCO | C59: GRD 2004 | D59: 1 | E59: 38397 | F59: =VLOOKUP(C59, Pivot!A$2:C$999, 3, FALSE) -> 38081 | G59: =E59-F59 -> 316 | H59: 203.5 | I59: 196 | J59: 198.3 | K59: =IF(J59>H59, J59-H59, IF(J59<I59, J59-I59, 0)) -> 0 | L59: =VLOOKUP(C59, Pivot!A$2:B$999, 2, FALSE) -> 8500 | M59: =YEAR(E59) -> 2005 | P59: =IF(MONTH(E59) =12, M59+1, M59) -> 2005
A60: WJR05-268 | B60: NMFWCO | C60: RRD 2004 | D60: 1 | E60: 38397 | F60: =VLOOKUP(C60, Pivot!A$2:C$999, 3, FALSE) -> 38081 | G60: =E60-F60 -> 316 | H60: 203.5 | I60: 196 | J60: 199.9 | K60: =IF(J60>H60, J60-H60, IF(J60<I60, J60-I60, 0)) -> 0 | L60: =VLOOKUP(C60, Pivot!A$2:B$999, 2, FALSE) -> 15199 | M60: =YEAR(E60) -> 2005 | P60: =IF(MONTH(E60) =12, M60+1, M60) -> 2005
A61: WJR05-268 | B61: NMFWCO | C61: ORD 2004 | D61: 1 | E61: 38397 | F61: =VLOOKUP(C61, Pivot!A$2:C$999, 3, FALSE) -> 38092 | G61: =E61-F61 -> 305 | H61: 203.5 | I61: =H61 -> 203.5 | J61: 198.3 | K61: =IF(J61>H61, J61-H61, IF(J61<I61, J61-I61, 0)) -> -5.2 | L61: =VLOOKUP(C61, Pivot!A$2:B$999, 2, FALSE) -> 1500 | M61: =YEAR(E61) -> 2005 | P61: =IF(MONTH(E61) =12, M61+1, M61) -> 2005
A62: WJR05-269 | B62: NMFWCO | C62: RRA 2004 | D62: 1 | E62: 38397 | F62: =VLOOKUP(C62, Pivot!A$2:C$999, 3, FALSE) -> 38294 | G62: =E62-F62 -> 103 | H62: 203.5 | I62: =H62 -> 203.5 | J62: 202 | K62: =IF(J62>H62, J62-H62, IF(J62<I62, J62-I62, 0)) -> -1.5 | L62: =VLOOKUP(C62, Pivot!A$2:B$999, 2, FALSE) -> 8639 | M62: =YEAR(E62) -> 2005 | P62: =IF(MONTH(E62) =12, M62+1, M62) -> 2005
A63: WJR05-270 | B63: NMFWCO | C63: ORD 2004 | D63: 1 | E63: 38397 | F63: =VLOOKUP(C63, Pivot!A$2:C$999, 3, FALSE) -> 38092 | G63: =E63-F63 -> 305 | H63: 203.5 | I63: =H63 -> 203.5 | J63: 199.9 | K63: =IF(J63>H63, J63-H63, IF(J63<I63, J63-I63, 0)) -> -3.6 | L63: =VLOOKUP(C63, Pivot!A$2:B$999, 2, FALSE) -> 1500 | M63: =YEAR(E63) -> 2005 | P63: =IF(MONTH(E63) =12, M63+1, M63) -> 2005
A64: WJR05-270 | B64: NMFWCO | C64: ORA 2004 | D64: 2 | E64: 38397 | F64: =VLOOKUP(C64, Pivot!A$2:C$999, 3, FALSE) -> 38296 | G64: =E64-F64 -> 101 | H64: 203.5 | I64: =H64 -> 203.5 | J64: 199.9 | K64: =IF(J64>H64, J64-H64, IF(J64<I64, J64-I64, 0)) -> -3.6 | L64: =VLOOKUP(C64, Pivot!A$2:B$999, 2, FALSE) -> 7845 | M64: =YEAR(E64) -> 2005 | P64: =IF(MONTH(E64) =12, M64+1, M64) -> 2005
A65: BOR | B65: BOR | C65: OLD 2002 | D65: 1 | E65: 38398 | F65: =VLOOKUP(C65, Pivot!A$2:C$999, 3, FALSE) -> 37599 | G65: =E65-F65 -> 799 | H65: 199.9 | I65: =H65 -> 199.9 | J65: 192.2 | K65: =IF(J65>H65, J65-H65, IF(J65<I65, J65-I65, 0)) -> -7.7 | L65: =VLOOKUP(C65, Pivot!A$2:B$999, 2, FALSE) -> 41500 | M65: =YEAR(E65) -> 2005 | P65: =IF(MONTH(E65) =12, M65+1, M65) -> 2005
A66: BOR | B66: BOR | C66: GRD 2004 | D66: 1 | E66: 38398 | F66: =VLOOKUP(C66, Pivot!A$2:C$999, 3, FALSE) -> 38081 | G66: =E66-F66 -> 317 | H66: 203.5 | I66: 196 | J66: 192.2 | K66: =IF(J66>H66, J66-H66, IF(J66<I66, J66-I66, 0)) -> -3.8 | L66: =VLOOKUP(C66, Pivot!A$2:B$999, 2, FALSE) -> 8500 | M66: =YEAR(E66) -> 2005 | P66: =IF(MONTH(E66) =12, M66+1, M66) -> 2005
A67: BOR | B67: BOR | C67: GRD 2004 | D67: 1 | E67: 38399 | F67: =VLOOKUP(C67, Pivot!A$2:C$999, 3, FALSE) -> 38081 | G67: =E67-F67 -> 318 | H67: 203.5 | I67: 196 | J67: 187.9 | K67: =IF(J67>H67, J67-H67, IF(J67<I67, J67-I67, 0)) -> -8.1 | L67: =VLOOKUP(C67, Pivot!A$2:B$999, 2, FALSE) -> 8500 | M67: =YEAR(E67) -> 2005 | P67: =IF(MONTH(E67) =12, M67+1, M67) -> 2005
A68: WJR05-273 | B68: NMFWCO | C68: YLA 2004 | D68: 2 | E68: 38399 | F68: =VLOOKUP(C68, Pivot!A$2:C$999, 3, FALSE) -> 38294 | G68: =E68-F68 -> 105 | H68: 203.5 | I68: =H68 -> 203.5 | J68: 166 | K68: =IF(J68>H68, J68-H68, IF(J68<I68, J68-I68, 0)) -> -37.5 | L68: =VLOOKUP(C68, Pivot!A$2:B$999, 2, FALSE) -> 6245 | M68: =YEAR(E68) -> 2005 | P68: =IF(MONTH(E68) =12, M68+1, M68) -> 2005
A69: BOR | B69: BOR | C69: GLD 2003 | D69: 1 | E69: 38401 | F69: =VLOOKUP(C69, Pivot!A$2:C$999, 3, FALSE) -> 37623 | G69: =E69-F69 -> 778 | H69: 200 | I69: =H69 -> 200 | J69: 181.6 | K69: =IF(J69>H69, J69-H69, IF(J69<I69, J69-I69, 0)) -> -18.4 | L69: =VLOOKUP(C69, Pivot!A$2:B$999, 2, FALSE) -> 61118 | M69: =YEAR(E69) -> 2005 | P69: =IF(MONTH(E69) =12, M69+1, M69) -> 2005
A70: BOR | B70: BOR | C70: OLD 2002 | D70: 1 | E70: 38407 | F70: =VLOOKUP(C70, Pivot!A$2:C$999, 3, FALSE) -> 37599 | G70: =E70-F70 -> 808 | H70: 199.9 | I70: =H70 -> 199.9 | J70: 161.4 | K70: =IF(J70>H70, J70-H70, IF(J70<I70, J70-I70, 0)) -> -38.5 | L70: =VLOOKUP(C70, Pivot!A$2:B$999, 2, FALSE) -> 41500 | M70: =YEAR(E70) -> 2005 | P70: =IF(MONTH(E70) =12, M70+1, M70) -> 2005
A71: BOR | B71: BOR | C71: YLD 2005 | D71: 1 | E71: 38407 | F71: =VLOOKUP(C71, Pivot!A$2:C$999, 3, FALSE) -> 38357 | G71: =E71-F71 -> 50 | H71: 183.4 | I71: 178.3 | J71: 161.4 | K71: =IF(J71>H71, J71-H71, IF(J71<I71, J71-I71, 0)) -> -16.9 | L71: =VLOOKUP(C71, Pivot!A$2:B$999, 2, FALSE) -> 4824 | M71: =YEAR(E71) -> 2005 | P71: =IF(MONTH(E71) =12, M71+1, M71) -> 2005
A72: RKD05-037 | B72: ASIR | C72: GLD 2003 | D72: 4 | E72: 38407 | F72: =VLOOKUP(C72, Pivot!A$2:C$999, 3, FALSE) -> 37623 | G72: =E72-F72 -> 784 | H72: 200 | I72: =H72 -> 200 | J72: 178.3 | K72: =IF(J72>H72, J72-H72, IF(J72<I72, J72-I72, 0)) -> -21.7 | L72: =VLOOKUP(C72, Pivot!A$2:B$999, 2, FALSE) -> 61118 | M72: =YEAR(E72) -> 2005 | P72: =IF(MONTH(E72) =12, M72+1, M72) -> 2005
A73: RKD05-037 | B73: ASIR | C73: OLA 2004 | D73: 2 | E73: 38407 | F73: =VLOOKUP(C73, Pivot!A$2:C$999, 3, FALSE) -> 38296 | G73: =E73-F73 -> 111 | H73: 203.5 | I73: =H73 -> 203.5 | J73: 178.3 | K73: =IF(J73>H73, J73-H73, IF(J73<I73, J73-I73, 0)) -> -25.2 | L73: =VLOOKUP(C73, Pivot!A$2:B$999, 2, FALSE) -> 6065 | M73: =YEAR(E73) -> 2005 | P73: =IF(MONTH(E73) =12, M73+1, M73) -> 2005
A74: RKD05-037 | B74: ASIR | C74: ORA 2004 | D74: 1 | E74: 38407 | F74: =VLOOKUP(C74, Pivot!A$2:C$999, 3, FALSE) -> 38296 | G74: =E74-F74 -> 111 | H74: 203.5 | I74: =H74 -> 203.5 | J74: 178.3 | K74: =IF(J74>H74, J74-H74, IF(J74<I74, J74-I74, 0)) -> -25.2 | L74: =VLOOKUP(C74, Pivot!A$2:B$999, 2, FALSE) -> 7845 | M74: =YEAR(E74) -> 2005 | P74: =IF(MONTH(E74) =12, M74+1, M74) -> 2005
A75: RKD05-038 | B75: ASIR | C75: OLD 2002 | D75: 1 | E75: 38407 | F75: =VLOOKUP(C75, Pivot!A$2:C$999, 3, FALSE) -> 37599 | G75: =E75-F75 -> 808 | H75: 199.9 | I75: =H75 -> 199.9 | J75: 183.4 | K75: =IF(J75>H75, J75-H75, IF(J75<I75, J75-I75, 0)) -> -16.5 | L75: =VLOOKUP(C75, Pivot!A$2:B$999, 2, FALSE) -> 41500 | M75: =YEAR(E75) -> 2005 | P75: =IF(MONTH(E75) =12, M75+1, M75) -> 2005
A76: RKD05-038 | B76: ASIR | C76: GLD 2003 | D76: 11 | E76: 38407 | F76: =VLOOKUP(C76, Pivot!A$2:C$999, 3, FALSE) -> 37623 | G76: =E76-F76 -> 784 | H76: 200 | I76: =H76 -> 200 | J76: 183.4 | K76: =IF(J76>H76, J76-H76, IF(J76<I76, J76-I76, 0)) -> -16.6 | L76: =VLOOKUP(C76, Pivot!A$2:B$999, 2, FALSE) -> 61118 | M76: =YEAR(E76) -> 2005 | P76: =IF(MONTH(E76) =12, M76+1, M76) -> 2005
A77: RKD05-038 | B77: ASIR | C77: OLA 2004 | D77: 1 | E77: 38407 | F77: =VLOOKUP(C77, Pivot!A$2:C$999, 3, FALSE) -> 38296 | G77: =E77-F77 -> 111 | H77: 203.5 | I77: =H77 -> 203.5 | J77: 183.4 | K77: =IF(J77>H77, J77-H77, IF(J77<I77, J77-I77, 0)) -> -20.1 | L77: =VLOOKUP(C77, Pivot!A$2:B$999, 2, FALSE) -> 6065 | M77: =YEAR(E77) -> 2005 | P77: =IF(MONTH(E77) =12, M77+1, M77) -> 2005
A78: RKD05-038 | B78: ASIR | C78: ORA 2004 | D78: 1 | E78: 38407 | F78: =VLOOKUP(C78, Pivot!A$2:C$999, 3, FALSE) -> 38296 | G78: =E78-F78 -> 111 | H78: 203.5 | I78: =H78 -> 203.5 | J78: 183.4 | K78: =IF(J78>H78, J78-H78, IF(J78<I78, J78-I78, 0)) -> -20.1 | L78: =VLOOKUP(C78, Pivot!A$2:B$999, 2, FALSE) -> 7845 | M78: =YEAR(E78) -> 2005 | P78: =IF(MONTH(E78) =12, M78+1, M78) -> 2005
A79: RKD05-038 | B79: ASIR | C79: GRA 2004 | D79: 3 | E79: 38407 | F79: =VLOOKUP(C79, Pivot!A$2:C$999, 3, FALSE) -> 38296 | G79: =E79-F79 -> 111 | H79: 203.5 | I79: =H79 -> 203.5 | J79: 183.4 | K79: =IF(J79>H79, J79-H79, IF(J79<I79, J79-I79, 0)) -> -20.1 | L79: =VLOOKUP(C79, Pivot!A$2:B$999, 2, FALSE) -> 6956 | M79: =YEAR(E79) -> 2005 | P79: =IF(MONTH(E79) =12, M79+1, M79) -> 2005
A80: RKD05-042 | B80: ASIR | C80: ORD 2004 | D80: 1 | E80: 38408 | F80: =VLOOKUP(C80, Pivot!A$2:C$999, 3, FALSE) -> 38092 | G80: =E80-F80 -> 316 | H80: 203.5 | I80: =H80 -> 203.5 | J80: 200 | K80: =IF(J80>H80, J80-H80, IF(J80<I80, J80-I80, 0)) -> -3.5 | L80: =VLOOKUP(C80, Pivot!A$2:B$999, 2, FALSE) -> 1500 | M80: =YEAR(E80) -> 2005 | P80: =IF(MONTH(E80) =12, M80+1, M80) -> 2005
A81: RKD05-042 | B81: ASIR | C81: RRA 2004 | D81: 1 | E81: 38408 | F81: =VLOOKUP(C81, Pivot!A$2:C$999, 3, FALSE) -> 38294 | G81: =E81-F81 -> 114 | H81: 203.5 | I81: =H81 -> 203.5 | J81: 200 | K81: =IF(J81>H81, J81-H81, IF(J81<I81, J81-I81, 0)) -> -3.5 | L81: =VLOOKUP(C81, Pivot!A$2:B$999, 2, FALSE) -> 8639 | M81: =YEAR(E81) -> 2005 | P81: =IF(MONTH(E81) =12, M81+1, M81) -> 2005
A82: RKD05-042 | B82: ASIR | C82: OLA 2004 | D82: 1 | E82: 38408 | F82: =VLOOKUP(C82, Pivot!A$2:C$999, 3, FALSE) -> 38296 | G82: =E82-F82 -> 112 | H82: 203.5 | I82: =H82 -> 203.5 | J82: 200 | K82: =IF(J82>H82, J82-H82, IF(J82<I82, J82-I82, 0)) -> -3.5 | L82: =VLOOKUP(C82, Pivot!A$2:B$999, 2, FALSE) -> 6065 | M82: =YEAR(E82) -> 2005 | P82: =IF(MONTH(E82) =12, M82+1, M82) -> 2005
A83: RKD05-042 | B83: ASIR | C83: ORA 2004 | D83: 4 | E83: 38408 | F83: =VLOOKUP(C83, Pivot!A$2:C$999, 3, FALSE) -> 38296 | G83: =E83-F83 -> 112 | H83: 203.5 | I83: =H83 -> 203.5 | J83: 200 | K83: =IF(J83>H83, J83-H83, IF(J83<I83, J83-I83, 0)) -> -3.5 | L83: =VLOOKUP(C83, Pivot!A$2:B$999, 2, FALSE) -> 7845 | M83: =YEAR(E83) -> 2005 | P83: =IF(MONTH(E83) =12, M83+1, M83) -> 2005
... A94: RKD05-063 | B94: ASIR | C94: GRA 2004 | D94: 2 | E94: 38429 | F94: =VLOOKUP(C94, Pivot!A$2:C$999, 3, FALSE) -> 38296 | G94: =E94-F94 -> 133 | H94: 203.5 | I94: =H94 -> 203.5 | J94: 200 | K94: =IF(J94>H94, J94-H94, IF(J94<I94, J94-I94, 0)) -> -3.5 | L94: =VLOOKUP(C94, Pivot!A$2:B$999, 2, FALSE) -> 6956 | M94: =YEAR(E94) -> 2005 | P94: =IF(MONTH(E94) =12, M94+1, M94) -> 2005
A95: WJR05-276 | B95: NMFWCO | C95: YLD 2005 | D95: 2 | E95: 38446 | F95: =VLOOKUP(C95, Pivot!A$2:C$999, 3, FALSE) -> 38357 | G95: =E95-F95 -> 89 | H95: 183.4 | I95: 178.3 | J95: 196 | K95: =IF(J95>H95, J95-H95, IF(J95<I95, J95-I95, 0)) -> 12.6 | L95: =VLOOKUP(C95, Pivot!A$2:B$999, 2, FALSE) -> 4824 | M95: =YEAR(E95) -> 2005 | P95: =IF(MONTH(E95) =12, M95+1, M95) -> 2005
A96: WJR05-277 | B96: NMFWCO | C96: RRA 2004 | D96: 1 | E96: 38446 | F96: =VLOOKUP(C96, Pivot!A$2:C$999, 3, FALSE) -> 38294 | G96: =E96-F96 -> 152 | H96: 203.5 | I96: =H96 -> 203.5 | J96: 202 | K96: =IF(J96>H96, J96-H96, IF(J96<I96, J96-I96, 0)) -> -1.5 | L96: =VLOOKUP(C96, Pivot!A$2:B$999, 2, FALSE) -> 8639 | M96: =YEAR(E96) -> 2005 | P96: =IF(MONTH(E96) =12, M96+1, M96) -> 2005
A97: WJR05-277 | B97: NMFWCO | C97: OLA 2004 | D97: 1 | E97: 38446 | F97: =VLOOKUP(C97, Pivot!A$2:C$999, 3, FALSE) -> 38296 | G97: =E97-F97 -> 150 | H97: 203.5 | I97: =H97 -> 203.5 | J97: 198.3 | K97: =IF(J97>H97, J97-H97, IF(J97<I97, J97-I97, 0)) -> -5.2 | L97: =VLOOKUP(C97, Pivot!A$2:B$999, 2, FALSE) -> 6065 | M97: =YEAR(E97) -> 2005 | P97: =IF(MONTH(E97) =12, M97+1, M97) -> 2005
A98: WJR05-279 | B98: NMFWCO | C98: RLA 2004 | D98: 1 | E98: 38446 | F98: =VLOOKUP(C98, Pivot!A$2:C$999, 3, FALSE) -> 38294 | G98: =E98-F98 -> 152 | H98: 203.5 | I98: =H98 -> 203.5 | J98: 202 | K98: =IF(J98>H98, J98-H98, IF(J98<I98, J98-I98, 0)) -> -1.5 | L98: =VLOOKUP(C98, Pivot!A$2:B$999, 2, FALSE) -> 6502 | M98: =YEAR(E98) -> 2005 | P98: =IF(MONTH(E98) =12, M98+1, M98) -> 2005
A99: WJR05-279 | B99: NMFWCO | C99: ORA 2004 | D99: 2 | E99: 38446 | F99: =VLOOKUP(C99, Pivot!A$2:C$999, 3, FALSE) -> 38296 | G99: =E99-F99 -> 150 | H99: 203.5 | I99: =H99 -> 203.5 | J99: 202 | K99: =IF(J99>H99, J99-H99, IF(J99<I99, J99-I99, 0)) -> -1.5 | L99: =VLOOKUP(C99, Pivot!A$2:B$999, 2, FALSE) -> 7845 | M99: =YEAR(E99) -> 2005 | P99: =IF(MONTH(E99) =12, M99+1, M99) -> 2005
A100: WJR05-280 | B100: NMFWCO | C100: OLA 2004 | D100: 1 | E100: 38446 | F100: =VLOOKUP(C100, Pivot!A$2:C$999, 3, FALSE) -> 38296 | G100: =E100-F100 -> 150 | H100: 203.5 | I100: =H100 -> 203.5 | J100: 199.9 | K100: =IF(J100>H100, J100-H100, IF(J100<I100, J100-I100, 0)) -> -3.6 | L100: =VLOOKUP(C100, Pivot!A$2:B$999, 2, FALSE) -> 6065 | M100: =YEAR(E100) -> 2005 | P100: =IF(MONTH(E100) =12, M100+1, M100) -> 2005
A101: WJR-5-277 | B101: NMFWCO | C101: RLA 2004 | D101: 1 | E101: 38446 | F101: =VLOOKUP(C101, Pivot!A$2:C$999, 3, FALSE) -> 38294 | G101: =E101-F101 -> 152 | H101: 203.5 | I101: =H101 -> 203.5 | J101: 198.3 | K101: =IF(J101>H101, J101-H101, IF(J101<I101, J101-I101, 0)) -> -5.2 | L101: =VLOOKUP(C101, Pivot!A$2:B$999, 2, FALSE) -> 6502 | M101: =YEAR(E101) -> 2005 | P101: =IF(MONTH(E101) =12, M101+1, M101) -> 2005
A102: RKD05-083 | B102: ASIR | C102: BLA 2005 | D102: 1 | E102: 38462 | F102: =VLOOKUP(C102, Pivot!A$2:C$999, 3, FALSE) -> 38455 | G102: =E102-F102 -> 7 | H102: 203.5 | I102: =H102 -> 203.5 | J102: 203.8 | K102: =IF(J102>H102, J102-H102, IF(J102<I102, J102-I102, 0)) -> 0.3 | L102: =VLOOKUP(C102, Pivot!A$2:B$999, 2, FALSE) -> 10242 | M102: =YEAR(E102) -> 2005 | P102: =IF(MONTH(E102) =12, M102+1, M102) -> 2005
A103: RKD05-084 | B103: ASIR | C103: BLA 2005 | D103: 1 | E103: 38462 | F103: =VLOOKUP(C103, Pivot!A$2:C$999, 3, FALSE) -> 38455 | G103: =E103-F103 -> 7 | H103: 203.5 | I103: =H103 -> 203.5 | J103: 200 | K103: =IF(J103>H103, J103-H103, IF(J103<I103, J103-I103, 0)) -> -3.5 | L103: =VLOOKUP(C103, Pivot!A$2:B$999, 2, FALSE) -> 10242 | M103: =YEAR(E103) -> 2005 | P103: =IF(MONTH(E103) =12, M103+1, M103) -> 2005
A104: WJR05-284 | B104: NMFWCO | C104: OLD 2002 | D104: 1 | E104: 38474 | F104: =VLOOKUP(C104, Pivot!A$2:C$999, 3, FALSE) -> 37599 | G104: =E104-F104 -> 875 | H104: 199.9 | I104: =H104 -> 199.9 | J104: 198.3 | K104: =IF(J104>H104, J104-H104, IF(J104<I104, J104-I104, 0)) -> -1.6 | L104: =VLOOKUP(C104, Pivot!A$2:B$999, 2, FALSE) -> 41500 | M104: =YEAR(E104) -> 2005 | P104: =IF(MONTH(E104) =12, M104+1, M104) -> 2005
A105: WJR05-285 | B105: NMFWCO | C105: WRA 2005 | D105: 1 | E105: 38474 | F105: =VLOOKUP(C105, Pivot!A$2:C$999, 3, FALSE) -> 38454 | G105: =E105-F105 -> 20 | H105: 203.5 | I105: =H105 -> 203.5 | J105: 199.9 | K105: =IF(J105>H105, J105-H105, IF(J105<I105, J105-I105, 0)) -> -3.6 | L105: =VLOOKUP(C105, Pivot!A$2:B$999, 2, FALSE) -> 5000 | M105: =YEAR(E105) -> 2005 | P105: =IF(MONTH(E105) =12, M105+1, M105) -> 2005
A106: WJR05-285 | B106: NMFWCO | C106: WLA 2005 | D106: 2 | E106: 38474 | F106: =VLOOKUP(C106, Pivot!A$2:C$999, 3, FALSE) -> 38454 | G106: =E106-F106 -> 20 | H106: 203.5 | I106: =H106 -> 203.5 | J106: 199.9 | K106: =IF(J106>H106, J106-H106, IF(J106<I106, J106-I106, 0)) -> -3.6 | L106: =VLOOKUP(C106, Pivot!A$2:B$999, 2, FALSE) -> 11080 | M106: =YEAR(E106) -> 2005 | P106: =IF(MONTH(E106) =12, M106+1, M106) -> 2005
A107: WJR05-285 | B107: NMFWCO | C107: PRA 2005 | D107: 3 | E107: 38474 | F107: =VLOOKUP(C107, Pivot!A$2:C$999, 3, FALSE) -> 38454.714 | G107: =E107-F107 -> 19.285714 | H107: 203.5 | I107: 192.2 | J107: 199.9 | K107: =IF(J107>H107, J107-H107, IF(J107<I107, J107-I107, 0)) -> 0 | L107: =VLOOKUP(C107, Pivot!A$2:B$999, 2, FALSE) -> 10654 | M107: =YEAR(E107) -> 2005 | P107: =IF(MONTH(E107) =12, M107+1, M107) -> 2005
A108: WJR05-285 | B108: NMFWCO | C108: PLA 2005 | D108: 1 | E108: 38474 | F108: =VLOOKUP(C108, Pivot!A$2:C$999, 3, FALSE) -> 38454.5 | G108: =E108-F108 -> 19.5 | H108: 203.5 | I108: =H108 -> 203.5 | J108: 199.9 | K108: =IF(J108>H108, J108-H108, IF(J108<I108, J108-I108, 0)) -> -3.6 | L108: =VLOOKUP(C108, Pivot!A$2:B$999, 2, FALSE) -> 18826 | M108: =YEAR(E108) -> 2005 | P108: =IF(MONTH(E108) =12, M108+1, M108) -> 2005
A109: WJR05-286 | B109: NMFWCO | C109: WRA 2005 | D109: 2 | E109: 38474 | F109: =VLOOKUP(C109, Pivot!A$2:C$999, 3, FALSE) -> 38454 | G109: =E109-F109 -> 20 | H109: 203.5 | I109: =H109 -> 203.5 | J109: 202 | K109: =IF(J109>H109, J109-H109, IF(J109<I109, J109-I109, 0)) -> -1.5 | L109: =VLOOKUP(C109, Pivot!A$2:B$999, 2, FALSE) -> 5000 | M109: =YEAR(E109) -> 2005 | P109: =IF(MONTH(E109) =12, M109+1, M109) -> 2005
A110: WJR05-286 | B110: NMFWCO | C110: WLA 2005 | D110: 1 | E110: 38474 | F110: =VLOOKUP(C110, Pivot!A$2:C$999, 3, FALSE) -> 38454 | G110: =E110-F110 -> 20 | H110: 203.5 | I110: =H110 -> 203.5 | J110: 202 | K110: =IF(J110>H110, J110-H110, IF(J110<I110, J110-I110, 0)) -> -1.5 | L110: =VLOOKUP(C110, Pivot!A$2:B$999, 2, FALSE) -> 11080 | M110: =YEAR(E110) -> 2005 | P110: =IF(MONTH(E110) =12, M110+1, M110) -> 2005
...

Sheet Sheet1
A1: rm | B1: rm
A2: 83.02 | B2: =VLOOKUP(A2,RKMtoRM!B:C,2,FALSE) -> #N/A
A3: 82.89 | B3: =VLOOKUP(Sheet1!#REF!,RKMtoRM!B:C,2,FALSE) -> #REF!
A4: 82.65 | B4: =VLOOKUP(Sheet1!#REF!,RKMtoRM!B:C,2,FALSE) -> #REF!
A5: 84.15 | B5: =VLOOKUP(Sheet1!#REF!,RKMtoRM!B:C,2,FALSE) -> #REF!
A6: 84.09 | B6: =VLOOKUP(Sheet1!#REF!,RKMtoRM!B:C,2,FALSE) -> #REF!
A7: 83.96 | B7: =VLOOKUP(Sheet1!#REF!,RKMtoRM!B:C,2,FALSE) -> #REF!
A8: 83.46 | B8: =VLOOKUP(Sheet1!#REF!,RKMtoRM!B:C,2,FALSE) -> #REF!
A9: 82.16 | B9: =VLOOKUP(Sheet1!#REF!,RKMtoRM!B:C,2,FALSE) -> #REF!
A10: 82.1 | B10: =VLOOKUP(Sheet1!#REF!,RKMtoRM!B:C,2,FALSE) -> #REF!
A11: 81.86 | B11: =VLOOKUP(Sheet1!#REF!,RKMtoRM!B:C,2,FALSE) -> #REF!
A12: 81.73 | B12: =VLOOKUP(Sheet1!#REF!,RKMtoRM!B:C,2,FALSE) -> #REF!
A13: 81.61 | B13: =VLOOKUP(Sheet1!#REF!,RKMtoRM!B:C,2,FALSE) -> #REF!
A14: 81.55 | B14: =VLOOKUP(Sheet1!#REF!,RKMtoRM!B:C,2,FALSE) -> #REF!
... A41: 94.06 | B41: =VLOOKUP(Sheet1!#REF!,RKMtoRM!B:C,2,FALSE) -> #REF!
B42: =VLOOKUP(Sheet1!#REF!,RKMtoRM!B:C,2,FALSE) -> #REF!
B43: =VLOOKUP(Sheet1!#REF!,RKMtoRM!B:C,2,FALSE) -> #REF!
B44: =VLOOKUP(Sheet1!#REF!,RKMtoRM!B:C,2,FALSE) -> #REF!

Sheet Pivot
A1: Row Labels | B1: Sum of Number | C1: Average of Date | D1: Max of RM | E1: Min of RM
A2: BLA 2005 | B2: 10242 | C2: 38455 | D2: 0 | E2: 0
A3: BLD 2005 | B3: 25436 | C3: 38663 | D3: 0 | E3: 0
A4: BLD 2020 | B4: 7935 | C4: 43913 | D4: 118.9 | E4: 111.9
A5: BRA 2005 | B5: 5011 | C5: 38455 | D5: 0 | E5: 0
A6: BRD 2005 | B6: 16282 | C6: 38664 | D6: 0 | E6: 0
A7: BRD 2018 | B7: 540 | C7: 43283 | D7: 115.6 | E7: 115.6
A8: BRD 2019 | B8: 11817 | C8: 43651.364 | D8: 118.9 | E8: 111.9
A9: BRD 2021 | B9: 14211 | C9: 44392.667 | D9: 154.5 | E9: 86.6
A10: GLA 2004 | B10: 6879 | C10: 38296 | D10: 0 | E10: 0
A11: GLD 2002 | B11: 7300 | C11: 37258 | D11: 101.6 | E11: 101.6
A12: GLD 2003 | B12: 61118 | C12: 37623 | D12: 203.2 | E12: 203.2
A13: GLD 2005 | B13: 10357 | C13: 38498 | D13: 177.9 | E13: 177.9
... A88: YRD 2021 | B88: 42000 | C88: 44529.667 | D88: 182.8 | E88: 86.3
A89: (blank)
A90: none 2004 | B90: 84651 | C90: 38035 | D90: 197.8 | E90: 197.8
A91: none 2006 | B91: 161568 | C91: 39023 | D91: 67.5 | E91: 67.5
A92: non 2007 | B92: 17000 | C92: 39233 | D92: 181 | E92: 181
A93: none 2020 | B93: 139306 | C93: 44154 | D93: 207.3 | E93: 103.2
A94: none 2021 | B94: 99625 | C94: 44510 | D94: 206.8 | E94: 113.7
A95: BLD 2018 | B95: 196 | C95: 43249 | D95: 115.6 | E95: 115.6
A96: N 2021 | B96: 664 | C96: 44538 | D96: 95.7 | E96: 95.7
A97: N 2022 | B97: 2993 | C97: 44627 | D97: 154.5 | E97: 118.9
A98: RLD 2022 | B98: 126504 | C98: 44890.25 | D98: 191.1 | E98: 92.3
A99: DRD 2021 | B99: 512 | C99: 44538 | D99: 95.7 | E99: 95.7
A100: RLD 2023 | B100: 32236 | C100: 44974.333 | D100: 118.7 | E100: 111.9
A101: RRD 2023 | B101: 46484 | C101: 45259.333 | D101: 86.3 | E101: 86.3
... A103: Grand Total | B103: 3833866 | C103: 41561.118 | D103: 207.3 | E103: 56.3

Sheet FishK
A1: Date | B1: Location | C1: Source | D1: Tank | E1: TL | F1: Standard Length | G1: Weight | H1: Clip | I1: converted.TL | J1: Ktl
A2: 44141 | B2: SNARRC | C2: NA | D2: NA | E2: 57 | F2: 45.34 | G2: 1.74 | H2: NA | I2: NA | J2: =IF(ISNUMBER(I2),(G2/I2^3*100000),(G2/E2^3*100000)) -> 0.93956035
A3: 44141 | B3: SNARRC | C3: NA | D3: NA | E3: 63 | F3: 50.314 | G3: 2.44 | H3: NA | I3: NA | J3: =IF(ISNUMBER(I3),(G3/I3^3*100000),(G3/E3^3*100000)) -> 0.97581655
A4: 44141 | B4: SNARRC | C4: NA | D4: NA | E4: 61 | F4: 48.656 | G4: 2.28 | H4: NA | I4: NA | J4: =IF(ISNUMBER(I4),(G4/I4^3*100000),(G4/E4^3*100000)) -> 1.0044894
A5: 44141 | B5: SNARRC | C5: NA | D5: NA | E5: 75 | F5: 60.262 | G5: 3.53 | H5: NA | I5: NA | J5: =IF(ISNUMBER(I5),(G5/I5^3*100000),(G5/E5^3*100000)) -> 0.83674074
A6: 44141 | B6: SNARRC | C6: NA | D6: NA | E6: 42 | F6: 32.905 | G6: 0.65 | H6: NA | I6: NA | J6: =IF(ISNUMBER(I6),(G6/I6^3*100000),(G6/E6^3*100000)) -> 0.87733506
A7: 44141 | B7: SNARRC | C7: NA | D7: NA | E7: 70 | F7: 56.117 | G7: 3.09 | H7: NA | I7: NA | J7: =IF(ISNUMBER(I7),(G7/I7^3*100000),(G7/E7^3*100000)) -> 0.90087464
A8: 44141 | B8: SNARRC | C8: NA | D8: NA | E8: 73 | F8: 58.604 | G8: 3.21 | H8: NA | I8: NA | J8: =IF(ISNUMBER(I8),(G8/I8^3*100000),(G8/E8^3*100000)) -> 0.82515674
A9: 44141 | B9: SNARRC | C9: NA | D9: NA | E9: 50 | F9: 39.537 | G9: 1.28 | H9: NA | I9: NA | J9: =IF(ISNUMBER(I9),(G9/I9^3*100000),(G9/E9^3*100000)) -> 1.024
A10: 44141 | B10: SNARRC | C10: NA | D10: NA | E10: 61 | F10: 48.656 | G10: 2.16 | H10: NA | I10: NA | J10: =IF(ISNUMBER(I10),(G10/I10^3*100000),(G10/E10^3*100000)) -> 0.9516215
A11: 44141 | B11: SNARRC | C11: NA | D11: NA | E11: 42 | F11: 32.905 | G11: 0.7 | H11: NA | I11: NA | J11: =IF(ISNUMBER(I11),(G11/I11^3*100000),(G11/E11^3*100000)) -> 0.94482237
A12: 44141 | B12: SNARRC | C12: NA | D12: NA | E12: 74 | F12: 59.433 | G12: 3.11 | H12: NA | I12: NA | J12: =IF(ISNUMBER(I12),(G12/I12^3*100000),(G12/E12^3*100000)) -> 0.76747675
A13: 44141 | B13: SNARRC | C13: NA | D13: NA | E13: 60 | F13: 47.827 | G13: 1.89 | H13: NA | I13: NA | J13: =IF(ISNUMBER(I13),(G13/I13^3*100000),(G13/E13^3*100000)) -> 0.875
... A51: 44141 | B51: SNARRC | C51: NA | D51: NA | E51: 53 | F51: 42.024 | G51: 1.32 | H51: NA | I51: NA | J51: =IF(ISNUMBER(I51),(G51/I51^3*100000),(G51/E51^3*100000)) -> 0.88663796
A52: 44112 | B52: BioPark | C52: NA | D52: NA | E52: NA | F52: 50.314 | G52: 1 | H52: Yes | I52: =1.203*F52+2.545 -> 63.072742 | J52: =IF(ISNUMBER(I52),(G52/I52^3*100000),(G52/E52^3*100000)) -> 0.39854271
A53: 44112 | B53: BioPark | C53: NA | D53: NA | E53: NA | F53: 42 | G53: 1.4 | H53: Yes | I53: =1.203*F53+2.545 -> 53.071 | J53: =IF(ISNUMBER(I53),(G53/I53^3*100000),(G53/E53^3*100000)) -> 0.93660446
A54: 44112 | B54: BioPark | C54: NA | D54: NA | E54: NA | F54: 43 | G54: 1.23 | H54: Yes | I54: =1.203*F54+2.545 -> 54.274 | J54: =IF(ISNUMBER(I54),(G54/I54^3*100000),(G54/E54^3*100000)) -> 0.76936003
A55: 44112 | B55: BioPark | C55: NA | D55: NA | E55: NA | F55: 44 | G55: 1.47 | H55: Yes | I55: =1.203*F55+2.545 -> 55.477 | J55: =IF(ISNUMBER(I55),(G55/I55^3*100000),(G55/E55^3*100000)) -> 0.86095099
A56: 44112 | B56: BioPark | C56: NA | D56: NA | E56: NA | F56: 47 | G56: 1.81 | H56: Yes | I56: =1.203*F56+2.545 -> 59.086 | J56: =IF(ISNUMBER(I56),(G56/I56^3*100000),(G56/E56^3*100000)) -> 0.8774549
A57: 44112 | B57: BioPark | C57: NA | D57: NA | E57: NA | F57: 46 | G57: 1.72 | H57: No | I57: =1.203*F57+2.545 -> 57.883 | J57: =IF(ISNUMBER(I57),(G57/I57^3*100000),(G57/E57^3*100000)) -> 0.88690142
A58: 44112 | B58: BioPark | C58: NA | D58: NA | E58: NA | F58: 42 | G58: 1.49 | H58: Yes | I58: =1.203*F58+2.545 -> 53.071 | J58: =IF(ISNUMBER(I58),(G58/I58^3*100000),(G58/E58^3*100000)) -> 0.99681475
A59: 44112 | B59: BioPark | C59: NA | D59: NA | E59: NA | F59: 48 | G59: 1.88 | H59: Yes | I59: =1.203*F59+2.545 -> 60.289 | J59: =IF(ISNUMBER(I59),(G59/I59^3*100000),(G59/E59^3*100000)) -> 0.85791371
A60: 44112 | B60: BioPark | C60: NA | D60: NA | E60: NA | F60: 48 | G60: 1.8 | H60: Yes | I60: =1.203*F60+2.545 -> 60.289 | J60: =IF(ISNUMBER(I60),(G60/I60^3*100000),(G60/E60^3*100000)) -> 0.82140674
A61: 44112 | B61: BioPark | C61: NA | D61: NA | E61: NA | F61: 42 | G61: 1.25 | H61: Yes | I61: =1.203*F61+2.545 -> 53.071 | J61: =IF(ISNUMBER(I61),(G61/I61^3*100000),(G61/E61^3*100000)) -> 0.83625398
A62: 44112 | B62: BioPark | C62: NA | D62: NA | E62: NA | F62: 42 | G62: 1.49 | H62: Yes | I62: =1.203*F62+2.545 -> 53.071 | J62: =IF(ISNUMBER(I62),(G62/I62^3*100000),(G62/E62^3*100000)) -> 0.99681475
A63: 44112 | B63: BioPark | C63: NA | D63: NA | E63: NA | F63: 47 | G63: 1.57 | H63: Yes | I63: =1.203*F63+2.545 -> 59.086 | J63: =IF(ISNUMBER(I63),(G63/I63^3*100000),(G63/E63^3*100000)) -> 0.76110729
... A152: 44112 | B152: Los Lunas | C152: NA | D152: NA | E152: NA | F152: 38 | G152: 0.9 | H152: Yes | I152: =1.203*F152+2.545 -> 48.259 | J152: =IF(ISNUMBER(I152),(G152/I152^3*100000),(G152/E152^3*100000)) -> 0.80076956
A153: 44489 | B153: LLSMR | C153: D-series | D153: NA | E153: 51 | F153: 42 | G153: 1.22 | H153: No | I153: NA | J153: =IF(ISNUMBER(I153),(G153/I153^3*100000),(G153/E153^3*100000)) -> 0.9197066
A154: 44489 | B154: LLSMR | C154: D-series | D154: NA | E154: 48 | F154: 38 | G154: 0.9 | H154: No | I154: NA | J154: =IF(ISNUMBER(I154),(G154/I154^3*100000),(G154/E154^3*100000)) -> 0.81380208
A155: 44489 | B155: LLSMR | C155: D-series | D155: NA | E155: 60 | F155: 49 | G155: 2.11 | H155: No | I155: NA | J155: =IF(ISNUMBER(I155),(G155/I155^3*100000),(G155/E155^3*100000)) -> 0.97685185
A156: 44489 | B156: LLSMR | C156: D-series | D156: NA | E156: 57 | F156: 46 | G156: 1.64 | H156: No | I156: NA | J156: =IF(ISNUMBER(I156),(G156/I156^3*100000),(G156/E156^3*100000)) -> 0.88556263
A157: 44489 | B157: LLSMR | C157: D-series | D157: NA | E157: 51 | F157: 42 | G157: 1.28 | H157: No | I157: NA | J157: =IF(ISNUMBER(I157),(G157/I157^3*100000),(G157/E157^3*100000)) -> 0.96493807
A158: 44489 | B158: LLSMR | C158: D-series | D158: NA | E158: 58 | F158: 47 | G158: 1.85 | H158: No | I158: NA | J158: =IF(ISNUMBER(I158),(G158/I158^3*100000),(G158/E158^3*100000)) -> 0.94817336
A159: 44489 | B159: LLSMR | C159: D-series | D159: NA | E159: 59 | F159: 47 | G159: 1.7 | H159: No | I159: NA | J159: =IF(ISNUMBER(I159),(G159/I159^3*100000),(G159/E159^3*100000)) -> 0.82773799
A160: 44489 | B160: LLSMR | C160: D-series | D160: NA | E160: 55 | F160: 45 | G160: 1.39 | H160: No | I160: NA | J160: =IF(ISNUMBER(I160),(G160/I160^3*100000),(G160/E160^3*100000)) -> 0.83546206
A161: 44489 | B161: LLSMR | C161: D-series | D161: NA | E161: 54 | F161: 44 | G161: 1.24 | H161: No | I161: NA | J161: =IF(ISNUMBER(I161),(G161/I161^3*100000),(G161/E161^3*100000)) -> 0.78748158
A162: 44489 | B162: LLSMR | C162: D-series | D162: NA | E162: 59 | F162: 48 | G162: 1.8 | H162: No | I162: NA | J162: =IF(ISNUMBER(I162),(G162/I162^3*100000),(G162/E162^3*100000)) -> 0.87642846
A163: 44489 | B163: LLSMR | C163: D-series | D163: NA | E163: 56 | F163: 46 | G163: 1.59 | H163: No | I163: NA | J163: =IF(ISNUMBER(I163),(G163/I163^3*100000),(G163/E163^3*100000)) -> 0.90538448
A164: 44489 | B164: LLSMR | C164: D-series | D164: NA | E164: 55 | F164: 44 | G164: 1.42 | H164: No | I164: NA | J164: =IF(ISNUMBER(I164),(G164/I164^3*100000),(G164/E164^3*100000)) -> 0.85349361
... A302: 44503 | B302: SNARRC | C302: NA | D302: NA | E302: 59 | F302: 49 | G302: 2.02 | H302: No | I302: NA | J302: =IF(ISNUMBER(I302),(G302/I302^3*100000),(G302/E302^3*100000)) -> 0.98354749
A303: 44859 | B303: BioPark | C303: ABP22-1CS | D303: B1 | E303: 40 | F303: 36 | G303: 0.7 | I303: NA | J303: =IF(ISNUMBER(I303),(G303/I303^3*100000),(G303/E303^3*100000)) -> 1.09375
A304: 44859 | B304: BioPark | C304: ABP22-1CS | D304: B1 | E304: 28 | F304: 22 | G304: 0.15 | I304: NA | J304: =IF(ISNUMBER(I304),(G304/I304^3*100000),(G304/E304^3*100000)) -> 0.68330904
A305: 44859 | B305: BioPark | C305: ABP22-1CS | D305: B1 | E305: 26 | F305: 20 | G305: 0.11 | I305: NA | J305: =IF(ISNUMBER(I305),(G305/I305^3*100000),(G305/E305^3*100000)) -> 0.62585344
A306: 44859 | B306: BioPark | C306: ABP22-1CS | D306: B1 | E306: 31 | F306: 27 | G306: 0.25 | I306: NA | J306: =IF(ISNUMBER(I306),(G306/I306^3*100000),(G306/E306^3*100000)) -> 0.83917962
A307: 44859 | B307: BioPark | C307: ABP22-1CS | D307: B1 | E307: 34 | F307: 28 | G307: 0.26 | I307: NA | J307: =IF(ISNUMBER(I307),(G307/I307^3*100000),(G307/E307^3*100000)) -> 0.66151028
A308: 44859 | B308: BioPark | C308: ABP22-1CS | D308: B1 | E308: 37 | F308: 30 | G308: 0.27 | I308: NA | J308: =IF(ISNUMBER(I308),(G308/I308^3*100000),(G308/E308^3*100000)) -> 0.53303852
A309: 44859 | B309: BioPark | C309: ABP22-1CS | D309: B1 | E309: 31 | F309: 27 | G309: 0.21 | I309: NA | J309: =IF(ISNUMBER(I309),(G309/I309^3*100000),(G309/E309^3*100000)) -> 0.70491088
A310: 44859 | B310: BioPark | C310: ABP22-1CS | D310: B1 | E310: 61 | F310: 51 | G310: 2.31 | I310: NA | J310: =IF(ISNUMBER(I310),(G310/I310^3*100000),(G310/E310^3*100000)) -> 1.0177063
A311: 44859 | B311: BioPark | C311: ABP22-1CS | D311: B1 | E311: 33 | F311: 28 | G311: 0.4 | I311: NA | J311: =IF(ISNUMBER(I311),(G311/I311^3*100000),(G311/E311^3*100000)) -> 1.113059
A312: 44859 | B312: BioPark | C312: ABP22-1CS | D312: B1 | E312: 54 | F312: 45 | G312: 1.47 | I312: NA | J312: =IF(ISNUMBER(I312),(G312/I312^3*100000),(G312/E312^3*100000)) -> 0.93354672
A313: 44859 | B313: BioPark | C313: ABP22-1CS | D313: B1 | E313: 40 | F313: 33 | G313: 0.57 | I313: NA | J313: =IF(ISNUMBER(I313),(G313/I313^3*100000),(G313/E313^3*100000)) -> 0.890625
A314: 44859 | B314: BioPark | C314: ABP22-1CS | D314: B1 | E314: 48 | F314: 40 | G314: 0.9 | I314: NA | J314: =IF(ISNUMBER(I314),(G314/I314^3*100000),(G314/E314^3*100000)) -> 0.81380208
... A510: 44859 | B510: Los Lunas | C510: BioPark | D510: NA | E510: 39 | F510: 31 | G510: 0.64 | I510: NA | J510: =IF(ISNUMBER(I510),(G510/I510^3*100000),(G510/E510^3*100000)) -> 1.0789123
A511: 44859 | B511: Los Lunas | C511: BioPark | D511: NA | E511: 25 | F511: 21 | G511: 0.27 | I511: NA | J511: =IF(ISNUMBER(I511),(G511/I511^3*100000),(G511/E511^3*100000)) -> 1.728 | K511: Weight likely wrong
A512: 44859 | B512: Los Lunas | C512: BioPark | D512: NA | E512: 31 | F512: 25 | G512: 0.56 | I512: NA | J512: =IF(ISNUMBER(I512),(G512/I512^3*100000),(G512/E512^3*100000)) -> 1.8797623 | K512: Weight likely wrong
A513: 44859 | B513: Los Lunas | C513: BioPark | D513: NA | E513: 37 | F513: 30 | G513: 0.47 | I513: NA | J513: =IF(ISNUMBER(I513),(G513/I513^3*100000),(G513/E513^3*100000)) -> 0.92788186
A514: 44859 | B514: Los Lunas | C514: BioPark | D514: NA | E514: 26 | F514: 21 | G514: 0.19 | I514: NA | J514: =IF(ISNUMBER(I514),(G514/I514^3*100000),(G514/E514^3*100000)) -> 1.0810196
A515: 44859 | B515: Los Lunas | C515: BioPark | D515: NA | E515: 35 | F515: 27 | G515: 0.36 | I515: NA | J515: =IF(ISNUMBER(I515),(G515/I515^3*100000),(G515/E515^3*100000)) -> 0.83965015
A516: 44859 | B516: Los Lunas | C516: BioPark | D516: NA | E516: 31 | F516: 24 | G516: 0.26 | I516: NA | J516: =IF(ISNUMBER(I516),(G516/I516^3*100000),(G516/E516^3*100000)) -> 0.8727468
A517: 44859 | B517: Los Lunas | C517: BioPark | D517: NA | E517: 24 | F517: 18 | G517: 0.11 | I517: NA | J517: =IF(ISNUMBER(I517),(G517/I517^3*100000),(G517/E517^3*100000)) -> 0.79571759
A518: 44859 | B518: Los Lunas | C518: BioPark | D518: NA | E518: 26 | F518: 21 | G518: 0.15 | I518: NA | J518: =IF(ISNUMBER(I518),(G518/I518^3*100000),(G518/E518^3*100000)) -> 0.8534365
A519: 44859 | B519: Los Lunas | C519: BioPark | D519: NA | E519: 25 | F519: 19 | G519: 0.15 | I519: NA | J519: =IF(ISNUMBER(I519),(G519/I519^3*100000),(G519/E519^3*100000)) -> 0.96
A520: 44859 | B520: Los Lunas | C520: BioPark | D520: NA | E520: 35 | F520: 29 | G520: 0.36 | I520: NA | J520: =IF(ISNUMBER(I520),(G520/I520^3*100000),(G520/E520^3*100000)) -> 0.83965015
A521: 44859 | B521: Los Lunas | C521: BioPark | D521: NA | E521: 38 | F521: 30 | G521: 0.58 | I521: NA | J521: =IF(ISNUMBER(I521),(G521/I521^3*100000),(G521/E521^3*100000)) -> 1.0570054
A522: 44859 | B522: Los Lunas | C522: BioPark | D522: NA | E522: 38 | F522: 30 | G522: 0.48 | I522: NA | J522: =IF(ISNUMBER(I522),(G522/I522^3*100000),(G522/E522^3*100000)) -> 0.87476308
A523: 44859 | B523: Los Lunas | C523: BioPark | D523: NA | E523: 37 | F523: 30 | G523: 0.46 | I523: NA | J523: =IF(ISNUMBER(I523),(G523/I523^3*100000),(G523/E523^3*100000)) -> 0.9081397
A524: 44859 | B524: Los Lunas | C524: BioPark | D524: NA | E524: 34 | F524: 25 | G524: 0.33 | I524: NA | J524: =IF(ISNUMBER(I524),(G524/I524^3*100000),(G524/E524^3*100000)) -> 0.8396092
... A533: 44859 | B533: Los Lunas | C533: BioPark | D533: NA | E533: 31 | F533: 26 | G533: 0.4 | I533: NA | J533: =IF(ISNUMBER(I533),(G533/I533^3*100000),(G533/E533^3*100000)) -> 1.3426874
A534: 44859 | B534: Los Lunas | C534: BioPark | D534: NA | E534: 29 | F534: 24 | I534: NA | J534: =IF(ISNUMBER(I534),(G534/I534^3*100000),(G534/E534^3*100000)) -> 0
A535: 44859 | B535: Los Lunas | C535: BioPark | D535: NA | E535: 30 | F535: 22 | G535: 0.24 | I535: NA | J535: =IF(ISNUMBER(I535),(G535/I535^3*100000),(G535/E535^3*100000)) -> 0.88888889
A536: 44859 | B536: Los Lunas | C536: BioPark | D536: NA | E536: 25 | F536: 20 | G536: 0.11 | I536: NA | J536: =IF(ISNUMBER(I536),(G536/I536^3*100000),(G536/E536^3*100000)) -> 0.704
A537: 44859 | B537: Los Lunas | C537: BioPark | D537: NA | E537: 30 | F537: 24 | G537: 0.2 | I537: NA | J537: =IF(ISNUMBER(I537),(G537/I537^3*100000),(G537/E537^3*100000)) -> 0.74074074
A538: 44859 | B538: Los Lunas | C538: BioPark | D538: NA | E538: 30 | F538: 24 | G538: 0.26 | I538: NA | J538: =IF(ISNUMBER(I538),(G538/I538^3*100000),(G538/E538^3*100000)) -> 0.96296296
A539: 44859 | B539: Los Lunas | C539: BioPark | D539: NA | E539: 35 | F539: 27 | G539: 0.33 | I539: NA | J539: =IF(ISNUMBER(I539),(G539/I539^3*100000),(G539/E539^3*100000)) -> 0.7696793
A540: 44859 | B540: Los Lunas | C540: BioPark | D540: NA | E540: 27 | F540: 24 | G540: 0.25 | I540: NA | J540: =IF(ISNUMBER(I540),(G540/I540^3*100000),(G540/E540^3*100000)) -> 1.2701316
A541: 44859 | B541: Los Lunas | C541: BioPark | D541: NA | E541: 30 | F541: 23 | G541: 0.22 | I541: NA | J541: =IF(ISNUMBER(I541),(G541/I541^3*100000),(G541/E541^3*100000)) -> 0.81481481
A542: 44859 | B542: Los Lunas | C542: BioPark | D542: NA | E542: 28 | F542: 23 | G542: 0.21 | I542: NA | J542: =IF(ISNUMBER(I542),(G542/I542^3*100000),(G542/E542^3*100000)) -> 0.95663265
A543: 44859 | B543: Los Lunas | C543: BioPark | D543: NA | E543: 23 | F543: 18 | G543: 0.1 | I543: NA | J543: =IF(ISNUMBER(I543),(G543/I543^3*100000),(G543/E543^3*100000)) -> 0.82189529
A544: 44859 | B544: Los Lunas | C544: BioPark | D544: NA | E544: 30 | F544: 23 | G544: 0.21 | I544: NA | J544: =IF(ISNUMBER(I544),(G544/I544^3*100000),(G544/E544^3*100000)) -> 0.77777778
A545: 44859 | B545: Los Lunas | C545: BioPark | D545: NA | E545: 32 | F545: 26 | G545: 0.31 | I545: NA | J545: =IF(ISNUMBER(I545),(G545/I545^3*100000),(G545/E545^3*100000)) -> 0.94604492
A546: 44859 | B546: Los Lunas | C546: BioPark | D546: NA | E546: 41 | F546: 34 | G546: 0.7 | I546: NA | J546: =IF(ISNUMBER(I546),(G546/I546^3*100000),(G546/E546^3*100000)) -> 1.0156556
... A550: 44859 | B550: Los Lunas | C550: BioPark | D550: NA | E550: 35 | F550: 27 | G550: 0.43 | I550: NA | J550: =IF(ISNUMBER(I550),(G550/I550^3*100000),(G550/E550^3*100000)) -> 1.0029155
A551: 44859 | B551: Los Lunas | C551: BioPark | D551: NA | E551: 30 | F551: 25 | G551: 0.62 | I551: NA | J551: =IF(ISNUMBER(I551),(G551/I551^3*100000),(G551/E551^3*100000)) -> 2.2962963 | K551: Weight likely wrong
A552: 44859 | B552: Los Lunas | C552: BioPark | D552: NA | E552: 27 | F552: 21 | G552: 0.23 | I552: NA | J552: =IF(ISNUMBER(I552),(G552/I552^3*100000),(G552/E552^3*100000)) -> 1.1685211
A553: 44872 | B553: SNARRC | C553: 2C(1-15) | D553: NA | E553: 67 | F553: 55 | G553: 2.89 | I553: NA | J553: =IF(ISNUMBER(I553),(G553/I553^3*100000),(G553/E553^3*100000)) -> 0.96088947
A554: 44872 | B554: SNARRC | C554: 2C(1-15) | D554: NA | E554: 65 | F554: 58 | G554: 2.36 | I554: NA | J554: =IF(ISNUMBER(I554),(G554/I554^3*100000),(G554/E554^3*100000)) -> 0.85935366
A555: 44872 | B555: SNARRC | C555: 2C(1-15) | D555: NA | E555: 66 | F555: 58 | G555: 2.65 | I555: NA | J555: =IF(ISNUMBER(I555),(G555/I555^3*100000),(G555/E555^3*100000)) -> 0.92175195
A556: 44872 | B556: SNARRC | C556: 2C(1-15) | D556: NA | E556: 68 | F556: 57 | G556: 2.7 | I556: NA | J556: =IF(ISNUMBER(I556),(G556/I556^3*100000),(G556/E556^3*100000)) -> 0.85869123
A557: 44872 | B557: SNARRC | C557: 2C(1-15) | D557: NA | E557: 55 | F557: 49 | G557: 1.65 | I557: NA | J557: =IF(ISNUMBER(I557),(G557/I557^3*100000),(G557/E557^3*100000)) -> 0.99173554
A558: 44872 | B558: SNARRC | C558: 2C(1-15) | D558: NA | E558: 66 | F558: 56 | G558: 2.81 | I558: NA | J558: =IF(ISNUMBER(I558),(G558/I558^3*100000),(G558/E558^3*100000)) -> 0.9774049
A559: 44872 | B559: SNARRC | C559: 2C(1-15) | D559: NA | E559: 65 | F559: 58 | G559: 1.83 | I559: NA | J559: =IF(ISNUMBER(I559),(G559/I559^3*100000),(G559/E559^3*100000)) -> 0.66636322
A560: 44872 | B560: SNARRC | C560: 2C(1-15) | D560: NA | E560: 66 | F560: 55 | G560: 2.76 | I560: NA | J560: =IF(ISNUMBER(I560),(G560/I560^3*100000),(G560/E560^3*100000)) -> 0.96001336
A561: 44872 | B561: SNARRC | C561: 2C(1-15) | D561: NA | E561: 54 | F561: 49 | G561: 1.48 | I561: NA | J561: =IF(ISNUMBER(I561),(G561/I561^3*100000),(G561/E561^3*100000)) -> 0.93989737
A562: 44872 | B562: SNARRC | C562: 2C(1-15) | D562: NA | E562: 59 | F562: 55 | G562: 1.62 | I562: NA | J562: =IF(ISNUMBER(I562),(G562/I562^3*100000),(G562/E562^3*100000)) -> 0.78878561
A563: 44872 | B563: SNARRC | C563: 2C(1-15) | D563: NA | E563: 62 | F563: 53 | G563: 2.62 | I563: NA | J563: =IF(ISNUMBER(I563),(G563/I563^3*100000),(G563/E563^3*100000)) -> 1.0993253
... A672: 44872 | B672: SNARRC | C672: 4D (106-120) | D672: NA | E672: 49 | F672: 40 | G672: 1.18 | I672: NA | J672: =IF(ISNUMBER(I672),(G672/I672^3*100000),(G672/E672^3*100000)) -> 1.0029835

Sheet Metadata
A1: Sheet | H1: RM | I1: Latitude | J1: Longitude
A2: Recaptures | B2: Agency | E2: Site | F2: RM | H2: 21.4 | I2: 33.154143 | J2: -107.19192
B3: ASIR | C3: American Southwest Ichthyological Researchers | E3: Santa Ana Pueblo | F3: 207.3 | H3: 21.5 | I3: 33.155047 | J3: -107.19068
B4: NMES | C4: New Mexico Ecological Services | E4: Sandia Pueblo | F4: 197.8 | H4: 21.6 | I4: 33.155823 | J4: -107.18951
B5: NMFWCO | C5: New Mexico Fish and Wildlife Conservation Office | E5: Alameda Bridge | F5: 191.1 | H5: 21.7 | I5: 33.157073 | J5: -107.18841
B6: BOR | C6: Bureau Of Reclamation | E6: Bridge Street | F6: 181 | H6: 21.8 | I6: 33.157992 | J6: -107.1872
B7: SAP | C7: Santa Ana Pueblo | E7: Los Lunas | F7: 161.5 | H7: 21.9 | I7: 33.158816 | J7: -107.1859
B8: UNM | C8: University of New Mexico | E8: Peralta Wasteway Outfall | F8: 152.7 | H8: 22 | I8: 33.159577 | J8: -107.18457
B9: USACE | C9: United States Army Corps of Engineers | E9: Jarales Bridge | F9: 141.3 | H9: 22.1 | I9: 33.160407 | J9: -107.18329
B10: SWCA | C10: SWCA, Environmental Consultants | E10: Sabinal Drain Outfall | F10: 138.3 | H10: 22.2 | I10: 33.161419 | J10: -107.18214
B11: Mark | E11: Bernardo | F11: 131.1 | H11: 22.3 | I11: 33.162431 | J11: -107.18098
B12: First/second Letter | C12: Color: W - White, PU - Purple, P - Pink, G - Green, B - Blue, R - Red, O - Orange, Y - Yellow, RG - Red and Green | E12: Rio Puerco Confluence | F12: 127.9 | H12: 22.4 | I12: 33.163574 | J12: -107.17975
B13: Second Letter | C13: Side: R - Right, L - Left | E13: SADD | F13: 115.6 | H13: 22.5 | I13: 33.164676 | J13: -107.17891
B14: Third Letter | C14: Location: D - Dorsal, A - Anal | E14: Socorro | F14: 101.6 | H14: 22.6 | I14: 33.166162 | J14: -107.17869
B15: Year | C15: Year of release | E15: Brown's Arroyo | F15: 95.7 | H15: 22.7 | I15: 33.167604 | J15: -107.17903
E16: North Boundary BDANWR | F16: 86.5 | H16: 22.8 | I16: 33.168969 | J16: -107.17973
B17: RM Released | E17: Mid-BDANWR | F17: 80.4 | H17: 22.9 | I17: 33.170127 | J17: -107.18072
B18: Max RM Released | C18: Upstream most site released at | E18: San Marcial | F18: 67.5 | H18: 23 | I18: 33.171165 | J18: -107.18183
B19: Min RM Released | C19: Downstream mose site released at, unless that particular color was only released at one site, then same as max | E19: 1.5 mi below SADD | F19: 114.2 | H19: 23.1 | I19: 33.171923 | J19: -107.18317
E20: Neil Cupp | F20: 92.2 | H20: 23.2 | I20: 33.172791 | J20: -107.18469
E21: Above SADD | F21: 117.8 | H21: 23.3 | I21: 33.173645 | J21: -107.18542
E22: 8 mi below San Marcial | F22: 58.5 | H22: 23.4 | I22: 33.175084 | J22: -107.18637
E23: 10 miles below SMRRXG | F23: 56.3 | H23: 23.5 | I23: 33.176331 | J23: -107.1872
B24: Santa Ana Pueblo | C24: 207.3 | E24: Belen | F24: 149.9 | H24: 23.6 | I24: 33.177842 | J24: -107.18764
B25: Sandia Pueblo | C25: 197.8 | E25: San Antonio | F25: 89.7 | H25: 23.7 | I25: 33.179313 | J25: -107.18807
B26: Alameda Bridge | C26: 191.1 | E26: Bernalillo | F26: 203.2 | H26: 23.8 | I26: 33.180815 | J26: -107.18833
B27: Bridge Street | C27: 181 | E27: Rio Bravo | F27: 177.9 | H27: 23.9 | I27: 33.182348 | J27: -107.18839
B28: Los Lunas | C28: 161.5 | E28: Central Bridge | F28: 182.8 | H28: 24 | I28: 33.18388 | J28: -107.18836
B29: Peralta Wasteway Outfall | C29: 152.7 | E29: Escondida | F29: 104.8 | H29: 24.1 | I29: 33.185366 | J29: -107.18807
B30: Jarales Bridge | C30: 141.3 | E30: RGSM Sanctuary | F30: 179.7 | H30: 24.2 | I30: 33.186768 | J30: -107.18745
B31: Sabinal Drain Outfall | C31: 138.3 | E31: La Joya | F31: 131.1 | H31: 24.3 | I31: 33.188002 | J31: -107.18656
B32: Bernardo | C32: 131.1 | E32: SANDIA LINE 14 | F32: 200.8 | H32: 24.4 | I32: 33.188989 | J32: -107.1854
B33: Rio Puerco Confluence | C33: 127.9 | E33: LOMITAS NEGRAS | F33: 197.8 | H33: 24.5 | I33: 33.190279 | J33: -107.18473
B34: SADD | C34: 114.2 | E34: DIXON ROAD | F34: 195.2 | H34: 24.6 | I34: 33.191788 | J34: -107.18466
B35: Socorro | C35: 101.6 | E35: NORTH AMAFCA | F35: 193.5 | H35: 24.7 | I35: 33.193233 | J35: -107.18514
... B39: San Marcial | C39: 67.5 | E39: IDD | F39: 169.3 | H39: 25.1 | I39: 33.198995 | J39: -107.18689
E40: LP2DR | F40: 145.1 | H40: 25.2 | I40: 33.200498 | J40: -107.18701
A41: Releases | B41: Date | C41: Date released | E41: LP2DR OUTFALL | F41: 145.1 | H41: 25.3 | I41: 33.20201 | J41: -107.18723
B42: Color | C42: Visible tag color | E42: SABINAL DRAIN | F42: 138.3 | H42: 25.4 | I42: 33.203613 | J42: -107.18756
B43: Side | C43: Side of fish (left or right) of visible tag | E43: SABINAL OUTFALL | F43: 138.3 | H43: 25.5 | I43: 33.204712 | J43: -107.18811
B44: Location | C44: location of visible tag (pre/post dorsal, anal) | E44: LSJDR 2 | F44: 130.2 | H44: 25.6 | I44: 33.206446 | J44: -107.18822
B45: Number | C45: Number of fish released | E45: LSJDR 1 | F45: 126.7 | H45: 25.7 | I45: 33.207971 | J45: -107.18838
B46: Agency | C46: Agency releasing the fish | E46: LSJDR OUTFALL | F46: 126.7 | H46: 25.8 | I46: 33.209534 | J46: -107.18866
B47: Facility | C47: Facility raising the fish (Dexter = Southwestern Native Aquatic Resources & Recovery Center, BioPark = Albuquerque BioPark, LLSMR = Los Lunas Silvery Minnow Refugium) | E47: SEVILLETA | F47: 125.5 | H47: 25.9 | I47: 33.210857 | J47: -107.18932
B48: Lot Number | C48: ID of fish if available | E48: DURAND OPEN SPACE | F48: 175.9 | H48: 26 | I48: 33.212215 | J48: -107.19003
B49: Source of fish | C49: Facility that spawned the fish originally | E49: LOS CHAVEZ | F49: 157 | H49: 26.1 | I49: 33.213632 | J49: -107.19047
B50: Age | C50: Age of fish at release if known | E50: RM 64.5 | F50: 64.5 | H50: 26.2 | I50: 33.215039 | J50: -107.19
B51: SL (mm) | C51: average standard length of fish if known | E51: RM 66.9 | F51: 66.9 | H51: 26.3 | I51: 33.216079 | J51: -107.18896
B52: Release | C52: Location of release site | E52: RM 77.3 | F52: 77.3 | H52: 26.4 | I52: 33.216799 | J52: -107.1876
B53: Reach | C53: Reach of release (1= Angostura, 2 = Isleta, 3 = San Acacia) | E53: RM 76.9 | F53: 76.9 | H53: 26.5 | I53: 33.217468 | J53: -107.18622
B54: Notes | E54: RM 87.6 | F54: 87.6 | H54: 26.6 | I54: 33.217468 | J54: -107.18469
B55: Mark | C55: VIE year code combination identifier | E55: RM 81.5 | F55: 81.5 | H55: 26.7 | I55: 33.217254 | J55: -107.18319
B56: C | C56: color | E56: RM 92.7 | F56: 92.7 | H56: 26.8 | I56: 33.216727 | J56: -107.18175
B57: L | C57: location | E57: RM 99.5 | F57: 99.5 | H57: 26.9 | I57: 33.21627 | J57: -107.18029
B58: S | C58: Side of fish (left or right) of visible tag | E58: RM 106.9 | F58: 106.9 | H58: 27 | I58: 33.215849 | J58: -107.17881
B59: Year | C59: year | E59: RM 153.0 | F59: 153 | H59: 27.1 | I59: 33.215602 | J59: -107.1773
B60: RM | C60: river mile of release site | E60: RM 161.6 | F60: 161.6 | H60: 27.2 | I60: 33.215454 | J60: -107.17578
B61: lat | C61: latitude of release site | E61: RM 124.2 | F61: 124.2 | H61: 27.3 | I61: 33.215774 | J61: -107.17427
B62: long | C62: longitude of release | E62: RM 116.8 | F62: 116.8 | H62: 27.4 | I62: 33.216236 | J62: -107.17281
B63: Truck temp | C63: Truck water temp © | E63: RM 130.9 | F63: 130.9 | H63: 27.5 | I63: 33.216772 | J63: -107.17138
B64: Comments | E64: RM 135.0 | F64: 135 | H64: 27.6 | I64: 33.217318 | J64: -107.16994
E65: RM 140.3 | F65: 140.3 | H65: 27.7 | I65: 33.217916 | J65: -107.16853
A66: FishK | E66: RM 177.3 | F66: 177.3 | H66: 27.8 | I66: 33.218567 | J66: -107.16699
B67: Date | E67: RM 180.0 | F67: 180 | H67: 27.9 | I67: 33.21954 | J67: -107.16599
B68: Location | E68: RM 183.3 | F68: 183.3 | H68: 28 | I68: 33.22052 | J68: -107.16498
B69: Fish # | E69: RM 188.9 | F69: 188.9 | H69: 28.1 | I69: 33.221844 | J69: -107.16397
B70: Source | E70: Willow Creek South | F70: 200.9 | H70: 28.2 | I70: 33.223184 | J70: -107.1633
B71: TL | E71: Atrisco | F71: 183.4 | H71: 28.3 | I71: 33.224676 | J71: -107.16294
B72: Standard Length | E72: Willow Creek North A | F72: 201.8 | H72: 28.4 | I72: 33.226166 | J72: -107.16258
B73: Weight | E73: 3A | F73: 186.5 | H73: 28.5 | I73: 33.227539 | J73: -107.16223
B74: Clip | E74: 5D-E | F74: 172.8 | H74: 28.6 | I74: 33.229172 | J74: -107.16249
B75: converted.TL | E75: 5B | F75: 176.4 | H75: 28.7 | I75: 33.230676 | J75: -107.16278
B76: Ktl | E76: Montano Bridge | F76: 187.2 | H76: 28.8 | I76: 33.232155 | J76: -107.16319
E77: Rio Salado | F77: 117.5 | H77: 28.9 | I77: 33.233602 | J77: -107.16369
E78: Monticello | F78: 35.3 | H78: 29 | I78: 33.234993 | J78: -107.16434
E79: Upper Monticello | F79: 35.1 | H79: 29.1 | I79: 33.236394 | J79: -107.16496
E80: LFCC Outfall | F80: 51.9 | H80: 29.2 | I80: 33.237806 | J80: -107.16556
E81: Corrales | F81: 195 | H81: 29.3 | I81: 33.239221 | J81: -107.16615
E82: Sandia-float | F82: 203-193 | H82: 29.4 | I82: 33.240641 | J82: -107.16674
E83: RM 111.9 | F83: 111.9 | H83: 29.5 | I83: 33.242122 | J83: -107.16712
E84: RM 113.7 | F84: 113.7 | H84: 29.6 | I84: 33.243622 | J84: -107.16744
E85: RM 115.5 | F85: 115.5 | H85: 29.7 | I85: 33.245141 | J85: -107.16764
E86: South boundary BdA | F86: 74 | H86: 29.8 | I86: 33.246669 | J86: -107.16778
E87: Nine-mile outfall | F87: 103.2 | H87: 29.9 | I87: 33.2482 | J87: -107.16785
D88: *Estimated | E88: Bernalillo-day | F88: 203.2-193.6 | H88: 30 | I88: 33.249817 | J88: -107.16785
D89: *Estimated | E89: Sandia-float-day | F89: 204-193.6 | H89: 30.1 | I89: 33.251197 | J89: -107.1674
D90: *Estimated | E90: Bernalillo-night | F90: 203.2-193.6 | H90: 30.2 | I90: 33.252655 | J90: -107.16692
D91: *Estimated | E91: Sandia-float-night | F91: 204-193.6 | H91: 30.3 | I91: 33.254103 | J91: -107.16641
D92: *Estimated | E92: Bernardo-Brown's arroyo | F92: 131.4-95.8 | H92: 30.4 | I92: 33.25555 | J92: -107.1659
E93: 4 miles below SADD | F93: 111.9 | H93: 30.5 | I93: 33.256942 | J93: -107.16526
D94: *Estimated | E94: Bernalillo-Montano | F94: 203-187.2 | H94: 30.6 | I94: 33.258314 | J94: -107.16457
D95: *Estimated | E95: Bridge - Los Padillas | F95: 181-173.7 | H95: 30.7 | I95: 33.259687 | J95: -107.16389
E96: U.S. 60 | F96: 131.4 | H96: 30.8 | I96: 33.261059 | J96: -107.1632
D97: *Estimated | E97: Sandia-truck-night | F97: 193.6 | H97: 30.9 | I97: 33.262431 | J97: -107.16252
D98: *Estimated | E98: Lemitar-Socorro | F98: 107.7-100.3 | H98: 31 | I98: 33.263818 | J98: -107.16186
D99: *Estimated | E99: Bernardo - Rio Puerco | F99: 131.4-127.9 | H99: 31.1 | I99: 33.265381 | J99: -107.16113
H100: 31.2 | I100: 33.266637 | J100: -107.16065
H101: 31.3 | I101: 33.26825 | J101: -107.16003
H102: 31.4 | I102: 33.269571 | J102: -107.1598
H103: 31.5 | I103: 33.271081 | J103: -107.15953
...

Sheet RKMtoRM
A1: Name | B1: Rkm | C1: near.rm | D1: Latitude | E1: Longitude
A2: Rio Grande | B2: 185.6 | C2: 38.09 | D2: 33.314754 | E2: -107.16849
A3: Rio Grande | B3: 185.7 | C3: 38.17 | D3: 33.315834 | E3: -107.16863
A4: Rio Grande | B4: 185.8 | C4: 38.24 | D4: 33.316914 | E4: -107.16878
A5: Rio Grande | B5: 185.9 | C5: 38.34 | D5: 33.318001 | E5: -107.16875
A6: Rio Grande | B6: 186 | C6: 38.41 | D6: 33.319092 | E6: -107.16871
A7: Rio Grande | B7: 186.1 | C7: 38.5 | D7: 33.320179 | E7: -107.16866
A8: Rio Grande | B8: 186.2 | C8: 38.59 | D8: 33.321262 | E8: -107.16868
A9: Rio Grande | B9: 186.3 | C9: 38.66 | D9: 33.322262 | E9: -107.16908
A10: Rio Grande | B10: 186.4 | C10: 38.74 | D10: 33.322929 | E10: -107.16827
A11: Rio Grande | B11: 186.5 | C11: 38.81 | D11: 33.323334 | E11: -107.1674
A12: Rio Grande | B12: 186.6 | C12: 38.89 | D12: 33.324158 | E12: -107.168
A13: Rio Grande | B13: 186.7 | C13: 38.96 | D13: 33.324928 | E13: -107.16874
... A2915: Rio Grande | B2915: 476.9 | C2915: 232.99 | D2915: 35.712261 | E2915: -106.29222
