Workbook

Sheet Releases
A1: Date | B1: Color | C1: Side | D1: Location | E1: Number | F1: Agency | G1: Facility | H1: Lot Number | I1: Source of fish | J1: Age | K1: SL (mm) | L1: Release | M1: Reach | N1: Notes | O1: Mark | P1: C | Q1: L | R1: S | S1: Year | T1: RM | U1: lat | V1: long | W1: Truck temp | X1: Comments
A2: 37257 | B2: yellow | C2: left | D2: predorsal | E2: 4600 | F2: MSB | G2: Dexter | L2: San Marcial | M2: 3 | O2: =CONCATENATE(P2,Q2,R2, " ", YEAR(A2)) -> YLD 2002 | P2: =UPPER(LEFT(B2)) -> Y | Q2: =UPPER(LEFT(C2)) -> L | R2: =IF(LEFT(D2) = "p", "D", "A") -> D | S2: =YEAR(A2) -> 2002 | T2: =VLOOKUP(L2, Metadata!E$3:F$101, 2, FALSE) -> 67.5 | U2: =VLOOKUP(T2,Metadata!$H:$J,2,FALSE) -> 33.680714 | V2: =VLOOKUP(T2,Metadata!$H:$J,3,FALSE) -> -106.99298
A3: 37258 | B3: green | C3: left | D3: predorsal | E3: 7300 | F3: MSB | G3: Dexter | L3: Socorro | M3: 3 | O3: =CONCATENATE(P3,Q3,R3, " ", YEAR(A3)) -> GLD 2002 | P3: =UPPER(LEFT(B3)) -> G | Q3: =UPPER(LEFT(C3)) -> L | R3: =IF(LEFT(D3) = "p", "D", "A") -> D | S3: =YEAR(A3) -> 2002 | T3: =VLOOKUP(L3, Metadata!E$3:F$101, 2, FALSE) -> 101.6 | U3: =VLOOKUP(T3,Metadata!H:J,2,FALSE) -> 34.079163 | V3: =VLOOKUP(T3,Metadata!$H:$J,3,FALSE) -> -106.86713
A4: 37409 | B4: orange | C4: right | D4: predorsal | E4: 2082 | F4: FRO | G4: Abq | L4: Alameda Bridge | M4: 1 | O4: =CONCATENATE(P4,Q4,R4, " ", YEAR(A4)) -> ORD 2002 | P4: =UPPER(LEFT(B4)) -> O | Q4: =UPPER(LEFT(C4)) -> R | R4: =IF(LEFT(D4) = "p", "D", "A") -> D | S4: =YEAR(A4) -> 2002 | T4: =VLOOKUP(L4, Metadata!E$3:F$101, 2, FALSE) -> 191.1 | U4: =VLOOKUP(T4,Metadata!H:J,2,FALSE) -> 35.193578 | V4: =VLOOKUP(T4,Metadata!$H:$J,3,FALSE) -> -106.64481
A5: 37599 | B5: orange | C5: left | D5: predorsal | E5: 41500 | F5: FRO | G5: Dexter | L5: Corrales | M5: 1 | O5: =CONCATENATE(P5,Q5,R5, " ", YEAR(A5)) -> OLD 2002 | P5: =UPPER(LEFT(B5)) -> O | Q5: =UPPER(LEFT(C5)) -> L | R5: =IF(LEFT(D5) = "p", "D", "A") -> D | S5: =YEAR(A5) -> 2002 | T5: =VLOOKUP(L5, Metadata!E$3:F$101, 2, FALSE) -> 195 | U5: =VLOOKUP(T5,Metadata!H:J,2,FALSE) -> 35.226104 | V5: =VLOOKUP(T5,Metadata!$H:$J,3,FALSE) -> -106.59647
A6: 37623 | B6: green | C6: left | D6: predorsal | E6: 61118 | F6: FRO | G6: Dexter | L6: Bernalillo | M6: 1 | N6: * plus 918 yankton fish | O6: =CONCATENATE(P6,Q6,R6, " ", YEAR(A6)) -> GLD 2003 | P6: =UPPER(LEFT(B6)) -> G | Q6: =UPPER(LEFT(C6)) -> L | R6: =IF(LEFT(D6) = "p", "D", "A") -> D | S6: =YEAR(A6) -> 2003 | T6: =VLOOKUP(L6, Metadata!E$3:F$101, 2, FALSE) -> 203.2 | U6: =VLOOKUP(T6,Metadata!H:J,2,FALSE) -> 35.322184 | V6: =VLOOKUP(T6,Metadata!$H:$J,3,FALSE) -> -106.55748
A7: 37714 | B7: red | C7: left | D7: predorsal | E7: 22266 | F7: FRO | G7: Dexter | L7: Sandia Pueblo | M7: 1 | O7: =CONCATENATE(P7,Q7,R7, " ", YEAR(A7)) -> RLD 2003 | P7: =UPPER(LEFT(B7)) -> R | Q7: =UPPER(LEFT(C7)) -> L | R7: =IF(LEFT(D7) = "p", "D", "A") -> D | S7: =YEAR(A7) -> 2003 | T7: =VLOOKUP(L7, Metadata!E$3:F$101, 2, FALSE) -> 197.8 | U7: =VLOOKUP(T7,Metadata!H:J,2,FALSE) -> 35.263284 | V7: =VLOOKUP(T7,Metadata!$H:$J,3,FALSE) -> -106.59521
A8: 37989 | E8: 43206 | F8: FRO | G8: Dexter | L8: Sandia Pueblo | M8: 1 | O8: none 2004 | S8: =YEAR(A8) -> 2004 | T8: 197.8 | U8: =VLOOKUP(T8,Metadata!H:J,2,FALSE) -> 35.263284 | V8: =VLOOKUP(T8,Metadata!$H:$J,3,FALSE) -> -106.59521
A9: 37989 | B9: yellow | C9: right | D9: predorsal | E9: 5307 | F9: FRO | G9: Dexter | L9: Sandia Pueblo | M9: 1 | N9: * 5,307 VIE marked, all were calcein marked (Dexter) | O9: =CONCATENATE(P9,Q9,R9, " ", YEAR(A9)) -> YRD 2004 | P9: =UPPER(LEFT(B9)) -> Y | Q9: =UPPER(LEFT(C9)) -> R | R9: =IF(LEFT(D9) = "p", "D", "A") -> D | S9: =YEAR(A9) -> 2004 | T9: =VLOOKUP(L9, Metadata!E$3:F$101, 2, FALSE) -> 197.8 | U9: =VLOOKUP(T9,Metadata!H:J,2,FALSE) -> 35.263284 | V9: =VLOOKUP(T9,Metadata!$H:$J,3,FALSE) -> -106.59521
A10: 38081 | E10: 41445 | F10: FRO | G10: Dexter | L10: Sandia-float | M10: 1 | O10: none 2004 | S10: =YEAR(A10) -> 2004 | T10: 203-193 | U10: =VLOOKUP(T10,Metadata!H:J,2,FALSE) -> #N/A | V10: =VLOOKUP(T10,Metadata!$H:$J,3,FALSE) -> #N/A
A11: 38081 | B11: red | C11: right | D11: predorsal | E11: 5100 | F11: FRO | G11: Dexter | I11: 2003 Las Cruces, 2001 Dexter, 2003 BioPark wild caught | J11: 1-3 | K11: 30 | L11: Sandia-float | M11: 1 | N11: * 5,100 VIE marked, all were calcein marked (Dexter) | O11: =CONCATENATE(P11,Q11,R11, " ", YEAR(A11)) -> RRD 2004 | P11: =UPPER(LEFT(B11)) -> R | Q11: =UPPER(LEFT(C11)) -> R | R11: =IF(LEFT(D11) = "p", "D", "A") -> D | S11: =YEAR(A11) -> 2004 | T11: =VLOOKUP(L11, Metadata!E$3:F$101, 2, FALSE) -> 203-193 | U11: =VLOOKUP(T11,Metadata!H:J,2,FALSE) -> #N/A | V11: =VLOOKUP(T11,Metadata!$H:$J,3,FALSE) -> #N/A
A12: 38081 | B12: red | C12: right | D12: predorsal | E12: 10099 | F12: FRO | G12: LC | I12: 2004 Las Cruces, 2001 Dexter, 2003 BioPark wild caught | J12: 1-3 | K12: 31 | L12: Sandia-float | M12: 1 | N12: * all VIE and calcein (A mountain) | O12: =CONCATENATE(P12,Q12,R12, " ", YEAR(A12)) -> RRD 2004 | P12: =UPPER(LEFT(B12)) -> R | Q12: =UPPER(LEFT(C12)) -> R | R12: =IF(LEFT(D12) = "p", "D", "A") -> D | S12: =YEAR(A12) -> 2004 | T12: =VLOOKUP(L12, Metadata!E$3:F$101, 2, FALSE) -> 203-193 | U12: =VLOOKUP(T12,Metadata!H:J,2,FALSE) -> #N/A | V12: =VLOOKUP(T12,Metadata!$H:$J,3,FALSE) -> #N/A
A13: 38081 | B13: green | C13: right | D13: predorsal | E13: 8500 | F13: FRO | G13: Abq | H13: CSSA03 | I13: Spawn progeny of 01 and 02 wild caught eggs and 01 and 02 adults from those eggs from SA 16 june 2003 | J13: 1 | L13: Sandia-float | M13: 1 | N13: (COA) | O13: =CONCATENATE(P13,Q13,R13, " ", YEAR(A13)) -> GRD 2004 | P13: =UPPER(LEFT(B13)) -> G | Q13: =UPPER(LEFT(C13)) -> R | R13: =IF(LEFT(D13) = "p", "D", "A") -> D | S13: =YEAR(A13) -> 2004 | T13: =VLOOKUP(L13, Metadata!E$3:F$101, 2, FALSE) -> 203-193 | U13: =VLOOKUP(T13,Metadata!H:J,2,FALSE) -> #N/A | V13: =VLOOKUP(T13,Metadata!$H:$J,3,FALSE) -> #N/A
A14: 38092 | B14: orange | C14: right | D14: predorsal | E14: 1500 | F14: FRO | G14: Abq | H14: CSSA03 | I14: Spawn progeny of 01 and 02 wild caught eggs from SA 16 june 2003 | J14: 1 | L14: Bernalillo | M14: 1 | N14: all calcein(COA) | O14: =CONCATENATE(P14,Q14,R14, " ", YEAR(A14)) -> ORD 2004 | P14: =UPPER(LEFT(B14)) -> O | Q14: =UPPER(LEFT(C14)) -> R | R14: =IF(LEFT(D14) = "p", "D", "A") -> D | S14: =YEAR(A14) -> 2004 | T14: =VLOOKUP(L14, Metadata!E$3:F$101, 2, FALSE) -> 203.2 | U14: =VLOOKUP(T14,Metadata!H:J,2,FALSE) -> 35.322184 | V14: =VLOOKUP(T14,Metadata!$H:$J,3,FALSE) -> -106.55748
A15: 38280 | B15: yellow | C15: left | D15: predorsal | E15: 570 | F15: ABQ | G15: Abq | H15: WCSA02 | L15: Central bridge | M15: 1 | N15: not part of protocol study | O15: =CONCATENATE(P15,Q15,R15, " ", YEAR(A15)) -> YLD 2004 | P15: =UPPER(LEFT(B15)) -> Y | Q15: =UPPER(LEFT(C15)) -> L | R15: =IF(LEFT(D15) = "p", "D", "A") -> D | S15: =YEAR(A15) -> 2004 | T15: =VLOOKUP(L15, Metadata!E$3:F$101, 2, FALSE) -> 182.8 | U15: =VLOOKUP(T15,Metadata!H:J,2,FALSE) -> 35.088992 | V15: =VLOOKUP(T15,Metadata!$H:$J,3,FALSE) -> -106.68041
A16: 38294 | B16: yellow | C16: right | D16: anal | E16: 9622 | F16: FRO | G16: Dexter | J16: 0 | L16: Bernalillo-day | M16: 1 | O16: =CONCATENATE(P16,Q16,R16, " ", YEAR(A16)) -> YRA 2004 | P16: =UPPER(LEFT(B16)) -> Y | Q16: =UPPER(LEFT(C16)) -> R | R16: =IF(LEFT(D16) = "p", "D", "A") -> A | S16: =YEAR(A16) -> 2004 | T16: =VLOOKUP(L16, Metadata!E$3:F$101, 2, FALSE) -> 203.2-193.6 | U16: =VLOOKUP(T16,Metadata!H:J,2,FALSE) -> #N/A | V16: =VLOOKUP(T16,Metadata!$H:$J,3,FALSE) -> #N/A
A17: 38294 | B17: red | C17: right | D17: anal | E17: 8639 | F17: FRO | G17: Dexter | L17: Sandia-float-day | M17: 1 | O17: =CONCATENATE(P17,Q17,R17, " ", YEAR(A17)) -> RRA 2004 | P17: =UPPER(LEFT(B17)) -> R | Q17: =UPPER(LEFT(C17)) -> R | R17: =IF(LEFT(D17) = "p", "D", "A") -> A | S17: =YEAR(A17) -> 2004 | T17: =VLOOKUP(L17, Metadata!E$3:F$101, 2, FALSE) -> 204-193.6 | U17: =VLOOKUP(T17,Metadata!H:J,2,FALSE) -> #N/A | V17: =VLOOKUP(T17,Metadata!$H:$J,3,FALSE) -> #N/A
A18: 38294 | B18: yellow | C18: left | D18: anal | E18: 3021 | F18: FRO | G18: Abq | H18: ABP04-007 | I18: Wild caught as eggs in 2002 | J18: 0 | L18: Bernalillo-day | M18: 1 | O18: =CONCATENATE(P18,Q18,R18, " ", YEAR(A18)) -> YLA 2004 | P18: =UPPER(LEFT(B18)) -> Y | Q18: =UPPER(LEFT(C18)) -> L | R18: =IF(LEFT(D18) = "p", "D", "A") -> A | S18: =YEAR(A18) -> 2004 | T18: =VLOOKUP(L18, Metadata!E$3:F$101, 2, FALSE) -> 203.2-193.6 | U18: =VLOOKUP(T18,Metadata!H:J,2,FALSE) -> #N/A | V18: =VLOOKUP(T18,Metadata!$H:$J,3,FALSE) -> #N/A
A19: 38294 | B19: yellow | C19: left | D19: anal | E19: 2791 | F19: FRO | G19: Abq | H19: CSSA03 | I19: Captive spawn of CSSA01 and WCSA02 13 Aug 2003 | J19: 1 | L19: Bernalillo-day | M19: 1 | O19: =CONCATENATE(P19,Q19,R19, " ", YEAR(A19)) -> YLA 2004 | P19: =UPPER(LEFT(B19)) -> Y | Q19: =UPPER(LEFT(C19)) -> L | R19: =IF(LEFT(D19) = "p", "D", "A") -> A | S19: =YEAR(A19) -> 2004 | T19: =VLOOKUP(L19, Metadata!E$3:F$101, 2, FALSE) -> 203.2-193.6 | U19: =VLOOKUP(T19,Metadata!H:J,2,FALSE) -> #N/A | V19: =VLOOKUP(T19,Metadata!$H:$J,3,FALSE) -> #N/A
A20: 38294 | B20: yellow | C20: left | D20: anal | E20: 433 | F20: FRO | G20: Abq | H20: CSSA03,WCSA03 | I20: Natural spawn of CSSA01 and WCSA02, wild caught at San Acacia 2003 16 June 2003 | J20: 1 | L20: Bernalillo-day | M20: 1 | O20: =CONCATENATE(P20,Q20,R20, " ", YEAR(A20)) -> YLA 2004 | P20: =UPPER(LEFT(B20)) -> Y | Q20: =UPPER(LEFT(C20)) -> L | R20: =IF(LEFT(D20) = "p", "D", "A") -> A | S20: =YEAR(A20) -> 2004 | T20: =VLOOKUP(L20, Metadata!E$3:F$101, 2, FALSE) -> 203.2-193.6 | U20: =VLOOKUP(T20,Metadata!H:J,2,FALSE) -> #N/A | V20: =VLOOKUP(T20,Metadata!$H:$J,3,FALSE) -> #N/A
A21: 38294 | B21: red | C21: left | D21: anal | E21: 2638 | F21: FRO | G21: Abq | H21: CSSA03(natural),CSSA03(cpe),WCSA03 | J21: 1 | L21: Sandia-float-day | M21: 1 | O21: =CONCATENATE(P21,Q21,R21, " ", YEAR(A21)) -> RLA 2004 | P21: =UPPER(LEFT(B21)) -> R | Q21: =UPPER(LEFT(C21)) -> L | R21: =IF(LEFT(D21) = "p", "D", "A") -> A | S21: =YEAR(A21) -> 2004 | T21: =VLOOKUP(L21, Metadata!E$3:F$101, 2, FALSE) -> 204-193.6 | U21: =VLOOKUP(T21,Metadata!H:J,2,FALSE) -> #N/A | V21: =VLOOKUP(T21,Metadata!$H:$J,3,FALSE) -> #N/A
A22: 38294 | B22: red | C22: left | D22: anal | E22: 715 | F22: FRO | G22: Abq | H22: ABP04-006,010 | I22: Wild caught as eggs in 2003 or faster growing CSSA03 | J22: 1 | L22: Sandia-float-day | M22: 1 | O22: =CONCATENATE(P22,Q22,R22, " ", YEAR(A22)) -> RLA 2004 | P22: =UPPER(LEFT(B22)) -> R | Q22: =UPPER(LEFT(C22)) -> L | R22: =IF(LEFT(D22) = "p", "D", "A") -> A | S22: =YEAR(A22) -> 2004 | T22: =VLOOKUP(L22, Metadata!E$3:F$101, 2, FALSE) -> 204-193.6 | U22: =VLOOKUP(T22,Metadata!H:J,2,FALSE) -> #N/A | V22: =VLOOKUP(T22,Metadata!$H:$J,3,FALSE) -> #N/A
A23: 38294 | B23: red | C23: left | D23: anal | E23: 357 | F23: FRO | G23: Abq | H23: CSSA03 | I23: Captive spawn 13 Aug 2003 | J23: 1 | L23: Sandia-float-day | M23: 1 | O23: =CONCATENATE(P23,Q23,R23, " ", YEAR(A23)) -> RLA 2004 | P23: =UPPER(LEFT(B23)) -> R | Q23: =UPPER(LEFT(C23)) -> L | R23: =IF(LEFT(D23) = "p", "D", "A") -> A | S23: =YEAR(A23) -> 2004 | T23: =VLOOKUP(L23, Metadata!E$3:F$101, 2, FALSE) -> 204-193.6 | U23: =VLOOKUP(T23,Metadata!H:J,2,FALSE) -> #N/A | V23: =VLOOKUP(T23,Metadata!$H:$J,3,FALSE) -> #N/A
A24: 38294 | B24: red | C24: left | D24: anal | E24: 2792 | F24: FRO | G24: Abq | H24: ABP04-011,012,WCSA01,WCSA02,CSSA03 (natural), WCSA03 | I24: ABP04-011,012 wild caught as eggs, adults in 2002 | J24: 2 | L24: Sandia-float-day | M24: 1 | O24: =CONCATENATE(P24,Q24,R24, " ", YEAR(A24)) -> RLA 2004 | P24: =UPPER(LEFT(B24)) -> R | Q24: =UPPER(LEFT(C24)) -> L | R24: =IF(LEFT(D24) = "p", "D", "A") -> A | S24: =YEAR(A24) -> 2004 | T24: =VLOOKUP(L24, Metadata!E$3:F$101, 2, FALSE) -> 204-193.6 | U24: =VLOOKUP(T24,Metadata!H:J,2,FALSE) -> #N/A | V24: =VLOOKUP(T24,Metadata!$H:$J,3,FALSE) -> #N/A
A25: 38296 | B25: orange | C25: right | D25: anal | E25: 7845 | F25: FRO | G25: Dexter | K25: 50 | L25: Bernalillo-night | M25: 1 | O25: =CONCATENATE(P25,Q25,R25, " ", YEAR(A25)) -> ORA 2004 | P25: =UPPER(LEFT(B25)) -> O | Q25: =UPPER(LEFT(C25)) -> R | R25: =IF(LEFT(D25) = "p", "D", "A") -> A | S25: =YEAR(A25) -> 2004 | T25: =VLOOKUP(L25, Metadata!E$3:F$101, 2, FALSE) -> 203.2-193.6 | U25: =VLOOKUP(T25,Metadata!H:J,2,FALSE) -> #N/A | V25: =VLOOKUP(T25,Metadata!$H:$J,3,FALSE) -> #N/A
A26: 38296 | B26: green | C26: right | D26: anal | E26: 6956 | F26: FRO | G26: Dexter | K26: 50 | L26: Sandia-float-night | M26: 1 | O26: =CONCATENATE(P26,Q26,R26, " ", YEAR(A26)) -> GRA 2004 | P26: =UPPER(LEFT(B26)) -> G | Q26: =UPPER(LEFT(C26)) -> R | R26: =IF(LEFT(D26) = "p", "D", "A") -> A | S26: =YEAR(A26) -> 2004 | T26: =VLOOKUP(L26, Metadata!E$3:F$101, 2, FALSE) -> 204-193.6 | U26: =VLOOKUP(T26,Metadata!H:J,2,FALSE) -> #N/A | V26: =VLOOKUP(T26,Metadata!$H:$J,3,FALSE) -> #N/A
A27: 38296 | B27: orange | C27: left | D27: anal | E27: 3245 | F27: FRO | G27: Abq | H27: ABP04-007 | I27: Wild caught as eggs in 2003 | J27: 1 | L27: Bernalillo-night | M27: 1 | O27: =CONCATENATE(P27,Q27,R27, " ", YEAR(A27)) -> OLA 2004 | P27: =UPPER(LEFT(B27)) -> O | Q27: =UPPER(LEFT(C27)) -> L | R27: =IF(LEFT(D27) = "p", "D", "A") -> A | S27: =YEAR(A27) -> 2004 | T27: =VLOOKUP(L27, Metadata!E$3:F$101, 2, FALSE) -> 203.2-193.6 | U27: =VLOOKUP(T27,Metadata!H:J,2,FALSE) -> #N/A | V27: =VLOOKUP(T27,Metadata!$H:$J,3,FALSE) -> #N/A
A28: 38296 | B28: orange | C28: left | D28: anal | E28: 834 | F28: FRO | G28: Abq | H28: ABP04-001,002,015 | I28: Wild caught as eggs from Dexter, adults from Dexter, from raceway WCSA01/WCSA02/CSSA03/WCSA03 | L28: Bernalillo-night | M28: 1 | O28: =CONCATENATE(P28,Q28,R28, " ", YEAR(A28)) -> OLA 2004 | P28: =UPPER(LEFT(B28)) -> O | Q28: =UPPER(LEFT(C28)) -> L | R28: =IF(LEFT(D28) = "p", "D", "A") -> A | S28: =YEAR(A28) -> 2004 | T28: =VLOOKUP(L28, Metadata!E$3:F$101, 2, FALSE) -> 203.2-193.6 | U28: =VLOOKUP(T28,Metadata!H:J,2,FALSE) -> #N/A | V28: =VLOOKUP(T28,Metadata!$H:$J,3,FALSE) -> #N/A
A29: 38296 | B29: orange | C29: left | D29: anal | E29: 1986 | F29: FRO | G29: Abq | H29: ABP04-011,012,WCSA01,WCSA02,CSSA03 (natural), WCSA03 | I29: ABP04-011,012 wild caught as eggs, adults in 2002 | J29: 2 | L29: Bernalillo-night | M29: 1 | O29: =CONCATENATE(P29,Q29,R29, " ", YEAR(A29)) -> OLA 2004 | P29: =UPPER(LEFT(B29)) -> O | Q29: =UPPER(LEFT(C29)) -> L | R29: =IF(LEFT(D29) = "p", "D", "A") -> A | S29: =YEAR(A29) -> 2004 | T29: =VLOOKUP(L29, Metadata!E$3:F$101, 2, FALSE) -> 203.2-193.6 | U29: =VLOOKUP(T29,Metadata!H:J,2,FALSE) -> #N/A | V29: =VLOOKUP(T29,Metadata!$H:$J,3,FALSE) -> #N/A
A30: 38296 | B30: green | C30: left | D30: anal | E30: 4777 | F30: FRO | G30: Abq | H30: ABP04-006, 010 | I30: Wild caught as eggs in 2003 or faster growing CSSAO3 from natural spawn | J30: 0 | L30: Sandia-float-night | M30: 1 | N30: =SUM(E16:E30) -> 56651 | O30: =CONCATENATE(P30,Q30,R30, " ", YEAR(A30)) -> GLA 2004 | P30: =UPPER(LEFT(B30)) -> G | Q30: =UPPER(LEFT(C30)) -> L | R30: =IF(LEFT(D30) = "p", "D", "A") -> A | S30: =YEAR(A30) -> 2004 | T30: =VLOOKUP(L30, Metadata!E$3:F$101, 2, FALSE) -> 204-193.6 | U30: =VLOOKUP(T30,Metadata!H:J,2,FALSE) -> #N/A | V30: =VLOOKUP(T30,Metadata!$H:$J,3,FALSE) -> #N/A
A31: 38296 | B31: green | C31: left | D31: anal | E31: 773 | F31: FRO | G31: Abq | H31: CSSA03 | I31: Captive spawn 13 Aug 2003 | J31: 1 | L31: Sandia-float-night | M31: 1 | O31: =CONCATENATE(P31,Q31,R31, " ", YEAR(A31)) -> GLA 2004 | P31: =UPPER(LEFT(B31)) -> G | Q31: =UPPER(LEFT(C31)) -> L | R31: =IF(LEFT(D31) = "p", "D", "A") -> A | S31: =YEAR(A31) -> 2004 | T31: =VLOOKUP(L31, Metadata!E$3:F$101, 2, FALSE) -> 204-193.6 | U31: =VLOOKUP(T31,Metadata!H:J,2,FALSE) -> #N/A | V31: =VLOOKUP(T31,Metadata!$H:$J,3,FALSE) -> #N/A
A32: 38296 | B32: green | C32: left | D32: anal | E32: 297 | F32: FRO | G32: Abq | H32: CSSA03 (hormone free), CSSA03 (cpe),WCSA03 | J32: 1 | L32: Sandia-float-night | M32: 1 | O32: =CONCATENATE(P32,Q32,R32, " ", YEAR(A32)) -> GLA 2004 | P32: =UPPER(LEFT(B32)) -> G | Q32: =UPPER(LEFT(C32)) -> L | R32: =IF(LEFT(D32) = "p", "D", "A") -> A | S32: =YEAR(A32) -> 2004 | T32: =VLOOKUP(L32, Metadata!E$3:F$101, 2, FALSE) -> 204-193.6 | U32: =VLOOKUP(T32,Metadata!H:J,2,FALSE) -> #N/A | V32: =VLOOKUP(T32,Metadata!$H:$J,3,FALSE) -> #N/A
A33: 38296 | B33: green | C33: left | D33: anal | E33: 1032 | F33: FRO | G33: Abq | H33: APB04-011,012,WCSA01,WCSA02,WCSA03,CSSA03(natural) | I33: ABP04-011,012 wild caught as eggs, adults in 2002 | L33: Sandia-float-night | M33: 1 | O33: =CONCATENATE(P33,Q33,R33, " ", YEAR(A33)) -> GLA 2004 | P33: =UPPER(LEFT(B33)) -> G | Q33: =UPPER(LEFT(C33)) -> L | R33: =IF(LEFT(D33) = "p", "D", "A") -> A | S33: =YEAR(A33) -> 2004 | T33: =VLOOKUP(L33, Metadata!E$3:F$101, 2, FALSE) -> 204-193.6 | U33: =VLOOKUP(T33,Metadata!H:J,2,FALSE) -> #N/A | V33: =VLOOKUP(T33,Metadata!$H:$J,3,FALSE) -> #N/A
A34: 38300 | B34: yellow | C34: left | D34: predorsal | E34: 1318 | F34: ABQ | G34: Abq | H34: CSSA03 | I34: Captive spawn 13 Aug 2003 | J34: 1 | L34: Central bridge | M34: 1 | N34: not part of protocol study | O34: =CONCATENATE(P34,Q34,R34, " ", YEAR(A34)) -> YLD 2004 | P34: =UPPER(LEFT(B34)) -> Y | Q34: =UPPER(LEFT(C34)) -> L | R34: =IF(LEFT(D34) = "p", "D", "A") -> D | S34: =YEAR(A34) -> 2004 | T34: =VLOOKUP(L34, Metadata!E$3:F$101, 2, FALSE) -> 182.8 | U34: =VLOOKUP(T34,Metadata!H:J,2,FALSE) -> 35.088992 | V34: =VLOOKUP(T34,Metadata!$H:$J,3,FALSE) -> -106.68041
A35: 38357 | B35: yellow | C35: left | D35: predorsal | E35: 4349 | F35: ABQ | G35: Abq | H35: ABP04-011,012,WCSA01,WCSA02,CSSA03 (natural), WCSA03 | I35: ABP04-011,012 wild caught as eggs, adults in 2002 | J35: 2 | L35: Central bridge | M35: 1 | O35: =CONCATENATE(P35,Q35,R35, " ", YEAR(A35)) -> YLD 2005 | P35: =UPPER(LEFT(B35)) -> Y | Q35: =UPPER(LEFT(C35)) -> L | R35: =IF(LEFT(D35) = "p", "D", "A") -> D | S35: =YEAR(A35) -> 2005 | T35: =VLOOKUP(L35, Metadata!E$3:F$101, 2, FALSE) -> 182.8 | U35: =VLOOKUP(T35,Metadata!H:J,2,FALSE) -> 35.088992 | V35: =VLOOKUP(T35,Metadata!$H:$J,3,FALSE) -> -106.68041
A36: 38357 | B36: yellow | C36: left | D36: predorsal | E36: 475 | F36: FRO | G36: LC | L36: Rio Bravo | M36: 1 | N36: not part of protocol study | O36: =CONCATENATE(P36,Q36,R36, " ", YEAR(A36)) -> YLD 2005 | P36: =UPPER(LEFT(B36)) -> Y | Q36: =UPPER(LEFT(C36)) -> L | R36: =IF(LEFT(D36) = "p", "D", "A") -> D | S36: =YEAR(A36) -> 2005 | T36: =VLOOKUP(L36, Metadata!E$3:F$101, 2, FALSE) -> 177.9 | U36: =VLOOKUP(T36,Metadata!H:J,2,FALSE) -> 35.02636 | V36: =VLOOKUP(T36,Metadata!$H:$J,3,FALSE) -> -106.67297
A37: 38357 | B37: orange | C37: right | D37: predorsal | E37: 1540 | F37: FRO | G37: FRO | L37: Rio Bravo | M37: 1 | N37: not part of protocol study | O37: =CONCATENATE(P37,Q37,R37, " ", YEAR(A37)) -> ORD 2005 | P37: =UPPER(LEFT(B37)) -> O | Q37: =UPPER(LEFT(C37)) -> R | R37: =IF(LEFT(D37) = "p", "D", "A") -> D | S37: =YEAR(A37) -> 2005 | T37: =VLOOKUP(L37, Metadata!E$3:F$101, 2, FALSE) -> 177.9 | U37: =VLOOKUP(T37,Metadata!H:J,2,FALSE) -> 35.02636 | V37: =VLOOKUP(T37,Metadata!$H:$J,3,FALSE) -> -106.67297
A38: 38454 | B38: white | C38: right | D38: anal | E38: 802 | F38: FRO | G38: Abq | H38: ABP04-004, ABP04-008 | I38: Captive spawn of adults that were wild caught as eggs in 2002 in SA reach | J38: 1 | L38: Sandia-float-day | M38: 1 | O38: =CONCATENATE(P38,Q38,R38, " ", YEAR(A38)) -> WRA 2005 | P38: =UPPER(LEFT(B38)) -> W | Q38: =UPPER(LEFT(C38)) -> R | R38: =IF(LEFT(D38) = "p", "D", "A") -> A | S38: =YEAR(A38) -> 2005 | T38: =VLOOKUP(L38, Metadata!E$3:F$101, 2, FALSE) -> 204-193.6 | U38: =VLOOKUP(T38,Metadata!H:J,2,FALSE) -> #N/A | V38: =VLOOKUP(T38,Metadata!$H:$J,3,FALSE) -> #N/A
A39: 38454 | B39: white | C39: right | D39: anal | E39: 3858 | F39: FRO | G39: Abq | H39: ABP04-006, 010, 016, 022 | I39: Miscellaneous adults from Dexter, B13, WCSA03, CSSA03 (hormone free), wild caught of eggs in 2003, or faster growing CSSAO3 from natural spawn | J39: 2 | L39: Sandia-float-day | M39: 1 | O39: =CONCATENATE(P39,Q39,R39, " ", YEAR(A39)) -> WRA 2005 | P39: =UPPER(LEFT(B39)) -> W | Q39: =UPPER(LEFT(C39)) -> R | R39: =IF(LEFT(D39) = "p", "D", "A") -> A | S39: =YEAR(A39) -> 2005 | T39: =VLOOKUP(L39, Metadata!E$3:F$101, 2, FALSE) -> 204-193.6 | U39: =VLOOKUP(T39,Metadata!H:J,2,FALSE) -> #N/A | V39: =VLOOKUP(T39,Metadata!$H:$J,3,FALSE) -> #N/A
A40: 38454 | B40: white | C40: right | D40: anal | E40: 143 | F40: FRO | G40: Abq | H40: ABP04-013,020 | I40: Wild caught as eggs in 2002- ABP04-020 reared at Dexter | J40: 3 | L40: Sandia-float-day | M40: 1 | O40: =CONCATENATE(P40,Q40,R40, " ", YEAR(A40)) -> WRA 2005 | P40: =UPPER(LEFT(B40)) -> W | Q40: =UPPER(LEFT(C40)) -> R | R40: =IF(LEFT(D40) = "p", "D", "A") -> A | S40: =YEAR(A40) -> 2005 | T40: =VLOOKUP(L40, Metadata!E$3:F$101, 2, FALSE) -> 204-193.6 | U40: =VLOOKUP(T40,Metadata!H:J,2,FALSE) -> #N/A | V40: =VLOOKUP(T40,Metadata!$H:$J,3,FALSE) -> #N/A
...

Sheet Recaptures
A1: collno | B1: agency | C1: mark | D1: n | E1: Recapture Date | F1: Release Date | G1: Number of Days Post-Release | H1: Max RM Released | I1: MinReleased | J1: rm recapture | K1: Distance Traveled (RM)* | L1: N Released | M1: year | N1: site | O1: comment | P1: Report Year | Q1: SL
A2: WJR213 | B2: NMFWCO | C2: OLD 2002 | D2: 1 | E2: 38154 | F2: =VLOOKUP(C2, Pivot!A$2:C$999, 3, FALSE) -> 37599 | G2: =E2-F2 -> 555 | H2: 199.9 | I2: =H2 -> 199.9 | J2: 198.3 | K2: =IF(J2>H2, J2-H2, IF(J2<I2, J2-I2, 0)) -> -1.6 | L2: =VLOOKUP(C2, Pivot!A$2:B$999, 2, FALSE) -> 41500 | M2: =YEAR(E2) -> 2004 | P2: =IF(MONTH(E2) =12, M2+1, M2) -> 2004
A3: WJR213 | B3: NMFWCO | C3: GRD 2004 | D3: 4 | E3: 38154 | F3: =VLOOKUP(C3, Pivot!A$2:C$999, 3, FALSE) -> 38081 | G3: =E3-F3 -> 73 | H3: 203.5 | I3: 196 | J3: 198.3 | K3: =IF(J3>H3, J3-H3, IF(J3<I3, J3-I3, 0)) -> 0 | L3: =VLOOKUP(C3, Pivot!A$2:B$999, 2, FALSE) -> 8500 | M3: =YEAR(E3) -> 2004 | P3: =IF(MONTH(E3) =12, M3+1, M3) -> 2004
A4: WJR213 | B4: NMFWCO | C4: ORD 2004 | D4: 3 | E4: 38154 | F4: =VLOOKUP(C4, Pivot!A$2:C$999, 3, FALSE) -> 38092 | G4: =E4-F4 -> 62 | H4: 203.5 | I4: =H4 -> 203.5 | J4: 198.3 | K4: =IF(J4>H4, J4-H4, IF(J4<I4, J4-I4, 0)) -> -5.2 | L4: =VLOOKUP(C4, Pivot!A$2:B$999, 2, FALSE) -> 1500 | M4: =YEAR(E4) -> 2004 | P4: =IF(MONTH(E4) =12, M4+1, M4) -> 2004
A5: WJR214 | B5: NMFWCO | C5: RRD 2004 | D5: 2 | E5: 38154 | F5: =VLOOKUP(C5, Pivot!A$2:C$999, 3, FALSE) -> 38081 | G5: =E5-F5 -> 73 | H5: 203.5 | I5: 196 | J5: 203.5 | K5: =IF(J5>H5, J5-H5, IF(J5<I5, J5-I5, 0)) -> 0 | L5: =VLOOKUP(C5, Pivot!A$2:B$999, 2, FALSE) -> 15199 | M5: =YEAR(E5) -> 2004 | P5: =IF(MONTH(E5) =12, M5+1, M5) -> 2004
A6: WJR215 | B6: NMFWCO | C6: GLD 2003 | D6: 1 | E6: 38154 | F6: =VLOOKUP(C6, Pivot!A$2:C$999, 3, FALSE) -> 37623 | G6: =E6-F6 -> 531 | H6: 200 | I6: =H6 -> 200 | J6: 202 | K6: =IF(J6>H6, J6-H6, IF(J6<I6, J6-I6, 0)) -> 2 | L6: =VLOOKUP(C6, Pivot!A$2:B$999, 2, FALSE) -> 61118 | M6: =YEAR(E6) -> 2004 | P6: =IF(MONTH(E6) =12, M6+1, M6) -> 2004
A7: WJR215 | B7: NMFWCO | C7: RRD 2004 | D7: 10 | E7: 38154 | F7: =VLOOKUP(C7, Pivot!A$2:C$999, 3, FALSE) -> 38081 | G7: =E7-F7 -> 73 | H7: 203.5 | I7: 196 | J7: 202 | K7: =IF(J7>H7, J7-H7, IF(J7<I7, J7-I7, 0)) -> 0 | L7: =VLOOKUP(C7, Pivot!A$2:B$999, 2, FALSE) -> 15199 | M7: =YEAR(E7) -> 2004 | P7: =IF(MONTH(E7) =12, M7+1, M7) -> 2004
A8: WJR215 | B8: NMFWCO | C8: ORD 2004 | D8: 2 | E8: 38154 | F8: =VLOOKUP(C8, Pivot!A$2:C$999, 3, FALSE) -> 38092 | G8: =E8-F8 -> 62 | H8: 203.5 | I8: =H8 -> 203.5 | J8: 202 | K8: =IF(J8>H8, J8-H8, IF(J8<I8, J8-I8, 0)) -> -1.5 | L8: =VLOOKUP(C8, Pivot!A$2:B$999, 2, FALSE) -> 1500 | M8: =YEAR(E8) -> 2004 | P8: =IF(MONTH(E8) =12, M8+1, M8) -> 2004
A9: WJR220 | B9: NMFWCO | C9: RRD 2004 | D9: 2 | E9: 38180 | F9: =VLOOKUP(C9, Pivot!A$2:C$999, 3, FALSE) -> 38081 | G9: =E9-F9 -> 99 | H9: 203.5 | I9: 196 | J9: 203.5 | K9: =IF(J9>H9, J9-H9, IF(J9<I9, J9-I9, 0)) -> 0 | L9: =VLOOKUP(C9, Pivot!A$2:B$999, 2, FALSE) -> 15199 | M9: =YEAR(E9) -> 2004 | P9: =IF(MONTH(E9) =12, M9+1, M9) -> 2004
A10: WJR221 | B10: NMFWCO | C10: RRD 2004 | D10: 1 | E10: 38180 | F10: =VLOOKUP(C10, Pivot!A$2:C$999, 3, FALSE) -> 38081 | G10: =E10-F10 -> 99 | H10: 203.5 | I10: 196 | J10: 202 | K10: =IF(J10>H10, J10-H10, IF(J10<I10, J10-I10, 0)) -> 0 | L10: =VLOOKUP(C10, Pivot!A$2:B$999, 2, FALSE) -> 15199 | M10: =YEAR(E10) -> 2004 | P10: =IF(MONTH(E10) =12, M10+1, M10) -> 2004
A11: WJR222 | B11: NMFWCO | C11: RRD 2004 | D11: 1 | E11: 38180 | F11: =VLOOKUP(C11, Pivot!A$2:C$999, 3, FALSE) -> 38081 | G11: =E11-F11 -> 99 | H11: 203.5 | I11: 196 | J11: 199.9 | K11: =IF(J11>H11, J11-H11, IF(J11<I11, J11-I11, 0)) -> 0 | L11: =VLOOKUP(C11, Pivot!A$2:B$999, 2, FALSE) -> 15199 | M11: =YEAR(E11) -> 2004 | P11: =IF(MONTH(E11) =12, M11+1, M11) -> 2004
A12: WJR227 | B12: NMFWCO | C12: ORD 2004 | D12: 1 | E12: 38208 | F12: =VLOOKUP(C12, Pivot!A$2:C$999, 3, FALSE) -> 38092 | G12: =E12-F12 -> 116 | H12: 203.5 | I12: =H12 -> 203.5 | J12: 203.5 | K12: =IF(J12>H12, J12-H12, IF(J12<I12, J12-I12, 0)) -> 0 | L12: =VLOOKUP(C12, Pivot!A$2:B$999, 2, FALSE) -> 1500 | M12: =YEAR(E12) -> 2004 | P12: =IF(MONTH(E12) =12, M12+1, M12) -> 2004
A13: WJR235 | B13: NMFWCO | C13: ORD 2004 | D13: 1 | E13: 38243 | F13: =VLOOKUP(C13, Pivot!A$2:C$999, 3, FALSE) -> 38092 | G13: =E13-F13 -> 151 | H13: 203.5 | I13: =H13 -> 203.5 | J13: 198.3 | K13: =IF(J13>H13, J13-H13, IF(J13<I13, J13-I13, 0)) -> -5.2 | L13: =VLOOKUP(C13, Pivot!A$2:B$999, 2, FALSE) -> 1500 | M13: =YEAR(E13) -> 2004 | P13: =IF(MONTH(E13) =12, M13+1, M13) -> 2004
A14: WJR237 | B14: NMFWCO | C14: RRD 2004 | D14: 1 | E14: 38243 | F14: =VLOOKUP(C14, Pivot!A$2:C$999, 3, FALSE) -> 38081 | G14: =E14-F14 -> 162 | H14: 203.5 | I14: 196 | J14: 202 | K14: =IF(J14>H14, J14-H14, IF(J14<I14, J14-I14, 0)) -> 0 | L14: =VLOOKUP(C14, Pivot!A$2:B$999, 2, FALSE) -> 15199 | M14: =YEAR(E14) -> 2004 | P14: =IF(MONTH(E14) =12, M14+1, M14) -> 2004
A15: WJR238 | B15: NMFWCO | C15: GRD 2004 | D15: 1 | E15: 38244 | F15: =VLOOKUP(C15, Pivot!A$2:C$999, 3, FALSE) -> 38081 | G15: =E15-F15 -> 163 | H15: 203.5 | I15: 196 | J15: 198.3 | K15: =IF(J15>H15, J15-H15, IF(J15<I15, J15-I15, 0)) -> 0 | L15: =VLOOKUP(C15, Pivot!A$2:B$999, 2, FALSE) -> 8500 | M15: =YEAR(E15) -> 2004 | P15: =IF(MONTH(E15) =12, M15+1, M15) -> 2004
A16: WJR242 | B16: NMFWCO | C16: RRD 2004 | D16: 1 | E16: 38278 | F16: =VLOOKUP(C16, Pivot!A$2:C$999, 3, FALSE) -> 38081 | G16: =E16-F16 -> 197 | H16: 203.5 | I16: 196 | J16: 203.5 | K16: =IF(J16>H16, J16-H16, IF(J16<I16, J16-I16, 0)) -> 0 | L16: =VLOOKUP(C16, Pivot!A$2:B$999, 2, FALSE) -> 15199 | M16: =YEAR(E16) -> 2004 | P16: =IF(MONTH(E16) =12, M16+1, M16) -> 2004
A17: WJR244 | B17: NMFWCO | C17: RRD 2004 | D17: 4 | E17: 38278 | F17: =VLOOKUP(C17, Pivot!A$2:C$999, 3, FALSE) -> 38081 | G17: =E17-F17 -> 197 | H17: 203.5 | I17: 196 | J17: 199.9 | K17: =IF(J17>H17, J17-H17, IF(J17<I17, J17-I17, 0)) -> 0 | L17: =VLOOKUP(C17, Pivot!A$2:B$999, 2, FALSE) -> 15199 | M17: =YEAR(E17) -> 2004 | P17: =IF(MONTH(E17) =12, M17+1, M17) -> 2004
A18: HEW04-01 | B18: NMFWCO | C18: RRD 2004 | D18: 1 | E18: 38281 | F18: =VLOOKUP(C18, Pivot!A$2:C$999, 3, FALSE) -> 38081 | G18: =E18-F18 -> 200 | H18: 203.5 | I18: 196 | J18: 199.9 | K18: =IF(J18>H18, J18-H18, IF(J18<I18, J18-I18, 0)) -> 0 | L18: =VLOOKUP(C18, Pivot!A$2:B$999, 2, FALSE) -> 15199 | M18: =YEAR(E18) -> 2004 | P18: =IF(MONTH(E18) =12, M18+1, M18) -> 2004
A19: HEW04-01 | B19: NMFWCO | C19: ORD 2004 | D19: 1 | E19: 38281 | F19: =VLOOKUP(C19, Pivot!A$2:C$999, 3, FALSE) -> 38092 | G19: =E19-F19 -> 189 | H19: 203.5 | I19: =H19 -> 203.5 | J19: 198.3 | K19: =IF(J19>H19, J19-H19, IF(J19<I19, J19-I19, 0)) -> -5.2 | L19: =VLOOKUP(C19, Pivot!A$2:B$999, 2, FALSE) -> 1500 | M19: =YEAR(E19) -> 2004 | P19: =IF(MONTH(E19) =12, M19+1, M19) -> 2004
A20: SRD156 | B20: NMFWCO | C20: YLA 2004 | D20: 2 | E20: 38313 | F20: =VLOOKUP(C20, Pivot!A$2:C$999, 3, FALSE) -> 38294 | G20: =E20-F20 -> 19 | H20: 203.5 | I20: =H20 -> 203.5 | J20: 203.5 | K20: =IF(J20>H20, J20-H20, IF(J20<I20, J20-I20, 0)) -> 0 | L20: =VLOOKUP(C20, Pivot!A$2:B$999, 2, FALSE) -> 6245 | M20: =YEAR(E20) -> 2004 | P20: =IF(MONTH(E20) =12, M20+1, M20) -> 2004
A21: SRD156 | B21: NMFWCO | C21: YRA 2004 | D21: 2 | E21: 38313 | F21: =VLOOKUP(C21, Pivot!A$2:C$999, 3, FALSE) -> 38294 | G21: =E21-F21 -> 19 | H21: 203.5 | I21: =H21 -> 203.5 | J21: 203.5 | K21: =IF(J21>H21, J21-H21, IF(J21<I21, J21-I21, 0)) -> 0 | L21: =VLOOKUP(C21, Pivot!A$2:B$999, 2, FALSE) -> 9622 | M21: =YEAR(E21) -> 2004 | P21: =IF(MONTH(E21) =12, M21+1, M21) -> 2004
A22: SRD156 | B22: NMFWCO | C22: RLA 2004 | D22: 2 | E22: 38313 | F22: =VLOOKUP(C22, Pivot!A$2:C$999, 3, FALSE) -> 38294 | G22: =E22-F22 -> 19 | H22: 203.5 | I22: =H22 -> 203.5 | J22: 203.5 | K22: =IF(J22>H22, J22-H22, IF(J22<I22, J22-I22, 0)) -> 0 | L22: =VLOOKUP(C22, Pivot!A$2:B$999, 2, FALSE) -> 6502 | M22: =YEAR(E22) -> 2004 | P22: =IF(MONTH(E22) =12, M22+1, M22) -> 2004
A23: SRD156 | B23: NMFWCO | C23: OLA 2004 | D23: 2 | E23: 38313 | F23: =VLOOKUP(C23, Pivot!A$2:C$999, 3, FALSE) -> 38296 | G23: =E23-F23 -> 17 | H23: 203.5 | I23: =H23 -> 203.5 | J23: 203.5 | K23: =IF(J23>H23, J23-H23, IF(J23<I23, J23-I23, 0)) -> 0 | L23: =VLOOKUP(C23, Pivot!A$2:B$999, 2, FALSE) -> 6065 | M23: =YEAR(E23) -> 2004 | P23: =IF(MONTH(E23) =12, M23+1, M23) -> 2004
A24: SRD156 | B24: NMFWCO | C24: ORA 2004 | D24: 8 | E24: 38313 | F24: =VLOOKUP(C24, Pivot!A$2:C$999, 3, FALSE) -> 38296 | G24: =E24-F24 -> 17 | H24: 203.5 | I24: =H24 -> 203.5 | J24: 203.5 | K24: =IF(J24>H24, J24-H24, IF(J24<I24, J24-I24, 0)) -> 0 | L24: =VLOOKUP(C24, Pivot!A$2:B$999, 2, FALSE) -> 7845 | M24: =YEAR(E24) -> 2004 | P24: =IF(MONTH(E24) =12, M24+1, M24) -> 2004
A25: SRD157 | B25: NMFWCO | C25: YLA 2004 | D25: 6 | E25: 38313 | F25: =VLOOKUP(C25, Pivot!A$2:C$999, 3, FALSE) -> 38294 | G25: =E25-F25 -> 19 | H25: 203.5 | I25: =H25 -> 203.5 | J25: 202 | K25: =IF(J25>H25, J25-H25, IF(J25<I25, J25-I25, 0)) -> -1.5 | L25: =VLOOKUP(C25, Pivot!A$2:B$999, 2, FALSE) -> 6245 | M25: =YEAR(E25) -> 2004 | P25: =IF(MONTH(E25) =12, M25+1, M25) -> 2004
A26: SRD157 | B26: NMFWCO | C26: YRA 2004 | D26: 5 | E26: 38313 | F26: =VLOOKUP(C26, Pivot!A$2:C$999, 3, FALSE) -> 38294 | G26: =E26-F26 -> 19 | H26: 203.5 | I26: =H26 -> 203.5 | J26: 202 | K26: =IF(J26>H26, J26-H26, IF(J26<I26, J26-I26, 0)) -> -1.5 | L26: =VLOOKUP(C26, Pivot!A$2:B$999, 2, FALSE) -> 9622 | M26: =YEAR(E26) -> 2004 | P26: =IF(MONTH(E26) =12, M26+1, M26) -> 2004
A27: SRD157 | B27: NMFWCO | C27: RLA 2004 | D27: 2 | E27: 38313 | F27: =VLOOKUP(C27, Pivot!A$2:C$999, 3, FALSE) -> 38294 | G27: =E27-F27 -> 19 | H27: 203.5 | I27: =H27 -> 203.5 | J27: 202 | K27: =IF(J27>H27, J27-H27, IF(J27<I27, J27-I27, 0)) -> -1.5 | L27: =VLOOKUP(C27, Pivot!A$2:B$999, 2, FALSE) -> 6502 | M27: =YEAR(E27) -> 2004 | P27: =IF(MONTH(E27) =12, M27+1, M27) -> 2004
A28: SRD157 | B28: NMFWCO | C28: OLA 2004 | D28: 5 | E28: 38313 | F28: =VLOOKUP(C28, Pivot!A$2:C$999, 3, FALSE) -> 38296 | G28: =E28-F28 -> 17 | H28: 203.5 | I28: =H28 -> 203.5 | J28: 202 | K28: =IF(J28>H28, J28-H28, IF(J28<I28, J28-I28, 0)) -> -1.5 | L28: =VLOOKUP(C28, Pivot!A$2:B$999, 2, FALSE) -> 6065 | M28: =YEAR(E28) -> 2004 | P28: =IF(MONTH(E28) =12, M28+1, M28) -> 2004
A29: SRD157 | B29: NMFWCO | C29: ORA 2004 | D29: 10 | E29: 38313 | F29: =VLOOKUP(C29, Pivot!A$2:C$999, 3, FALSE) -> 38296 | G29: =E29-F29 -> 17 | H29: 203.5 | I29: =H29 -> 203.5 | J29: 203.5 | K29: =IF(J29>H29, J29-H29, IF(J29<I29, J29-I29, 0)) -> 0 | L29: =VLOOKUP(C29, Pivot!A$2:B$999, 2, FALSE) -> 7845 | M29: =YEAR(E29) -> 2004 | P29: =IF(MONTH(E29) =12, M29+1, M29) -> 2004
A30: SRD157 | B30: NMFWCO | C30: GLA 2004 | D30: 1 | E30: 38313 | F30: =VLOOKUP(C30, Pivot!A$2:C$999, 3, FALSE) -> 38296 | G30: =E30-F30 -> 17 | H30: 203.5 | I30: 196 | J30: 202 | K30: =IF(J30>H30, J30-H30, IF(J30<I30, J30-I30, 0)) -> 0 | L30: =VLOOKUP(C30, Pivot!A$2:B$999, 2, FALSE) -> 6879 | M30: =YEAR(E30) -> 2004 | P30: =IF(MONTH(E30) =12, M30+1, M30) -> 2004
A31: SRD157 | B31: NMFWCO | C31: GRA 2004 | D31: 3 | E31: 38313 | F31: =VLOOKUP(C31, Pivot!A$2:C$999, 3, FALSE) -> 38296 | G31: =E31-F31 -> 17 | H31: 203.5 | I31: =H31 -> 203.5 | J31: 202 | K31: =IF(J31>H31, J31-H31, IF(J31<I31, J31-I31, 0)) -> -1.5 | L31: =VLOOKUP(C31, Pivot!A$2:B$999, 2, FALSE) -> 6956 | M31: =YEAR(E31) -> 2004 | P31: =IF(MONTH(E31) =12, M31+1, M31) -> 2004
A32: SRD158 | B32: NMFWCO | C32: YLA 2004 | D32: 4 | E32: 38313 | F32: =VLOOKUP(C32, Pivot!A$2:C$999, 3, FALSE) -> 38294 | G32: =E32-F32 -> 19 | H32: 203.5 | I32: =H32 -> 203.5 | J32: 199.9 | K32: =IF(J32>H32, J32-H32, IF(J32<I32, J32-I32, 0)) -> -3.6 | L32: =VLOOKUP(C32, Pivot!A$2:B$999, 2, FALSE) -> 6245 | M32: =YEAR(E32) -> 2004 | P32: =IF(MONTH(E32) =12, M32+1, M32) -> 2004
A33: SRD158 | B33: NMFWCO | C33: YRA 2004 | D33: 4 | E33: 38313 | F33: =VLOOKUP(C33, Pivot!A$2:C$999, 3, FALSE) -> 38294 | G33: =E33-F33 -> 19 | H33: 203.5 | I33: =H33 -> 203.5 | J33: 199.9 | K33: =IF(J33>H33, J33-H33, IF(J33<I33, J33-I33, 0)) -> -3.6 | L33: =VLOOKUP(C33, Pivot!A$2:B$999, 2, FALSE) -> 9622 | M33: =YEAR(E33) -> 2004 | P33: =IF(MONTH(E33) =12, M33+1, M33) -> 2004
A34: SRD158 | B34: NMFWCO | C34: RLA 2004 | D34: 7 | E34: 38313 | F34: =VLOOKUP(C34, Pivot!A$2:C$999, 3, FALSE) -> 38294 | G34: =E34-F34 -> 19 | H34: 203.5 | I34: =H34 -> 203.5 | J34: 199.9 | K34: =IF(J34>H34, J34-H34, IF(J34<I34, J34-I34, 0)) -> -3.6 | L34: =VLOOKUP(C34, Pivot!A$2:B$999, 2, FALSE) -> 6502 | M34: =YEAR(E34) -> 2004 | P34: =IF(MONTH(E34) =12, M34+1, M34) -> 2004
A35: SRD158 | B35: NMFWCO | C35: RRA 2004 | D35: 5 | E35: 38313 | F35: =VLOOKUP(C35, Pivot!A$2:C$999, 3, FALSE) -> 38294 | G35: =E35-F35 -> 19 | H35: 203.5 | I35: =H35 -> 203.5 | J35: 199.9 | K35: =IF(J35>H35, J35-H35, IF(J35<I35, J35-I35, 0)) -> -3.6 | L35: =VLOOKUP(C35, Pivot!A$2:B$999, 2, FALSE) -> 8639 | M35: =YEAR(E35) -> 2004 | P35: =IF(MONTH(E35) =12, M35+1, M35) -> 2004
A36: SRD158 | B36: NMFWCO | C36: OLA 2004 | D36: 2 | E36: 38313 | F36: =VLOOKUP(C36, Pivot!A$2:C$999, 3, FALSE) -> 38296 | G36: =E36-F36 -> 17 | H36: 203.5 | I36: =H36 -> 203.5 | J36: 199.9 | K36: =IF(J36>H36, J36-H36, IF(J36<I36, J36-I36, 0)) -> -3.6 | L36: =VLOOKUP(C36, Pivot!A$2:B$999, 2, FALSE) -> 6065 | M36: =YEAR(E36) -> 2004 | P36: =IF(MONTH(E36) =12, M36+1, M36) -> 2004
A37: SRD158 | B37: NMFWCO | C37: ORA 2004 | D37: 3 | E37: 38313 | F37: =VLOOKUP(C37, Pivot!A$2:C$999, 3, FALSE) -> 38296 | G37: =E37-F37 -> 17 | H37: 203.5 | I37: =H37 -> 203.5 | J37: 203.5 | K37: =IF(J37>H37, J37-H37, IF(J37<I37, J37-I37, 0)) -> 0 | L37: =VLOOKUP(C37, Pivot!A$2:B$999, 2, FALSE) -> 7845 | M37: =YEAR(E37) -> 2004 | P37: =IF(MONTH(E37) =12, M37+1, M37) -> 2004
A38: SRD158 | B38: NMFWCO | C38: GLA 2004 | D38: 1 | E38: 38313 | F38: =VLOOKUP(C38, Pivot!A$2:C$999, 3, FALSE) -> 38296 | G38: =E38-F38 -> 17 | H38: 203.5 | I38: 196 | J38: 199.9 | K38: =IF(J38>H38, J38-H38, IF(J38<I38, J38-I38, 0)) -> 0 | L38: =VLOOKUP(C38, Pivot!A$2:B$999, 2, FALSE) -> 6879 | M38: =YEAR(E38) -> 2004 | P38: =IF(MONTH(E38) =12, M38+1, M38) -> 2004
A39: SRD158 | B39: NMFWCO | C39: GRA 2004 | D39: 2 | E39: 38313 | F39: =VLOOKUP(C39, Pivot!A$2:C$999, 3, FALSE) -> 38296 | G39: =E39-F39 -> 17 | H39: 203.5 | I39: =H39 -> 203.5 | J39: 199.9 | K39: =IF(J39>H39, J39-H39, IF(J39<I39, J39-I39, 0)) -> -3.6 | L39: =VLOOKUP(C39, Pivot!A$2:B$999, 2, FALSE) -> 6956 | M39: =YEAR(E39) -> 2004 | P39: =IF(MONTH(E39) =12, M39+1, M39) -> 2004
A40: SRD159 | B40: NMFWCO | C40: ORD 2004 | D40: 1 | E40: 38313 | F40: =VLOOKUP(C40, Pivot!A$2:C$999, 3, FALSE) -> 38092 | G40: =E40-F40 -> 221 | H40: 203.5 | I40: =H40 -> 203.5 | J40: 198.3 | K40: =IF(J40>H40, J40-H40, IF(J40<I40, J40-I40, 0)) -> -5.2 | L40: =VLOOKUP(C40, Pivot!A$2:B$999, 2, FALSE) -> 1500 | M40: =YEAR(E40) -> 2004 | P40: =IF(MONTH(E40) =12, M40+1, M40) -> 2004
...

Sheet Sheet1
A1: rm | B1: rm
A2: 83.02 | B2: =VLOOKUP(A2,RKMtoRM!B:C,2,FALSE) -> #N/A
A3: 82.89 | B3: =VLOOKUP(Sheet1!#REF!,RKMtoRM!B:C,2,FALSE) -> #REF!
A4: 82.65 | B4: =VLOOKUP(Sheet1!#REF!,RKMtoRM!B:C,2,FALSE) -> #REF!
A5: 84.15 | B5: =VLOOKUP(Sheet1!#REF!,RKMtoRM!B:C,2,FALSE) -> #REF!
A6: 84.09 | B6: =VLOOKUP(Sheet1!#REF!,RKMtoRM!B:C,2,FALSE) -> #REF!
A7: 83.96 | B7: =VLOOKUP(Sheet1!#REF!,RKMtoRM!B:C,2,FALSE) -> #REF!
A8: 83.46 | B8: =VLOOKUP(Sheet1!#REF!,RKMtoRM!B:C,2,FALSE) -> #REF!
A9: 82.16 | B9: =VLOOKUP(Sheet1!#REF!,RKMtoRM!B:C,2,FALSE) -> #REF!
A10: 82.1 | B10: =VLOOKUP(Sheet1!#REF!,RKMtoRM!B:C,2,FALSE) -> #REF!
A11: 81.86 | B11: =VLOOKUP(Sheet1!#REF!,RKMtoRM!B:C,2,FALSE) -> #REF!
A12: 81.73 | B12: =VLOOKUP(Sheet1!#REF!,RKMtoRM!B:C,2,FALSE) -> #REF!
A13: 81.61 | B13: =VLOOKUP(Sheet1!#REF!,RKMtoRM!B:C,2,FALSE) -> #REF!
A14: 81.55 | B14: =VLOOKUP(Sheet1!#REF!,RKMtoRM!B:C,2,FALSE) -> #REF!
... A41: 94.06 | B41: =VLOOKUP(Sheet1!#REF!,RKMtoRM!B:C,2,FALSE) -> #REF!
B42: =VLOOKUP(Sheet1!#REF!,RKMtoRM!B:C,2,FALSE) -> #REF!
B43: =VLOOKUP(Sheet1!#REF!,RKMtoRM!B:C,2,FALSE) -> #REF!
B44: =VLOOKUP(Sheet1!#REF!,RKMtoRM!B:C,2,FALSE) -> #REF!

Sheet Pivot
A1: Row Labels | B1: Sum of Number | C1: Average of Date | D1: Max of RM | E1: Min of RM
A2: BLA 2005 | B2: 10242 | C2: 38455 | D2: 0 | E2: 0
A3: BLD 2005 | B3: 25436 | C3: 38663 | D3: 0 | E3: 0
A4: BLD 2020 | B4: 7935 | C4: 43913 | D4: 118.9 | E4: 111.9
A5: BRA 2005 | B5: 5011 | C5: 38455 | D5: 0 | E5: 0
A6: BRD 2005 | B6: 16282 | C6: 38664 | D6: 0 | E6: 0
A7: BRD 2018 | B7: 540 | C7: 43283 | D7: 115.6 | E7: 115.6
A8: BRD 2019 | B8: 11817 | C8: 43651.364 | D8: 118.9 | E8: 111.9
A9: BRD 2021 | B9: 14211 | C9: 44392.667 | D9: 154.5 | E9: 86.6
A10: GLA 2004 | B10: 6879 | C10: 38296 | D10: 0 | E10: 0
A11: GLD 2002 | B11: 7300 | C11: 37258 | D11: 101.6 | E11: 101.6
A12: GLD 2003 | B12: 61118 | C12: 37623 | D12: 203.2 | E12: 203.2
A13: GLD 2005 | B13: 10357 | C13: 38498 | D13: 177.9 | E13: 177.9
... A88: YRD 2021 | B88: 42000 | C88: 44529.667 | D88: 182.8 | E88: 86.3
A89: (blank)
A90: none 2004 | B90: 84651 | C90: 38035 | D90: 197.8 | E90: 197.8
A91: none 2006 | B91: 161568 | C91: 39023 | D91: 67.5 | E91: 67.5
A92: non 2007 | B92: 17000 | C92: 39233 | D92: 181 | E92: 181
A93: none 2020 | B93: 139306 | C93: 44154 | D93: 207.3 | E93: 103.2
A94: none 2021 | B94: 99625 | C94: 44510 | D94: 206.8 | E94: 113.7
A95: BLD 2018 | B95: 196 | C95: 43249 | D95: 115.6 | E95: 115.6
A96: N 2021 | B96: 664 | C96: 44538 | D96: 95.7 | E96: 95.7
A97: N 2022 | B97: 2993 | C97: 44627 | D97: 154.5 | E97: 118.9
A98: RLD 2022 | B98: 126504 | C98: 44890.25 | D98: 191.1 | E98: 92.3
A99: DRD 2021 | B99: 512 | C99: 44538 | D99: 95.7 | E99: 95.7
A100: RLD 2023 | B100: 32236 | C100: 44974.333 | D100: 118.7 | E100: 111.9
A101: RRD 2023 | B101: 46484 | C101: 45259.333 | D101: 86.3 | E101: 86.3
... A103: Grand Total | B103: 3833866 | C103: 41561.118 | D103: 207.3 | E103: 56.3

Sheet FishK
A1: Date | B1: Location | C1: Source | D1: Tank | E1: TL | F1: Standard Length | G1: Weight | H1: Clip | I1: converted.TL | J1: Ktl
A2: 44141 | B2: SNARRC | C2: NA | D2: NA | E2: 57 | F2: 45.34 | G2: 1.74 | H2: NA | I2: NA | J2: =IF(ISNUMBER(I2),(G2/I2^3*100000),(G2/E2^3*100000)) -> 0.93956035
A3: 44141 | B3: SNARRC | C3: NA | D3: NA | E3: 63 | F3: 50.314 | G3: 2.44 | H3: NA | I3: NA | J3: =IF(ISNUMBER(I3),(G3/I3^3*100000),(G3/E3^3*100000)) -> 0.97581655
A4: 44141 | B4: SNARRC | C4: NA | D4: NA | E4: 61 | F4: 48.656 | G4: 2.28 | H4: NA | I4: NA | J4: =IF(ISNUMBER(I4),(G4/I4^3*100000),(G4/E4^3*100000)) -> 1.0044894
A5: 44141 | B5: SNARRC | C5: NA | D5: NA | E5: 75 | F5: 60.262 | G5: 3.53 | H5: NA | I5: NA | J5: =IF(ISNUMBER(I5),(G5/I5^3*100000),(G5/E5^3*100000)) -> 0.83674074
A6: 44141 | B6: SNARRC | C6: NA | D6: NA | E6: 42 | F6: 32.905 | G6: 0.65 | H6: NA | I6: NA | J6: =IF(ISNUMBER(I6),(G6/I6^3*100000),(G6/E6^3*100000)) -> 0.87733506
A7: 44141 | B7: SNARRC | C7: NA | D7: NA | E7: 70 | F7: 56.117 | G7: 3.09 | H7: NA | I7: NA | J7: =IF(ISNUMBER(I7),(G7/I7^3*100000),(G7/E7^3*100000)) -> 0.90087464
A8: 44141 | B8: SNARRC | C8: NA | D8: NA | E8: 73 | F8: 58.604 | G8: 3.21 | H8: NA | I8: NA | J8: =IF(ISNUMBER(I8),(G8/I8^3*100000),(G8/E8^3*100000)) -> 0.82515674
A9: 44141 | B9: SNARRC | C9: NA | D9: NA | E9: 50 | F9: 39.537 | G9: 1.28 | H9: NA | I9: NA | J9: =IF(ISNUMBER(I9),(G9/I9^3*100000),(G9/E9^3*100000)) -> 1.024
A10: 44141 | B10: SNARRC | C10: NA | D10: NA | E10: 61 | F10: 48.656 | G10: 2.16 | H10: NA | I10: NA | J10: =IF(ISNUMBER(I10),(G10/I10^3*100000),(G10/E10^3*100000)) -> 0.9516215
A11: 44141 | B11: SNARRC | C11: NA | D11: NA | E11: 42 | F11: 32.905 | G11: 0.7 | H11: NA | I11: NA | J11: =IF(ISNUMBER(I11),(G11/I11^3*100000),(G11/E11^3*100000)) -> 0.94482237
A12: 44141 | B12: SNARRC | C12: NA | D12: NA | E12: 74 | F12: 59.433 | G12: 3.11 | H12: NA | I12: NA | J12: =IF(ISNUMBER(I12),(G12/I12^3*100000),(G12/E12^3*100000)) -> 0.76747675
A13: 44141 | B13: SNARRC | C13: NA | D13: NA | E13: 60 | F13: 47.827 | G13: 1.89 | H13: NA | I13: NA | J13: =IF(ISNUMBER(I13),(G13/I13^3*100000),(G13/E13^3*100000)) -> 0.875
... A51: 44141 | B51: SNARRC | C51: NA | D51: NA | E51: 53 | F51: 42.024 | G51: 1.32 | H51: NA | I51: NA | J51: =IF(ISNUMBER(I51),(G51/I51^3*100000),(G51/E51^3*100000)) -> 0.88663796
A52: 44112 | B52: BioPark | C52: NA | D52: NA | E52: NA | F52: 50.314 | G52: 1 | H52: Yes | I52: =1.203*F52+2.545 -> 63.072742 | J52: =IF(ISNUMBER(I52),(G52/I52^3*100000),(G52/E52^3*100000)) -> 0.39854271
A53: 44112 | B53: BioPark | C53: NA | D53: NA | E53: NA | F53: 42 | G53: 1.4 | H53: Yes | I53: =1.203*F53+2.545 -> 53.071 | J53: =IF(ISNUMBER(I53),(G53/I53^3*100000),(G53/E53^3*100000)) -> 0.93660446
A54: 44112 | B54: BioPark | C54: NA | D54: NA | E54: NA | F54: 43 | G54: 1.23 | H54: Yes | I54: =1.203*F54+2.545 -> 54.274 | J54: =IF(ISNUMBER(I54),(G54/I54^3*100000),(G54/E54^3*100000)) -> 0.76936003
A55: 44112 | B55: BioPark | C55: NA | D55: NA | E55: NA | F55: 44 | G55: 1.47 | H55: Yes | I55: =1.203*F55+2.545 -> 55.477 | J55: =IF(ISNUMBER(I55),(G55/I55^3*100000),(G55/E55^3*100000)) -> 0.86095099
A56: 44112 | B56: BioPark | C56: NA | D56: NA | E56: NA | F56: 47 | G56: 1.81 | H56: Yes | I56: =1.203*F56+2.545 -> 59.086 | J56: =IF(ISNUMBER(I56),(G56/I56^3*100000),(G56/E56^3*100000)) -> 0.8774549
A57: 44112 | B57: BioPark | C57: NA | D57: NA | E57: NA | F57: 46 | G57: 1.72 | H57: No | I57: =1.203*F57+2.545 -> 57.883 | J57: =IF(ISNUMBER(I57),(G57/I57^3*100000),(G57/E57^3*100000)) -> 0.88690142
A58: 44112 | B58: BioPark | C58: NA | D58: NA | E58: NA | F58: 42 | G58: 1.49 | H58: Yes | I58: =1.203*F58+2.545 -> 53.071 | J58: =IF(ISNUMBER(I58),(G58/I58^3*100000),(G58/E58^3*100000)) -> 0.99681475
A59: 44112 | B59: BioPark | C59: NA | D59: NA | E59: NA | F59: 48 | G59: 1.88 | H59: Yes | I59: =1.203*F59+2.545 -> 60.289 | J59: =IF(ISNUMBER(I59),(G59/I59^3*100000),(G59/E59^3*100000)) -> 0.85791371
A60: 44112 | B60: BioPark | C60: NA | D60: NA | E60: NA | F60: 48 | G60: 1.8 | H60: Yes | I60: =1.203*F60+2.545 -> 60.289 | J60: =IF(ISNUMBER(I60),(G60/I60^3*100000),(G60/E60^3*100000)) -> 0.82140674
A61: 44112 | B61: BioPark | C61: NA | D61: NA | E61: NA | F61: 42 | G61: 1.25 | H61: Yes | I61: =1.203*F61+2.545 -> 53.071 | J61: =IF(ISNUMBER(I61),(G61/I61^3*100000),(G61/E61^3*100000)) -> 0.83625398
A62: 44112 | B62: BioPark | C62: NA | D62: NA | E62: NA | F62: 42 | G62: 1.49 | H62: Yes | I62: =1.203*F62+2.545 -> 53.071 | J62: =IF(ISNUMBER(I62),(G62/I62^3*100000),(G62/E62^3*100000)) -> 0.99681475
A63: 44112 | B63: BioPark | C63: NA | D63: NA | E63: NA | F63: 47 | G63: 1.57 | H63: Yes | I63: =1.203*F63+2.545 -> 59.086 | J63: =IF(ISNUMBER(I63),(G63/I63^3*100000),(G63/E63^3*100000)) -> 0.76110729
... A152: 44112 | B152: Los Lunas | C152: NA | D152: NA | E152: NA | F152: 38 | G152: 0.9 | H152: Yes | I152: =1.203*F152+2.545 -> 48.259 | J152: =IF(ISNUMBER(I152),(G152/I152^3*100000),(G152/E152^3*100000)) -> 0.80076956
A153: 44489 | B153: LLSMR | C153: D-series | D153: NA | E153: 51 | F153: 42 | G153: 1.22 | H153: No | I153: NA | J153: =IF(ISNUMBER(I153),(G153/I153^3*100000),(G153/E153^3*100000)) -> 0.9197066
A154: 44489 | B154: LLSMR | C154: D-series | D154: NA | E154: 48 | F154: 38 | G154: 0.9 | H154: No | I154: NA | J154: =IF(ISNUMBER(I154),(G154/I154^3*100000),(G154/E154^3*100000)) -> 0.81380208
A155: 44489 | B155: LLSMR | C155: D-series | D155: NA | E155: 60 | F155: 49 | G155: 2.11 | H155: No | I155: NA | J155: =IF(ISNUMBER(I155),(G155/I155^3*100000),(G155/E155^3*100000)) -> 0.97685185
A156: 44489 | B156: LLSMR | C156: D-series | D156: NA | E156: 57 | F156: 46 | G156: 1.64 | H156: No | I156: NA | J156: =IF(ISNUMBER(I156),(G156/I156^3*100000),(G156/E156^3*100000)) -> 0.88556263
A157: 44489 | B157: LLSMR | C157: D-series | D157: NA | E157: 51 | F157: 42 | G157: 1.28 | H157: No | I157: NA | J157: =IF(ISNUMBER(I157),(G157/I157^3*100000),(G157/E157^3*100000)) -> 0.96493807
A158: 44489 | B158: LLSMR | C158: D-series | D158: NA | E158: 58 | F158: 47 | G158: 1.85 | H158: No | I158: NA | J158: =IF(ISNUMBER(I158),(G158/I158^3*100000),(G158/E158^3*100000)) -> 0.94817336
A159: 44489 | B159: LLSMR | C159: D-series | D159: NA | E159: 59 | F159: 47 | G159: 1.7 | H159: No | I159: NA | J159: =IF(ISNUMBER(I159),(G159/I159^3*100000),(G159/E159^3*100000)) -> 0.82773799
A160: 44489 | B160: LLSMR | C160: D-series | D160: NA | E160: 55 | F160: 45 | G160: 1.39 | H160: No | I160: NA | J160: =IF(ISNUMBER(I160),(G160/I160^3*100000),(G160/E160^3*100000)) -> 0.83546206
A161: 44489 | B161: LLSMR | C161: D-series | D161: NA | E161: 54 | F161: 44 | G161: 1.24 | H161: No | I161: NA | J161: =IF(ISNUMBER(I161),(G161/I161^3*100000),(G161/E161^3*100000)) -> 0.78748158
A162: 44489 | B162: LLSMR | C162: D-series | D162: NA | E162: 59 | F162: 48 | G162: 1.8 | H162: No | I162: NA | J162: =IF(ISNUMBER(I162),(G162/I162^3*100000),(G162/E162^3*100000)) -> 0.87642846
A163: 44489 | B163: LLSMR | C163: D-series | D163: NA | E163: 56 | F163: 46 | G163: 1.59 | H163: No | I163: NA | J163: =IF(ISNUMBER(I163),(G163/I163^3*100000),(G163/E163^3*100000)) -> 0.90538448
A164: 44489 | B164: LLSMR | C164: D-series | D164: NA | E164: 55 | F164: 44 | G164: 1.42 | H164: No | I164: NA | J164: =IF(ISNUMBER(I164),(G164/I164^3*100000),(G164/E164^3*100000)) -> 0.85349361
... A302: 44503 | B302: SNARRC | C302: NA | D302: NA | E302: 59 | F302: 49 | G302: 2.02 | H302: No | I302: NA | J302: =IF(ISNUMBER(I302),(G302/I302^3*100000),(G302/E302^3*100000)) -> 0.98354749
...

Sheet Metadata
A1: Sheet | H1: RM | I1: Latitude | J1: Longitude
A2: Recaptures | B2: Agency | E2: Site | F2: RM | H2: 21.4 | I2: 33.154143 | J2: -107.19192
B3: ASIR | C3: American Southwest Ichthyological Researchers | E3: Santa Ana Pueblo | F3: 207.3 | H3: 21.5 | I3: 33.155047 | J3: -107.19068
B4: NMES | C4: New Mexico Ecological Services | E4: Sandia Pueblo | F4: 197.8 | H4: 21.6 | I4: 33.155823 | J4: -107.18951
B5: NMFWCO | C5: New Mexico Fish and Wildlife Conservation Office | E5: Alameda Bridge | F5: 191.1 | H5: 21.7 | I5: 33.157073 | J5: -107.18841
B6: BOR | C6: Bureau Of Reclamation | E6: Bridge Street | F6: 181 | H6: 21.8 | I6: 33.157992 | J6: -107.1872
B7: SAP | C7: Santa Ana Pueblo | E7: Los Lunas | F7: 161.5 | H7: 21.9 | I7: 33.158816 | J7: -107.1859
B8: UNM | C8: University of New Mexico | E8: Peralta Wasteway Outfall | F8: 152.7 | H8: 22 | I8: 33.159577 | J8: -107.18457
B9: USACE | C9: United States Army Corps of Engineers | E9: Jarales Bridge | F9: 141.3 | H9: 22.1 | I9: 33.160407 | J9: -107.18329
B10: SWCA | C10: SWCA, Environmental Consultants | E10: Sabinal Drain Outfall | F10: 138.3 | H10: 22.2 | I10: 33.161419 | J10: -107.18214
B11: Mark | E11: Bernardo | F11: 131.1 | H11: 22.3 | I11: 33.162431 | J11: -107.18098
B12: First/second Letter | C12: Color: W - White, PU - Purple, P - Pink, G - Green, B - Blue, R - Red, O - Orange, Y - Yellow, RG - Red and Green | E12: Rio Puerco Confluence | F12: 127.9 | H12: 22.4 | I12: 33.163574 | J12: -107.17975
B13: Second Letter | C13: Side: R - Right, L - Left | E13: SADD | F13: 115.6 | H13: 22.5 | I13: 33.164676 | J13: -107.17891
B14: Third Letter | C14: Location: D - Dorsal, A - Anal | E14: Socorro | F14: 101.6 | H14: 22.6 | I14: 33.166162 | J14: -107.17869
B15: Year | C15: Year of release | E15: Brown's Arroyo | F15: 95.7 | H15: 22.7 | I15: 33.167604 | J15: -107.17903
E16: North Boundary BDANWR | F16: 86.5 | H16: 22.8 | I16: 33.168969 | J16: -107.17973
B17: RM Released | E17: Mid-BDANWR | F17: 80.4 | H17: 22.9 | I17: 33.170127 | J17: -107.18072
B18: Max RM Released | C18: Upstream most site released at | E18: San Marcial | F18: 67.5 | H18: 23 | I18: 33.171165 | J18: -107.18183
B19: Min RM Released | C19: Downstream mose site released at, unless that particular color was only released at one site, then same as max | E19: 1.5 mi below SADD | F19: 114.2 | H19: 23.1 | I19: 33.171923 | J19: -107.18317
E20: Neil Cupp | F20: 92.2 | H20: 23.2 | I20: 33.172791 | J20: -107.18469
E21: Above SADD | F21: 117.8 | H21: 23.3 | I21: 33.173645 | J21: -107.18542
E22: 8 mi below San Marcial | F22: 58.5 | H22: 23.4 | I22: 33.175084 | J22: -107.18637
E23: 10 miles below SMRRXG | F23: 56.3 | H23: 23.5 | I23: 33.176331 | J23: -107.1872
B24: Santa Ana Pueblo | C24: 207.3 | E24: Belen | F24: 149.9 | H24: 23.6 | I24: 33.177842 | J24: -107.18764
B25: Sandia Pueblo | C25: 197.8 | E25: San Antonio | F25: 89.7 | H25: 23.7 | I25: 33.179313 | J25: -107.18807
B26: Alameda Bridge | C26: 191.1 | E26: Bernalillo | F26: 203.2 | H26: 23.8 | I26: 33.180815 | J26: -107.18833
B27: Bridge Street | C27: 181 | E27: Rio Bravo | F27: 177.9 | H27: 23.9 | I27: 33.182348 | J27: -107.18839
B28: Los Lunas | C28: 161.5 | E28: Central Bridge | F28: 182.8 | H28: 24 | I28: 33.18388 | J28: -107.18836
B29: Peralta Wasteway Outfall | C29: 152.7 | E29: Escondida | F29: 104.8 | H29: 24.1 | I29: 33.185366 | J29: -107.18807
B30: Jarales Bridge | C30: 141.3 | E30: RGSM Sanctuary | F30: 179.7 | H30: 24.2 | I30: 33.186768 | J30: -107.18745
B31: Sabinal Drain Outfall | C31: 138.3 | E31: La Joya | F31: 131.1 | H31: 24.3 | I31: 33.188002 | J31: -107.18656
B32: Bernardo | C32: 131.1 | E32: SANDIA LINE 14 | F32: 200.8 | H32: 24.4 | I32: 33.188989 | J32: -107.1854
B33: Rio Puerco Confluence | C33: 127.9 | E33: LOMITAS NEGRAS | F33: 197.8 | H33: 24.5 | I33: 33.190279 | J33: -107.18473
B34: SADD | C34: 114.2 | E34: DIXON ROAD | F34: 195.2 | H34: 24.6 | I34: 33.191788 | J34: -107.18466
B35: Socorro | C35: 101.6 | E35: NORTH AMAFCA | F35: 193.5 | H35: 24.7 | I35: 33.193233 | J35: -107.18514
... B39: San Marcial | C39: 67.5 | E39: IDD | F39: 169.3 | H39: 25.1 | I39: 33.198995 | J39: -107.18689
E40: LP2DR | F40: 145.1 | H40: 25.2 | I40: 33.200498 | J40: -107.18701
A41: Releases | B41: Date | C41: Date released | E41: LP2DR OUTFALL | F41: 145.1 | H41: 25.3 | I41: 33.20201 | J41: -107.18723
B42: Color | C42: Visible tag color | E42: SABINAL DRAIN | F42: 138.3 | H42: 25.4 | I42: 33.203613 | J42: -107.18756
B43: Side | C43: Side of fish (left or right) of visible tag | E43: SABINAL OUTFALL | F43: 138.3 | H43: 25.5 | I43: 33.204712 | J43: -107.18811
...

Sheet RKMtoRM
A1: Name | B1: Rkm | C1: near.rm | D1: Latitude | E1: Longitude
A2: Rio Grande | B2: 185.6 | C2: 38.09 | D2: 33.314754 | E2: -107.16849
A3: Rio Grande | B3: 185.7 | C3: 38.17 | D3: 33.315834 | E3: -107.16863
A4: Rio Grande | B4: 185.8 | C4: 38.24 | D4: 33.316914 | E4: -107.16878
A5: Rio Grande | B5: 185.9 | C5: 38.34 | D5: 33.318001 | E5: -107.16875
A6: Rio Grande | B6: 186 | C6: 38.41 | D6: 33.319092 | E6: -107.16871
A7: Rio Grande | B7: 186.1 | C7: 38.5 | D7: 33.320179 | E7: -107.16866
A8: Rio Grande | B8: 186.2 | C8: 38.59 | D8: 33.321262 | E8: -107.16868
A9: Rio Grande | B9: 186.3 | C9: 38.66 | D9: 33.322262 | E9: -107.16908
A10: Rio Grande | B10: 186.4 | C10: 38.74 | D10: 33.322929 | E10: -107.16827
A11: Rio Grande | B11: 186.5 | C11: 38.81 | D11: 33.323334 | E11: -107.1674
A12: Rio Grande | B12: 186.6 | C12: 38.89 | D12: 33.324158 | E12: -107.168
A13: Rio Grande | B13: 186.7 | C13: 38.96 | D13: 33.324928 | E13: -107.16874
... A2915: Rio Grande | B2915: 476.9 | C2915: 232.99 | D2915: 35.712261 | E2915: -106.29222
