Workbook

Sheet README
B1: 366-Day Temperature Template.xlsx (mod. 2021-01-22 S. Lohr)
B2: Workbook summarizes temperature data from a logger during a 366-day year (i.e., a leap year) and allows data clean-up.
B3: Onset data files (recording on the half hour and consisting of two fields--Date/time and temperature (C ))
B4: are exported as as txt or csv files. Data for a year, or a portion of a year, are pasted into the worksheet to calculate:
B6: D_mean | C6: daily mean temperature
B7: D_min | C7: daily minimum temperature
B8: D_max | C8: daily maximum temperature
B9: D_sd | C9: SD of the daily mean
B10: D_range | C10: difference of daily max and min
B11: AWAT | C11: average weekly average temperature (seven-day moving average of daily means)
B12: AWMINT | C12: average weekly minimum temperature (seven-day moving average of daily mins)
B13: AWMT | C13: average weekly maximum temperature (seven-day moving average of daily maxs)
B15: Data are entered into worksheets with green fill and cells.
B16: All other worksheets and cells are protected using the password: fws
B17: This file is to be used only for leap years.
B18: Each worksheet in the workbook is described below:
A20: Tab | B20: WORKSHEET | D20: DESCRIPTION
A21: 1 | B21: README | D21: Instructions and descriptions.
A23: 2 | B23: INPUT COMMENTS | D23: Enter details about logger deployment and data clean up (i.e., whether partial days or dates on which logger was deployed or downloaded have been deleted, inspected and adjusted data for D_range>10C in water deployments, etc.).
A25: 3 | B25: INPUT | D25: Allows input of data (cells shaded green) and calculates several summary variables. Temperature must be recorded at 30-minute intervals, and data consist of date/time and temperature fields.
D26: Export both fields as a txt or csv file from Onset software, and paste into columns C and D after matching the first record with the date and time in columns A and B.
D27: Columns E-I are used to calculate daily values: mean, minimum, maximum, SD of mean, and range (max-min) based on the 48 records for each day. The Julian date, date (m/d), and the four daily values are reported in columns J-P.
D28: Seven-day moving averages for daily mean, minimum, and maximum are reported in columns Q-S. To calculate these for data collected across two years, daily mean, minimum, and maximum of the
D29: preceding six days of the first year (i.e., December 26-31) are entered in cells V3:X8. The current year (second) and serial number of the logger are also entered.
D30: Note that moving averages are based on fewer than 7 days following dates with missing or removed values in the preceding week.
D31: Annual values are summarized in U12:AB22, and the number of days with data and number of days with daily range > 10 are reported, which can be used for data clean up.
A33: 4-15 | B33: JAN-DEC | D33: Each worksheet reports daily and seven-day moving average values for a month. The monthly mean, minimum, maximum, and SD of the daily and weekly values of each variable are calculated (rows after the last day of the month).
D34: An intent of these sheets are to assist in review for potential suspect values (e.g., a high daily range) that should be omitted.
A36: 16 | B36: MONTHLY SUMMARY | D36: All monthly values (from worksheets JAN-DEC) are compiled for ease of generating figures.

Sheet INPUT COMMENTS
A1: CORRECTIONS | H1: Y/N | I1: COMMENTS
A2: Deployed in air?
A3: Deployed in water?
A4: Omitted data for dates of deployment and downloading?
A5: Omitted data for days where D_range > 10C for water deployments?
A7: Location description--
A9: Other comments--

Sheet INPUT
A1: Date | B1: Time | C1: Date Time | D1: Temp (°C) | E1: D_mean | F1: D_min | G1: D_max | H1: D_sd | I1: D_range | J1: Julian Date | K1: Date | L1: D_mean | M1: D_min | N1: D_max | O1: D_sd | P1: D_range | Q1: AWAT | R1: AWMINT | S1: AWMT | U1: INSERT D_VALUES FROM PREVIOUS YEAR
A2: 43101 | B2: 0 | J2: 1 | K2: =+A49 -> 43101 | L2: =+E49 | M2: =+F49 | N2: =+G49 | O2: =+H49 -> #DIV/0! | P2: =+I49 | Q2: =+IF(L2="","",(L2+SUM(V3:V8))/7) | R2: =+IF(L2="","",(M2+SUM(W3:W8))/7) | S2: =+IF(L2="","",(N2+SUM(X3:X8))/7) | U2: DATE | V2: D_mean | W2: D_min | X2: D_max
A3: 43101 | B3: 0.020833333 | J3: =+J2+1 -> 2 | K3: =+A97 -> 43102 | L3: =+E97 | M3: =+F97 | N3: =+G97 | O3: =+H97 -> #DIV/0! | P3: =+I97 | Q3: =+IF(L3="","",(SUM(L2:L3)+SUM(V4:V8))/7) | R3: =+IF(L3="","",(SUM(M2:M3)+SUM(W4:W8))/7) | S3: =+IF(L3="","",(SUM(N2:N3)+SUM(X4:X8))/7) | U3: 12/26
A4: 43101 | B4: 0.041666667 | J4: =+J3+1 -> 3 | K4: =+A145 -> 43103 | L4: =+E145 | M4: =+F145 | N4: =+G145 | O4: =+H145 -> #DIV/0! | P4: =+I145 | Q4: =+IF(L4="","",(SUM(L2:L4)+SUM(V5:V8))/7) | R4: =+IF(L4="","",(SUM(M2:M4)+SUM(W5:W8))/7) | S4: =+IF(L4="","",(SUM(N2:N4)+SUM(X5:X8))/7) | U4: 12/27
A5: 43101 | B5: 0.0625 | J5: =+J4+1 -> 4 | K5: =+A193 -> 43104 | L5: =+E193 | M5: =+F193 | N5: =+G193 | O5: =+H193 -> #DIV/0! | P5: =+I193 | Q5: =+IF(L5="","",(SUM(L2:L5)+SUM(V6:V8))/7) | R5: =+IF(L5="","",(SUM(M2:M5)+SUM(W6:W8))/7) | S5: =+IF(L5="","",(SUM(N2:N5)+SUM(X6:X8))/7) | U5: 12/28
A6: 43101 | B6: 0.083333333 | J6: =+J5+1 -> 5 | K6: =+A241 -> 43105 | L6: =+E241 | M6: =+F241 | N6: =+G241 | O6: =+H241 -> #DIV/0! | P6: =+I241 | Q6: =+IF(L6="","",(SUM(L2:L6)+SUM(V7:V8))/7) | R6: =+IF(L6="","",(SUM(M2:M6)+SUM(W7:W8))/7) | S6: =+IF(L6="","",(SUM(N2:N6)+SUM(X7:X8))/7) | U6: 12/29
A7: 43101 | B7: 0.10416667 | J7: =+J6+1 -> 6 | K7: =+A289 -> 43106 | L7: =+E289 | M7: =+F289 | N7: =+G289 | O7: =+H289 -> #DIV/0! | P7: =+I289 | Q7: =+IF(L7="","",(SUM(L2:L7)+V8)/7) | R7: =+IF(L7="","",(SUM(M2:M7)+W8)/7) | S7: =+IF(L7="","",(SUM(N2:N7)+X8)/7) | U7: 12/30
A8: 43101 | B8: 0.125 | J8: =+J7+1 -> 7 | K8: =+A337 -> 43107 | L8: =+E337 | M8: =+F337 | N8: =+G337 | O8: =+H337 -> #DIV/0! | P8: =+I337 | Q8: =IF(L8="","",(AVERAGE(L2:L8))) | R8: =IF(L8="","",(AVERAGE(M2:M8))) | S8: =IF(L8="","",(AVERAGE(N2:N8))) | U8: 12/31
A9: 43101 | B9: 0.14583333 | J9: =+J8+1 -> 8 | K9: =+A385 -> 43108 | L9: =+E385 | M9: =+F385 | N9: =+G385 | O9: =+H385 -> #DIV/0! | P9: =+I385 | Q9: =IF(L9="","",(AVERAGE(L3:L9))) | R9: =IF(L9="","",(AVERAGE(M3:M9))) | S9: =IF(L9="","",(AVERAGE(N3:N9)))
A10: 43101 | B10: 0.16666667 | J10: =+J9+1 -> 9 | K10: =+A433 -> 43109 | L10: =+E433 | M10: =+F433 | N10: =+G433 | O10: =+H433 -> #DIV/0! | P10: =+I433 | Q10: =IF(L10="","",(AVERAGE(L4:L10))) | R10: =IF(L10="","",(AVERAGE(M4:M10))) | S10: =IF(L10="","",(AVERAGE(N4:N10))) | U10: INSERT CURRENT YEAR-
A11: 43101 | B11: 0.1875 | J11: =+J10+1 -> 10 | K11: =+A481 -> 43110 | L11: =+E481 | M11: =+F481 | N11: =+G481 | O11: =+H481 -> #DIV/0! | P11: =+I481 | Q11: =IF(L11="","",(AVERAGE(L5:L11))) | R11: =IF(L11="","",(AVERAGE(M5:M11))) | S11: =IF(L11="","",(AVERAGE(N5:N11))) | U11: LOGGER S/N-
A12: 43101 | B12: 0.20833333 | J12: =+J11+1 -> 11 | K12: =+A529 -> 43111 | L12: =+E529 | M12: =+F529 | N12: =+G529 | O12: =+H529 -> #DIV/0! | P12: =+I529 | Q12: =IF(L12="","",(AVERAGE(L6:L12))) | R12: =IF(L12="","",(AVERAGE(M6:M12))) | S12: =IF(L12="","",(AVERAGE(N6:N12)))
A13: 43101 | B13: 0.22916667 | J13: =+J12+1 -> 12 | K13: =+A577 -> 43112 | L13: =+E577 | M13: =+F577 | N13: =+G577 | O13: =+H577 -> #DIV/0! | P13: =+I577 | Q13: =IF(L13="","",(AVERAGE(L7:L13))) | R13: =IF(L13="","",(AVERAGE(M7:M13))) | S13: =IF(L13="","",(AVERAGE(N7:N13))) | U13: ANNUAL SUMMARY
A14: 43101 | B14: 0.25 | J14: =+J13+1 -> 13 | K14: =+A625 -> 43113 | L14: =+E625 | M14: =+F625 | N14: =+G625 | O14: =+H625 -> #DIV/0! | P14: =+I625 | Q14: =IF(L14="","",(AVERAGE(L8:L14))) | R14: =IF(L14="","",(AVERAGE(M8:M14))) | S14: =IF(L14="","",(AVERAGE(N8:N14))) | V14: =+L368 -> D_mean | W14: =+M368 -> D_min | X14: =+N368 -> D_max | Y14: =+P368 -> D_range | Z14: =+Q368 -> AWAT | AA14: =+R368 -> AWMINT | AB14: =+S368 -> AWMT
A15: 43101 | B15: 0.27083333 | J15: =+J14+1 -> 14 | K15: =+A673 -> 43114 | L15: =+E673 | M15: =+F673 | N15: =+G673 | O15: =+H673 -> #DIV/0! | P15: =+I673 | Q15: =IF(L15="","",(AVERAGE(L9:L15))) | R15: =IF(L15="","",(AVERAGE(M9:M15))) | S15: =IF(L15="","",(AVERAGE(N9:N15))) | U15: =+K369 -> MEAN | V15: =+L369 -> #DIV/0! | W15: =+M369 -> #DIV/0! | X15: =+N369 -> #DIV/0! | Y15: =+P369 -> #DIV/0! | Z15: =+Q369 -> #DIV/0! | AA15: =+R369 -> #DIV/0! | AB15: =+S369 -> #DIV/0!
A16: 43101 | B16: 0.29166667 | J16: =+J15+1 -> 15 | K16: =+A721 -> 43115 | L16: =+E721 | M16: =+F721 | N16: =+G721 | O16: =+H721 -> #DIV/0! | P16: =+I721 | Q16: =IF(L16="","",(AVERAGE(L10:L16))) | R16: =IF(L16="","",(AVERAGE(M10:M16))) | S16: =IF(L16="","",(AVERAGE(N10:N16))) | U16: =+K370 -> MIN | V16: =+L370 -> 0 | W16: =+M370 -> 0 | X16: =+N370 -> 0 | Y16: =+P370 -> 0 | Z16: =+Q370 -> 0 | AA16: =+R370 -> 0 | AB16: =+S370 -> 0
A17: 43101 | B17: 0.3125 | J17: =+J16+1 -> 16 | K17: =+A769 -> 43116 | L17: =+E769 | M17: =+F769 | N17: =+G769 | O17: =+H769 -> #DIV/0! | P17: =+I769 | Q17: =IF(L17="","",(AVERAGE(L11:L17))) | R17: =IF(L17="","",(AVERAGE(M11:M17))) | S17: =IF(L17="","",(AVERAGE(N11:N17))) | U17: =+K371 -> MAX | V17: =+L371 -> 0 | W17: =+M371 -> 0 | X17: =+N371 -> 0 | Y17: =+P371 -> 0 | Z17: =+Q371 -> 0 | AA17: =+R371 -> 0 | AB17: =+S371 -> 0
A18: 43101 | B18: 0.33333333 | J18: =+J17+1 -> 17 | K18: =+A817 -> 43117 | L18: =+E817 | M18: =+F817 | N18: =+G817 | O18: =+H817 -> #DIV/0! | P18: =+I817 | Q18: =IF(L18="","",(AVERAGE(L12:L18))) | R18: =IF(L18="","",(AVERAGE(M12:M18))) | S18: =IF(L18="","",(AVERAGE(N12:N18))) | U18: =+K372 -> SD | V18: =+L372 -> #DIV/0! | W18: =+M372 -> #DIV/0! | X18: =+N372 -> #DIV/0! | Y18: =+P372 -> #DIV/0! | Z18: =+Q372 -> #DIV/0! | AA18: =+R372 -> #DIV/0! | AB18: =+S372 -> #DIV/0!
A19: 43101 | B19: 0.35416667 | J19: =+J18+1 -> 18 | K19: =+A865 -> 43118 | L19: =+E865 | M19: =+F865 | N19: =+G865 | O19: =+H865 -> #DIV/0! | P19: =+I865 | Q19: =IF(L19="","",(AVERAGE(L13:L19))) | R19: =IF(L19="","",(AVERAGE(M13:M19))) | S19: =IF(L19="","",(AVERAGE(N13:N19)))
A20: 43101 | B20: 0.375 | J20: =+J19+1 -> 19 | K20: =+A913 -> 43119 | L20: =+E913 | M20: =+F913 | N20: =+G913 | O20: =+H913 -> #DIV/0! | P20: =+I913 | Q20: =IF(L20="","",(AVERAGE(L14:L20))) | R20: =IF(L20="","",(AVERAGE(M14:M20))) | S20: =IF(L20="","",(AVERAGE(N14:N20))) | U20: =+K374 -> # DAYS (N)= | W20: =+M374 -> 0
A21: 43101 | B21: 0.39583333 | J21: =+J20+1 -> 20 | K21: =+A961 -> 43120 | L21: =+E961 | M21: =+F961 | N21: =+G961 | O21: =+H961 -> #DIV/0! | P21: =+I961 | Q21: =IF(L21="","",(AVERAGE(L15:L21))) | R21: =IF(L21="","",(AVERAGE(M15:M21))) | S21: =IF(L21="","",(AVERAGE(N15:N21)))
A22: 43101 | B22: 0.41666667 | J22: =+J21+1 -> 21 | K22: =+A1009 -> 43121 | L22: =+E1009 | M22: =+F1009 | N22: =+G1009 | O22: =+H1009 -> #DIV/0! | P22: =+I1009 | Q22: =IF(L22="","",(AVERAGE(L16:L22))) | R22: =IF(L22="","",(AVERAGE(M16:M22))) | S22: =IF(L22="","",(AVERAGE(N16:N22))) | U22: =+K376 -> # DAYS D_range>10= | W22: =+M376 -> 0
A23: 43101 | B23: 0.4375 | J23: =+J22+1 -> 22 | K23: =+A1057 -> 43122 | L23: =+E1057 | M23: =+F1057 | N23: =+G1057 | O23: =+H1057 -> #DIV/0! | P23: =+I1057 | Q23: =IF(L23="","",(AVERAGE(L17:L23))) | R23: =IF(L23="","",(AVERAGE(M17:M23))) | S23: =IF(L23="","",(AVERAGE(N17:N23)))
A24: 43101 | B24: 0.45833333 | J24: =+J23+1 -> 23 | K24: =+A1105 -> 43123 | L24: =+E1105 | M24: =+F1105 | N24: =+G1105 | O24: =+H1105 -> #DIV/0! | P24: =+I1105 | Q24: =IF(L24="","",(AVERAGE(L18:L24))) | R24: =IF(L24="","",(AVERAGE(M18:M24))) | S24: =IF(L24="","",(AVERAGE(N18:N24)))
A25: 43101 | B25: 0.47916667 | J25: =+J24+1 -> 24 | K25: =+A1153 -> 43124 | L25: =+E1153 | M25: =+F1153 | N25: =+G1153 | O25: =+H1153 -> #DIV/0! | P25: =+I1153 | Q25: =IF(L25="","",(AVERAGE(L19:L25))) | R25: =IF(L25="","",(AVERAGE(M19:M25))) | S25: =IF(L25="","",(AVERAGE(N19:N25)))
A26: 43101 | B26: 0.5 | J26: =+J25+1 -> 25 | K26: =+A1201 -> 43125 | L26: =+E1201 | M26: =+F1201 | N26: =+G1201 | O26: =+H1201 -> #DIV/0! | P26: =+I1201 | Q26: =IF(L26="","",(AVERAGE(L20:L26))) | R26: =IF(L26="","",(AVERAGE(M20:M26))) | S26: =IF(L26="","",(AVERAGE(N20:N26)))
A27: 43101 | B27: 0.52083333 | J27: =+J26+1 -> 26 | K27: =+A1249 -> 43126 | L27: =+E1249 | M27: =+F1249 | N27: =+G1249 | O27: =+H1249 -> #DIV/0! | P27: =+I1249 | Q27: =IF(L27="","",(AVERAGE(L21:L27))) | R27: =IF(L27="","",(AVERAGE(M21:M27))) | S27: =IF(L27="","",(AVERAGE(N21:N27)))
A28: 43101 | B28: 0.54166667 | J28: =+J27+1 -> 27 | K28: =+A1297 -> 43127 | L28: =+E1297 | M28: =+F1297 | N28: =+G1297 | O28: =+H1297 -> #DIV/0! | P28: =+I1297 | Q28: =IF(L28="","",(AVERAGE(L22:L28))) | R28: =IF(L28="","",(AVERAGE(M22:M28))) | S28: =IF(L28="","",(AVERAGE(N22:N28)))
A29: 43101 | B29: 0.5625 | J29: =+J28+1 -> 28 | K29: =+A1345 -> 43128 | L29: =+E1345 | M29: =+F1345 | N29: =+G1345 | O29: =+H1345 -> #DIV/0! | P29: =+I1345 | Q29: =IF(L29="","",(AVERAGE(L23:L29))) | R29: =IF(L29="","",(AVERAGE(M23:M29))) | S29: =IF(L29="","",(AVERAGE(N23:N29)))
A30: 43101 | B30: 0.58333333 | J30: =+J29+1 -> 29 | K30: =+A1393 -> 43129 | L30: =+E1393 | M30: =+F1393 | N30: =+G1393 | O30: =+H1393 -> #DIV/0! | P30: =+I1393 | Q30: =IF(L30="","",(AVERAGE(L24:L30))) | R30: =IF(L30="","",(AVERAGE(M24:M30))) | S30: =IF(L30="","",(AVERAGE(N24:N30)))
A31: 43101 | B31: 0.60416667 | J31: =+J30+1 -> 30 | K31: =+A1441 -> 43130 | L31: =+E1441 | M31: =+F1441 | N31: =+G1441 | O31: =+H1441 -> #DIV/0! | P31: =+I1441 | Q31: =IF(L31="","",(AVERAGE(L25:L31))) | R31: =IF(L31="","",(AVERAGE(M25:M31))) | S31: =IF(L31="","",(AVERAGE(N25:N31)))
A32: 43101 | B32: 0.625 | J32: =+J31+1 -> 31 | K32: =+A1489 -> 43131 | L32: =+E1489 | M32: =+F1489 | N32: =+G1489 | O32: =+H1489 -> #DIV/0! | P32: =+I1489 | Q32: =IF(L32="","",(AVERAGE(L26:L32))) | R32: =IF(L32="","",(AVERAGE(M26:M32))) | S32: =IF(L32="","",(AVERAGE(N26:N32)))
A33: 43101 | B33: 0.64583333 | J33: =+J32+1 -> 32 | K33: =+A1537 -> 43132 | L33: =+E1537 | M33: =+F1537 | N33: =+G1537 | O33: =+H1537 -> #DIV/0! | P33: =+I1537 | Q33: =IF(L33="","",(AVERAGE(L27:L33))) | R33: =IF(L33="","",(AVERAGE(M27:M33))) | S33: =IF(L33="","",(AVERAGE(N27:N33)))
A34: 43101 | B34: 0.66666667 | J34: =+J33+1 -> 33 | K34: =+A1585 -> 43133 | L34: =+E1585 | M34: =+F1585 | N34: =+G1585 | O34: =+H1585 -> #DIV/0! | P34: =+I1585 | Q34: =IF(L34="","",(AVERAGE(L28:L34))) | R34: =IF(L34="","",(AVERAGE(M28:M34))) | S34: =IF(L34="","",(AVERAGE(N28:N34)))
A35: 43101 | B35: 0.6875 | J35: =+J34+1 -> 34 | K35: =+A1633 -> 43134 | L35: =+E1633 | M35: =+F1633 | N35: =+G1633 | O35: =+H1633 -> #DIV/0! | P35: =+I1633 | Q35: =IF(L35="","",(AVERAGE(L29:L35))) | R35: =IF(L35="","",(AVERAGE(M29:M35))) | S35: =IF(L35="","",(AVERAGE(N29:N35)))
A36: 43101 | B36: 0.70833333 | J36: =+J35+1 -> 35 | K36: =+A1681 -> 43135 | L36: =+E1681 | M36: =+F1681 | N36: =+G1681 | O36: =+H1681 -> #DIV/0! | P36: =+I1681 | Q36: =IF(L36="","",(AVERAGE(L30:L36))) | R36: =IF(L36="","",(AVERAGE(M30:M36))) | S36: =IF(L36="","",(AVERAGE(N30:N36)))
A37: 43101 | B37: 0.72916667 | J37: =+J36+1 -> 36 | K37: =+A1729 -> 43136 | L37: =+E1729 | M37: =+F1729 | N37: =+G1729 | O37: =+H1729 -> #DIV/0! | P37: =+I1729 | Q37: =IF(L37="","",(AVERAGE(L31:L37))) | R37: =IF(L37="","",(AVERAGE(M31:M37))) | S37: =IF(L37="","",(AVERAGE(N31:N37)))
A38: 43101 | B38: 0.75 | J38: =+J37+1 -> 37 | K38: =+A1777 -> 43137 | L38: =+E1777 | M38: =+F1777 | N38: =+G1777 | O38: =+H1777 -> #DIV/0! | P38: =+I1777 | Q38: =IF(L38="","",(AVERAGE(L32:L38))) | R38: =IF(L38="","",(AVERAGE(M32:M38))) | S38: =IF(L38="","",(AVERAGE(N32:N38)))
A39: 43101 | B39: 0.77083333 | J39: =+J38+1 -> 38 | K39: =+A1825 -> 43138 | L39: =+E1825 | M39: =+F1825 | N39: =+G1825 | O39: =+H1825 -> #DIV/0! | P39: =+I1825 | Q39: =IF(L39="","",(AVERAGE(L33:L39))) | R39: =IF(L39="","",(AVERAGE(M33:M39))) | S39: =IF(L39="","",(AVERAGE(N33:N39)))
A40: 43101 | B40: 0.79166667 | J40: =+J39+1 -> 39 | K40: =+A1873 -> 43139 | L40: =+E1873 | M40: =+F1873 | N40: =+G1873 | O40: =+H1873 -> #DIV/0! | P40: =+I1873 | Q40: =IF(L40="","",(AVERAGE(L34:L40))) | R40: =IF(L40="","",(AVERAGE(M34:M40))) | S40: =IF(L40="","",(AVERAGE(N34:N40)))
...

Sheet JAN
A1: Julian Date | B1: Date | C1: D_mean | D1: D_min | E1: D_max | F1: D_sd | G1: D_range | H1: AWAT | I1: AWMINT | J1: AWMT
A2: =+INPUT!J2 -> 1 | B2: =+INPUT!K2 -> 43101 | C2: =+INPUT!L2 | D2: =+INPUT!M2 | E2: =+INPUT!N2 | F2: =+INPUT!O2 -> #DIV/0! | G2: =+INPUT!P2 | H2: =+INPUT!Q2 | ... J2: =+INPUT!S2
A3: =+INPUT!J3 -> 2 | B3: =+INPUT!K3 -> 43102 | C3: =+INPUT!L3 | D3: =+INPUT!M3 | E3: =+INPUT!N3 | F3: =+INPUT!O3 -> #DIV/0! | G3: =+INPUT!P3 | H3: =+INPUT!Q3 | ... J3: =+INPUT!S3
A4: =+INPUT!J4 -> 3 | B4: =+INPUT!K4 -> 43103 | C4: =+INPUT!L4 | D4: =+INPUT!M4 | E4: =+INPUT!N4 | F4: =+INPUT!O4 -> #DIV/0! | G4: =+INPUT!P4 | H4: =+INPUT!Q4 | ... J4: =+INPUT!S4
A5: =+INPUT!J5 -> 4 | B5: =+INPUT!K5 -> 43104 | C5: =+INPUT!L5 | D5: =+INPUT!M5 | E5: =+INPUT!N5 | F5: =+INPUT!O5 -> #DIV/0! | G5: =+INPUT!P5 | H5: =+INPUT!Q5 | ... J5: =+INPUT!S5
A6: =+INPUT!J6 -> 5 | B6: =+INPUT!K6 -> 43105 | C6: =+INPUT!L6 | D6: =+INPUT!M6 | E6: =+INPUT!N6 | F6: =+INPUT!O6 -> #DIV/0! | G6: =+INPUT!P6 | H6: =+INPUT!Q6 | ... J6: =+INPUT!S6
A7: =+INPUT!J7 -> 6 | B7: =+INPUT!K7 -> 43106 | C7: =+INPUT!L7 | D7: =+INPUT!M7 | E7: =+INPUT!N7 | F7: =+INPUT!O7 -> #DIV/0! | G7: =+INPUT!P7 | H7: =+INPUT!Q7 | ... J7: =+INPUT!S7
A8: =+INPUT!J8 -> 7 | B8: =+INPUT!K8 -> 43107 | C8: =+INPUT!L8 | D8: =+INPUT!M8 | E8: =+INPUT!N8 | F8: =+INPUT!O8 -> #DIV/0! | G8: =+INPUT!P8 | H8: =+INPUT!Q8 | ... J8: =+INPUT!S8
A9: =+INPUT!J9 -> 8 | B9: =+INPUT!K9 -> 43108 | C9: =+INPUT!L9 | D9: =+INPUT!M9 | E9: =+INPUT!N9 | F9: =+INPUT!O9 -> #DIV/0! | G9: =+INPUT!P9 | H9: =+INPUT!Q9 | ... J9: =+INPUT!S9
A10: =+INPUT!J10 -> 9 | B10: =+INPUT!K10 -> 43109 | C10: =+INPUT!L10 | D10: =+INPUT!M10 | E10: =+INPUT!N10 | F10: =+INPUT!O10 -> #DIV/0! | G10: =+INPUT!P10 | H10: =+INPUT!Q10 | ... J10: =+INPUT!S10
A11: =+INPUT!J11 -> 10 | B11: =+INPUT!K11 -> 43110 | C11: =+INPUT!L11 | D11: =+INPUT!M11 | E11: =+INPUT!N11 | F11: =+INPUT!O11 -> #DIV/0! | G11: =+INPUT!P11 | H11: =+INPUT!Q11 | ... J11: =+INPUT!S11
A12: =+INPUT!J12 -> 11 | B12: =+INPUT!K12 -> 43111 | C12: =+INPUT!L12 | D12: =+INPUT!M12 | E12: =+INPUT!N12 | F12: =+INPUT!O12 -> #DIV/0! | G12: =+INPUT!P12 | H12: =+INPUT!Q12 | ... J12: =+INPUT!S12
A13: =+INPUT!J13 -> 12 | B13: =+INPUT!K13 -> 43112 | C13: =+INPUT!L13 | D13: =+INPUT!M13 | E13: =+INPUT!N13 | F13: =+INPUT!O13 -> #DIV/0! | G13: =+INPUT!P13 | H13: =+INPUT!Q13 | ... J13: =+INPUT!S13
... A32: =+INPUT!J32 -> 31 | B32: =+INPUT!K32 -> 43131 | C32: =+INPUT!L32 | D32: =+INPUT!M32 | E32: =+INPUT!N32 | F32: =+INPUT!O32 -> #DIV/0! | G32: =+INPUT!P32 | H32: =+INPUT!Q32 | ... J32: =+INPUT!S32
B34: MEAN | C34: =AVERAGE(C2:C32) -> #DIV/0! | D34: =AVERAGE(D2:D32) -> #DIV/0! | E34: =AVERAGE(E2:E32) -> #DIV/0! | G34: =AVERAGE(G2:G32) -> #DIV/0! | H34: =AVERAGE(H2:H32) -> #DIV/0! | I34: =AVERAGE(I2:I32) -> #DIV/0! | J34: =AVERAGE(J2:J32) -> #DIV/0!
B35: MIN | C35: =MIN(C2:C32) -> 0 | D35: =MIN(D2:D32) -> 0 | E35: =MIN(E2:E32) -> 0 | G35: =MIN(G2:G32) -> 0 | H35: =MIN(H2:H32) -> 0 | I35: =MIN(I2:I32) -> 0 | J35: =MIN(J2:J32) -> 0
B36: MAX | C36: =MAX(C2:C32) -> 0 | D36: =MAX(D2:D32) -> 0 | E36: =MAX(E2:E32) -> 0 | G36: =MAX(G2:G32) -> 0 | H36: =MAX(H2:H32) -> 0 | I36: =MAX(I2:I32) -> 0 | J36: =MAX(J2:J32) -> 0
B37: SD | C37: =STDEV(C2:C32) -> #DIV/0! | D37: =STDEV(D2:D32) -> #DIV/0! | E37: =STDEV(E2:E32) -> #DIV/0! | G37: =STDEV(G2:G32) -> #DIV/0! | H37: =STDEV(H2:H32) -> #DIV/0! | I37: =STDEV(I2:I32) -> #DIV/0! | J37: =STDEV(J2:J32) -> #DIV/0!
B39: N | C39: =COUNT(C2:C32) -> 0 | D39: =COUNT(D2:D32) -> 0 | E39: =COUNT(E2:E32) -> 0 | G39: =COUNT(G2:G32) -> 0 | H39: =COUNT(H2:H32) -> 0 | I39: =COUNT(I2:I32) -> 0 | J39: =COUNT(J2:J32) -> 0

Sheet FEB
A1: Julian Date | B1: Date | C1: D_mean | D1: D_min | E1: D_max | F1: D_sd | G1: D_range | H1: AWAT | I1: AWMINT | J1: AWMT
A2: =+INPUT!J33 -> 32 | B2: =+INPUT!K33 -> 43132 | C2: =+INPUT!L33 | D2: =+INPUT!M33 | E2: =+INPUT!N33 | F2: =+INPUT!O33 -> #DIV/0! | G2: =+INPUT!P33 | H2: =+INPUT!Q33 | ... J2: =+INPUT!S33
A3: =+INPUT!J34 -> 33 | B3: =+INPUT!K34 -> 43133 | C3: =+INPUT!L34 | D3: =+INPUT!M34 | E3: =+INPUT!N34 | F3: =+INPUT!O34 -> #DIV/0! | G3: =+INPUT!P34 | H3: =+INPUT!Q34 | ... J3: =+INPUT!S34
A4: =+INPUT!J35 -> 34 | B4: =+INPUT!K35 -> 43134 | C4: =+INPUT!L35 | D4: =+INPUT!M35 | E4: =+INPUT!N35 | F4: =+INPUT!O35 -> #DIV/0! | G4: =+INPUT!P35 | H4: =+INPUT!Q35 | ... J4: =+INPUT!S35
A5: =+INPUT!J36 -> 35 | B5: =+INPUT!K36 -> 43135 | C5: =+INPUT!L36 | D5: =+INPUT!M36 | E5: =+INPUT!N36 | F5: =+INPUT!O36 -> #DIV/0! | G5: =+INPUT!P36 | H5: =+INPUT!Q36 | ... J5: =+INPUT!S36
A6: =+INPUT!J37 -> 36 | B6: =+INPUT!K37 -> 43136 | C6: =+INPUT!L37 | D6: =+INPUT!M37 | E6: =+INPUT!N37 | F6: =+INPUT!O37 -> #DIV/0! | G6: =+INPUT!P37 | H6: =+INPUT!Q37 | ... J6: =+INPUT!S37
A7: =+INPUT!J38 -> 37 | B7: =+INPUT!K38 -> 43137 | C7: =+INPUT!L38 | D7: =+INPUT!M38 | E7: =+INPUT!N38 | F7: =+INPUT!O38 -> #DIV/0! | G7: =+INPUT!P38 | H7: =+INPUT!Q38 | ... J7: =+INPUT!S38
A8: =+INPUT!J39 -> 38 | B8: =+INPUT!K39 -> 43138 | C8: =+INPUT!L39 | D8: =+INPUT!M39 | E8: =+INPUT!N39 | F8: =+INPUT!O39 -> #DIV/0! | G8: =+INPUT!P39 | H8: =+INPUT!Q39 | ... J8: =+INPUT!S39
A9: =+INPUT!J40 -> 39 | B9: =+INPUT!K40 -> 43139 | C9: =+INPUT!L40 | D9: =+INPUT!M40 | E9: =+INPUT!N40 | F9: =+INPUT!O40 -> #DIV/0! | G9: =+INPUT!P40 | H9: =+INPUT!Q40 | ... J9: =+INPUT!S40
A10: =+INPUT!J41 -> 40 | B10: =+INPUT!K41 -> 43140 | C10: =+INPUT!L41 | D10: =+INPUT!M41 | E10: =+INPUT!N41 | F10: =+INPUT!O41 -> #DIV/0! | G10: =+INPUT!P41 | H10: =+INPUT!Q41 | ... J10: =+INPUT!S41
A11: =+INPUT!J42 -> 41 | B11: =+INPUT!K42 -> 43141 | C11: =+INPUT!L42 | D11: =+INPUT!M42 | E11: =+INPUT!N42 | F11: =+INPUT!O42 -> #DIV/0! | G11: =+INPUT!P42 | H11: =+INPUT!Q42 | ... J11: =+INPUT!S42
A12: =+INPUT!J43 -> 42 | B12: =+INPUT!K43 -> 43142 | C12: =+INPUT!L43 | D12: =+INPUT!M43 | E12: =+INPUT!N43 | F12: =+INPUT!O43 -> #DIV/0! | G12: =+INPUT!P43 | H12: =+INPUT!Q43 | ... J12: =+INPUT!S43
A13: =+INPUT!J44 -> 43 | B13: =+INPUT!K44 -> 43143 | C13: =+INPUT!L44 | D13: =+INPUT!M44 | E13: =+INPUT!N44 | F13: =+INPUT!O44 -> #DIV/0! | G13: =+INPUT!P44 | H13: =+INPUT!Q44 | ... J13: =+INPUT!S44
... A30: =+INPUT!J61 -> 60 | B30: =+INPUT!K61 -> 42429 | C30: =+INPUT!L61 | D30: =+INPUT!M61 | E30: =+INPUT!N61 | F30: =+INPUT!O61 -> #DIV/0! | G30: =+INPUT!P61 | H30: =+INPUT!Q61 | ... J30: =+INPUT!S61
B31: MEAN | C31: =AVERAGE(C2:C30) -> #DIV/0! | D31: =AVERAGE(D2:D30) -> #DIV/0! | E31: =AVERAGE(E2:E30) -> #DIV/0! | G31: =AVERAGE(G2:G30) -> #DIV/0! | H31: =AVERAGE(H2:H30) -> #DIV/0! | I31: =AVERAGE(I2:I30) -> #DIV/0! | J31: =AVERAGE(J2:J30) -> #DIV/0!
B32: MIN | C32: =MIN(C2:C30) -> 0 | D32: =MIN(D2:D30) -> 0 | E32: =MIN(E2:E30) -> 0 | G32: =MIN(G2:G30) -> 0 | H32: =MIN(H2:H30) -> 0 | I32: =MIN(I2:I30) -> 0 | J32: =MIN(J2:J30) -> 0
B33: MAX | C33: =MAX(C2:C30) -> 0 | D33: =MAX(D2:D30) -> 0 | E33: =MAX(E2:E30) -> 0 | G33: =MAX(G2:G30) -> 0 | H33: =MAX(H2:H30) -> 0 | I33: =MAX(I2:I30) -> 0 | J33: =MAX(J2:J30) -> 0
B34: SD | C34: =STDEV(C2:C30) -> #DIV/0! | D34: =STDEV(D2:D30) -> #DIV/0! | E34: =STDEV(E2:E30) -> #DIV/0! | G34: =STDEV(G2:G30) -> #DIV/0! | H34: =STDEV(H2:H30) -> #DIV/0! | I34: =STDEV(I2:I30) -> #DIV/0! | J34: =STDEV(J2:J30) -> #DIV/0!
B36: N | C36: =COUNT(C2:C30) -> 0 | D36: =COUNT(D2:D30) -> 0 | E36: =COUNT(E2:E30) -> 0 | G36: =COUNT(G2:G30) -> 0 | H36: =COUNT(H2:H30) -> 0 | I36: =COUNT(I2:I30) -> 0 | J36: =COUNT(J2:J30) -> 0

Sheet MAR
A1: Julian Date | B1: Date | C1: D_mean | D1: D_min | E1: D_max | F1: D_sd | G1: D_range | H1: AWAT | I1: AWMINT | J1: AWMT
A2: =+INPUT!J62 -> 61 | B2: =+INPUT!K62 -> 43160 | C2: =+INPUT!L62 | D2: =+INPUT!M62 | E2: =+INPUT!N62 | F2: =+INPUT!O62 -> #DIV/0! | G2: =+INPUT!P62 | H2: =+INPUT!Q62 | ... J2: =+INPUT!S62
A3: =+INPUT!J63 -> 62 | B3: =+INPUT!K63 -> 43161 | C3: =+INPUT!L63 | D3: =+INPUT!M63 | E3: =+INPUT!N63 | F3: =+INPUT!O63 -> #DIV/0! | G3: =+INPUT!P63 | H3: =+INPUT!Q63 | ... J3: =+INPUT!S63
A4: =+INPUT!J64 -> 63 | B4: =+INPUT!K64 -> 43162 | C4: =+INPUT!L64 | D4: =+INPUT!M64 | E4: =+INPUT!N64 | F4: =+INPUT!O64 -> #DIV/0! | G4: =+INPUT!P64 | H4: =+INPUT!Q64 | ... J4: =+INPUT!S64
A5: =+INPUT!J65 -> 64 | B5: =+INPUT!K65 -> 43163 | C5: =+INPUT!L65 | D5: =+INPUT!M65 | E5: =+INPUT!N65 | F5: =+INPUT!O65 -> #DIV/0! | G5: =+INPUT!P65 | H5: =+INPUT!Q65 | ... J5: =+INPUT!S65
A6: =+INPUT!J66 -> 65 | B6: =+INPUT!K66 -> 43164 | C6: =+INPUT!L66 | D6: =+INPUT!M66 | E6: =+INPUT!N66 | F6: =+INPUT!O66 -> #DIV/0! | G6: =+INPUT!P66 | H6: =+INPUT!Q66 | ... J6: =+INPUT!S66
A7: =+INPUT!J67 -> 66 | B7: =+INPUT!K67 -> 43165 | C7: =+INPUT!L67 | D7: =+INPUT!M67 | E7: =+INPUT!N67 | F7: =+INPUT!O67 -> #DIV/0! | G7: =+INPUT!P67 | H7: =+INPUT!Q67 | ... J7: =+INPUT!S67
A8: =+INPUT!J68 -> 67 | B8: =+INPUT!K68 -> 43166 | C8: =+INPUT!L68 | D8: =+INPUT!M68 | E8: =+INPUT!N68 | F8: =+INPUT!O68 -> #DIV/0! | G8: =+INPUT!P68 | H8: =+INPUT!Q68 | ... J8: =+INPUT!S68
A9: =+INPUT!J69 -> 68 | B9: =+INPUT!K69 -> 43167 | C9: =+INPUT!L69 | D9: =+INPUT!M69 | E9: =+INPUT!N69 | F9: =+INPUT!O69 -> #DIV/0! | G9: =+INPUT!P69 | H9: =+INPUT!Q69 | ... J9: =+INPUT!S69
A10: =+INPUT!J70 -> 69 | B10: =+INPUT!K70 -> 43168 | C10: =+INPUT!L70 | D10: =+INPUT!M70 | E10: =+INPUT!N70 | F10: =+INPUT!O70 -> #DIV/0! | G10: =+INPUT!P70 | H10: =+INPUT!Q70 | ... J10: =+INPUT!S70
A11: =+INPUT!J71 -> 70 | B11: =+INPUT!K71 -> 43169 | C11: =+INPUT!L71 | D11: =+INPUT!M71 | E11: =+INPUT!N71 | F11: =+INPUT!O71 -> #DIV/0! | G11: =+INPUT!P71 | H11: =+INPUT!Q71 | ... J11: =+INPUT!S71
A12: =+INPUT!J72 -> 71 | B12: =+INPUT!K72 -> 43170 | C12: =+INPUT!L72 | D12: =+INPUT!M72 | E12: =+INPUT!N72 | F12: =+INPUT!O72 -> #DIV/0! | G12: =+INPUT!P72 | H12: =+INPUT!Q72 | ... J12: =+INPUT!S72
A13: =+INPUT!J73 -> 72 | B13: =+INPUT!K73 -> 43171 | C13: =+INPUT!L73 | D13: =+INPUT!M73 | E13: =+INPUT!N73 | F13: =+INPUT!O73 -> #DIV/0! | G13: =+INPUT!P73 | H13: =+INPUT!Q73 | ... J13: =+INPUT!S73
... A32: =+INPUT!J92 -> 91 | B32: =+INPUT!K92 -> 43190 | C32: =+INPUT!L92 | D32: =+INPUT!M92 | E32: =+INPUT!N92 | F32: =+INPUT!O92 -> #DIV/0! | G32: =+INPUT!P92 | H32: =+INPUT!Q92 | ... J32: =+INPUT!S92
B34: MEAN | C34: =AVERAGE(C2:C32) -> #DIV/0! | D34: =AVERAGE(D2:D32) -> #DIV/0! | E34: =AVERAGE(E2:E32) -> #DIV/0! | G34: =AVERAGE(G2:G32) -> #DIV/0! | H34: =AVERAGE(H2:H32) -> #DIV/0! | I34: =AVERAGE(I2:I32) -> #DIV/0! | J34: =AVERAGE(J2:J32) -> #DIV/0!
B35: MIN | C35: =MIN(C2:C32) -> 0 | D35: =MIN(D2:D32) -> 0 | E35: =MIN(E2:E32) -> 0 | G35: =MIN(G2:G32) -> 0 | H35: =MIN(H2:H32) -> 0 | I35: =MIN(I2:I32) -> 0 | J35: =MIN(J2:J32) -> 0
B36: MAX | C36: =MAX(C2:C32) -> 0 | D36: =MAX(D2:D32) -> 0 | E36: =MAX(E2:E32) -> 0 | G36: =MAX(G2:G32) -> 0 | H36: =MAX(H2:H32) -> 0 | I36: =MAX(I2:I32) -> 0 | J36: =MAX(J2:J32) -> 0
B37: SD | C37: =STDEV(C2:C32) -> #DIV/0! | D37: =STDEV(D2:D32) -> #DIV/0! | E37: =STDEV(E2:E32) -> #DIV/0! | G37: =STDEV(G2:G32) -> #DIV/0! | H37: =STDEV(H2:H32) -> #DIV/0! | I37: =STDEV(I2:I32) -> #DIV/0! | J37: =STDEV(J2:J32) -> #DIV/0!
B39: N | C39: =COUNT(C2:C32) -> 0 | D39: =COUNT(D2:D32) -> 0 | E39: =COUNT(E2:E32) -> 0 | G39: =COUNT(G2:G32) -> 0 | H39: =COUNT(H2:H32) -> 0 | I39: =COUNT(I2:I32) -> 0 | J39: =COUNT(J2:J32) -> 0

Sheet APR
A1: Julian Date | B1: Date | C1: D_mean | D1: D_min | E1: D_max | F1: D_sd | G1: D_range | H1: AWAT | I1: AWMINT | J1: AWMT
A2: =+INPUT!J93 -> 92 | B2: =+INPUT!K93 -> 43191 | C2: =+INPUT!L93 | D2: =+INPUT!M93 | E2: =+INPUT!N93 | F2: =+INPUT!O93 -> #DIV/0! | G2: =+INPUT!P93 | H2: =+INPUT!Q93 | ... J2: =+INPUT!S93
A3: =+INPUT!J94 -> 93 | B3: =+INPUT!K94 -> 43192 | C3: =+INPUT!L94 | D3: =+INPUT!M94 | E3: =+INPUT!N94 | F3: =+INPUT!O94 -> #DIV/0! | G3: =+INPUT!P94 | H3: =+INPUT!Q94 | ... J3: =+INPUT!S94
A4: =+INPUT!J95 -> 94 | B4: =+INPUT!K95 -> 43193 | C4: =+INPUT!L95 | D4: =+INPUT!M95 | E4: =+INPUT!N95 | F4: =+INPUT!O95 -> #DIV/0! | G4: =+INPUT!P95 | H4: =+INPUT!Q95 | ... J4: =+INPUT!S95
A5: =+INPUT!J96 -> 95 | B5: =+INPUT!K96 -> 43194 | C5: =+INPUT!L96 | D5: =+INPUT!M96 | E5: =+INPUT!N96 | F5: =+INPUT!O96 -> #DIV/0! | G5: =+INPUT!P96 | H5: =+INPUT!Q96 | ... J5: =+INPUT!S96
A6: =+INPUT!J97 -> 96 | B6: =+INPUT!K97 -> 43195 | C6: =+INPUT!L97 | D6: =+INPUT!M97 | E6: =+INPUT!N97 | F6: =+INPUT!O97 -> #DIV/0! | G6: =+INPUT!P97 | H6: =+INPUT!Q97 | ... J6: =+INPUT!S97
A7: =+INPUT!J98 -> 97 | B7: =+INPUT!K98 -> 43196 | C7: =+INPUT!L98 | D7: =+INPUT!M98 | E7: =+INPUT!N98 | F7: =+INPUT!O98 -> #DIV/0! | G7: =+INPUT!P98 | H7: =+INPUT!Q98 | ... J7: =+INPUT!S98
A8: =+INPUT!J99 -> 98 | B8: =+INPUT!K99 -> 43197 | C8: =+INPUT!L99 | D8: =+INPUT!M99 | E8: =+INPUT!N99 | F8: =+INPUT!O99 -> #DIV/0! | G8: =+INPUT!P99 | H8: =+INPUT!Q99 | ... J8: =+INPUT!S99
A9: =+INPUT!J100 -> 99 | B9: =+INPUT!K100 -> 43198 | C9: =+INPUT!L100 | D9: =+INPUT!M100 | E9: =+INPUT!N100 | F9: =+INPUT!O100 -> #DIV/0! | G9: =+INPUT!P100 | H9: =+INPUT!Q100 | ... J9: =+INPUT!S100
A10: =+INPUT!J101 -> 100 | B10: =+INPUT!K101 -> 43199 | C10: =+INPUT!L101 | D10: =+INPUT!M101 | E10: =+INPUT!N101 | F10: =+INPUT!O101 -> #DIV/0! | G10: =+INPUT!P101 | H10: =+INPUT!Q101 | ... J10: =+INPUT!S101
A11: =+INPUT!J102 -> 101 | B11: =+INPUT!K102 -> 43200 | C11: =+INPUT!L102 | D11: =+INPUT!M102 | E11: =+INPUT!N102 | F11: =+INPUT!O102 -> #DIV/0! | G11: =+INPUT!P102 | H11: =+INPUT!Q102 | ... J11: =+INPUT!S102
A12: =+INPUT!J103 -> 102 | B12: =+INPUT!K103 -> 43201 | C12: =+INPUT!L103 | D12: =+INPUT!M103 | E12: =+INPUT!N103 | F12: =+INPUT!O103 -> #DIV/0! | G12: =+INPUT!P103 | H12: =+INPUT!Q103 | ... J12: =+INPUT!S103
A13: =+INPUT!J104 -> 103 | B13: =+INPUT!K104 -> 43202 | C13: =+INPUT!L104 | D13: =+INPUT!M104 | E13: =+INPUT!N104 | F13: =+INPUT!O104 -> #DIV/0! | G13: =+INPUT!P104 | H13: =+INPUT!Q104 | ... J13: =+INPUT!S104
... A31: =+INPUT!J122 -> 121 | B31: =+INPUT!K122 -> 43220 | C31: =+INPUT!L122 | D31: =+INPUT!M122 | E31: =+INPUT!N122 | F31: =+INPUT!O122 -> #DIV/0! | G31: =+INPUT!P122 | H31: =+INPUT!Q122 | ... J31: =+INPUT!S122
B33: MEAN | C33: =AVERAGE(C2:C31) -> #DIV/0! | D33: =AVERAGE(D2:D31) -> #DIV/0! | E33: =AVERAGE(E2:E31) -> #DIV/0! | G33: =AVERAGE(G2:G31) -> #DIV/0! | H33: =AVERAGE(H2:H31) -> #DIV/0! | I33: =AVERAGE(I2:I31) -> #DIV/0! | J33: =AVERAGE(J2:J31) -> #DIV/0!
B34: MIN | C34: =MIN(C2:C31) -> 0 | D34: =MIN(D2:D31) -> 0 | E34: =MIN(E2:E31) -> 0 | G34: =MIN(G2:G31) -> 0 | H34: =MIN(H2:H31) -> 0 | I34: =MIN(I2:I31) -> 0 | J34: =MIN(J2:J31) -> 0
B35: MAX | C35: =MAX(C2:C31) -> 0 | D35: =MAX(D2:D31) -> 0 | E35: =MAX(E2:E31) -> 0 | G35: =MAX(G2:G31) -> 0 | H35: =MAX(H2:H31) -> 0 | I35: =MAX(I2:I31) -> 0 | J35: =MAX(J2:J31) -> 0
B36: SD | C36: =STDEV(C2:C31) -> #DIV/0! | D36: =STDEV(D2:D31) -> #DIV/0! | E36: =STDEV(E2:E31) -> #DIV/0! | G36: =STDEV(G2:G31) -> #DIV/0! | H36: =STDEV(H2:H31) -> #DIV/0! | I36: =STDEV(I2:I31) -> #DIV/0! | J36: =STDEV(J2:J31) -> #DIV/0!
B38: N | C38: =COUNT(C2:C31) -> 0 | D38: =COUNT(D2:D31) -> 0 | E38: =COUNT(E2:E31) -> 0 | G38: =COUNT(G2:G31) -> 0 | H38: =COUNT(H2:H31) -> 0 | I38: =COUNT(I2:I31) -> 0 | J38: =COUNT(J2:J31) -> 0

Sheet MAY
A1: Julian Date | B1: Date | C1: D_mean | D1: D_min | E1: D_max | F1: D_sd | G1: D_range | H1: AWAT | I1: AWMINT | J1: AWMT
A2: =+INPUT!J123 -> 122 | B2: =+INPUT!K123 -> 43221 | C2: =+INPUT!L123 | D2: =+INPUT!M123 | E2: =+INPUT!N123 | F2: =+INPUT!O123 -> #DIV/0! | G2: =+INPUT!P123 | H2: =+INPUT!Q123 | ... J2: =+INPUT!S123
A3: =+INPUT!J124 -> 123 | B3: =+INPUT!K124 -> 43222 | C3: =+INPUT!L124 | D3: =+INPUT!M124 | E3: =+INPUT!N124 | F3: =+INPUT!O124 -> #DIV/0! | G3: =+INPUT!P124 | H3: =+INPUT!Q124 | ... J3: =+INPUT!S124
A4: =+INPUT!J125 -> 124 | B4: =+INPUT!K125 -> 43223 | C4: =+INPUT!L125 | D4: =+INPUT!M125 | E4: =+INPUT!N125 | F4: =+INPUT!O125 -> #DIV/0! | G4: =+INPUT!P125 | H4: =+INPUT!Q125 | ... J4: =+INPUT!S125
A5: =+INPUT!J126 -> 125 | B5: =+INPUT!K126 -> 43224 | C5: =+INPUT!L126 | D5: =+INPUT!M126 | E5: =+INPUT!N126 | F5: =+INPUT!O126 -> #DIV/0! | G5: =+INPUT!P126 | H5: =+INPUT!Q126 | ... J5: =+INPUT!S126
A6: =+INPUT!J127 -> 126 | B6: =+INPUT!K127 -> 43225 | C6: =+INPUT!L127 | D6: =+INPUT!M127 | E6: =+INPUT!N127 | F6: =+INPUT!O127 -> #DIV/0! | G6: =+INPUT!P127 | H6: =+INPUT!Q127 | ... J6: =+INPUT!S127
A7: =+INPUT!J128 -> 127 | B7: =+INPUT!K128 -> 43226 | C7: =+INPUT!L128 | D7: =+INPUT!M128 | E7: =+INPUT!N128 | F7: =+INPUT!O128 -> #DIV/0! | G7: =+INPUT!P128 | H7: =+INPUT!Q128 | ... J7: =+INPUT!S128
A8: =+INPUT!J129 -> 128 | B8: =+INPUT!K129 -> 43227 | C8: =+INPUT!L129 | D8: =+INPUT!M129 | E8: =+INPUT!N129 | F8: =+INPUT!O129 -> #DIV/0! | G8: =+INPUT!P129 | H8: =+INPUT!Q129 | ... J8: =+INPUT!S129
A9: =+INPUT!J130 -> 129 | B9: =+INPUT!K130 -> 43228 | C9: =+INPUT!L130 | D9: =+INPUT!M130 | E9: =+INPUT!N130 | F9: =+INPUT!O130 -> #DIV/0! | G9: =+INPUT!P130 | H9: =+INPUT!Q130 | ... J9: =+INPUT!S130
A10: =+INPUT!J131 -> 130 | B10: =+INPUT!K131 -> 43229 | C10: =+INPUT!L131 | D10: =+INPUT!M131 | E10: =+INPUT!N131 | F10: =+INPUT!O131 -> #DIV/0! | G10: =+INPUT!P131 | H10: =+INPUT!Q131 | ... J10: =+INPUT!S131
A11: =+INPUT!J132 -> 131 | B11: =+INPUT!K132 -> 43230 | C11: =+INPUT!L132 | D11: =+INPUT!M132 | E11: =+INPUT!N132 | F11: =+INPUT!O132 -> #DIV/0! | G11: =+INPUT!P132 | H11: =+INPUT!Q132 | ... J11: =+INPUT!S132
A12: =+INPUT!J133 -> 132 | B12: =+INPUT!K133 -> 43231 | C12: =+INPUT!L133 | D12: =+INPUT!M133 | E12: =+INPUT!N133 | F12: =+INPUT!O133 -> #DIV/0! | G12: =+INPUT!P133 | H12: =+INPUT!Q133 | ... J12: =+INPUT!S133
A13: =+INPUT!J134 -> 133 | B13: =+INPUT!K134 -> 43232 | C13: =+INPUT!L134 | D13: =+INPUT!M134 | E13: =+INPUT!N134 | F13: =+INPUT!O134 -> #DIV/0! | G13: =+INPUT!P134 | H13: =+INPUT!Q134 | ... J13: =+INPUT!S134
... A32: =+INPUT!J153 -> 152 | B32: =+INPUT!K153 -> 43251 | C32: =+INPUT!L153 | D32: =+INPUT!M153 | E32: =+INPUT!N153 | F32: =+INPUT!O153 -> #DIV/0! | G32: =+INPUT!P153 | H32: =+INPUT!Q153 | ... J32: =+INPUT!S153
B34: MEAN | C34: =AVERAGE(C2:C32) -> #DIV/0! | D34: =AVERAGE(D2:D32) -> #DIV/0! | E34: =AVERAGE(E2:E32) -> #DIV/0! | G34: =AVERAGE(G2:G32) -> #DIV/0! | H34: =AVERAGE(H2:H32) -> #DIV/0! | I34: =AVERAGE(I2:I32) -> #DIV/0! | J34: =AVERAGE(J2:J32) -> #DIV/0!
B35: MIN | C35: =MIN(C2:C32) -> 0 | D35: =MIN(D2:D32) -> 0 | E35: =MIN(E2:E32) -> 0 | G35: =MIN(G2:G32) -> 0 | H35: =MIN(H2:H32) -> 0 | I35: =MIN(I2:I32) -> 0 | J35: =MIN(J2:J32) -> 0
B36: MAX | C36: =MAX(C2:C32) -> 0 | D36: =MAX(D2:D32) -> 0 | E36: =MAX(E2:E32) -> 0 | G36: =MAX(G2:G32) -> 0 | H36: =MAX(H2:H32) -> 0 | I36: =MAX(I2:I32) -> 0 | J36: =MAX(J2:J32) -> 0
B37: SD | C37: =STDEV(C2:C32) -> #DIV/0! | D37: =STDEV(D2:D32) -> #DIV/0! | E37: =STDEV(E2:E32) -> #DIV/0! | G37: =STDEV(G2:G32) -> #DIV/0! | H37: =STDEV(H2:H32) -> #DIV/0! | I37: =STDEV(I2:I32) -> #DIV/0! | J37: =STDEV(J2:J32) -> #DIV/0!
B39: N | C39: =COUNT(C2:C32) -> 0 | D39: =COUNT(D2:D32) -> 0 | E39: =COUNT(E2:E32) -> 0 | G39: =COUNT(G2:G32) -> 0 | H39: =COUNT(H2:H32) -> 0 | I39: =COUNT(I2:I32) -> 0 | J39: =COUNT(J2:J32) -> 0

Sheet JUN
A1: Julian Date | B1: Date | C1: D_mean | D1: D_min | E1: D_max | F1: D_sd | G1: D_range | H1: AWAT | I1: AWMINT | J1: AWMT
A2: =+INPUT!J154 -> 153 | B2: =+INPUT!K154 -> 43252 | C2: =+INPUT!L154 | D2: =+INPUT!M154 | E2: =+INPUT!N154 | F2: =+INPUT!O154 -> #DIV/0! | G2: =+INPUT!P154 | H2: =+INPUT!Q154 | ... J2: =+INPUT!S154
A3: =+INPUT!J155 -> 154 | B3: =+INPUT!K155 -> 43253 | C3: =+INPUT!L155 | D3: =+INPUT!M155 | E3: =+INPUT!N155 | F3: =+INPUT!O155 -> #DIV/0! | G3: =+INPUT!P155 | H3: =+INPUT!Q155 | ... J3: =+INPUT!S155
A4: =+INPUT!J156 -> 155 | B4: =+INPUT!K156 -> 43254 | C4: =+INPUT!L156 | D4: =+INPUT!M156 | E4: =+INPUT!N156 | F4: =+INPUT!O156 -> #DIV/0! | G4: =+INPUT!P156 | H4: =+INPUT!Q156 | ... J4: =+INPUT!S156
A5: =+INPUT!J157 -> 156 | B5: =+INPUT!K157 -> 43255 | C5: =+INPUT!L157 | D5: =+INPUT!M157 | E5: =+INPUT!N157 | F5: =+INPUT!O157 -> #DIV/0! | G5: =+INPUT!P157 | H5: =+INPUT!Q157 | ... J5: =+INPUT!S157
A6: =+INPUT!J158 -> 157 | B6: =+INPUT!K158 -> 43256 | C6: =+INPUT!L158 | D6: =+INPUT!M158 | E6: =+INPUT!N158 | F6: =+INPUT!O158 -> #DIV/0! | G6: =+INPUT!P158 | H6: =+INPUT!Q158 | ... J6: =+INPUT!S158
A7: =+INPUT!J159 -> 158 | B7: =+INPUT!K159 -> 43257 | C7: =+INPUT!L159 | D7: =+INPUT!M159 | E7: =+INPUT!N159 | F7: =+INPUT!O159 -> #DIV/0! | G7: =+INPUT!P159 | H7: =+INPUT!Q159 | ... J7: =+INPUT!S159
A8: =+INPUT!J160 -> 159 | B8: =+INPUT!K160 -> 43258 | C8: =+INPUT!L160 | D8: =+INPUT!M160 | E8: =+INPUT!N160 | F8: =+INPUT!O160 -> #DIV/0! | G8: =+INPUT!P160 | H8: =+INPUT!Q160 | ... J8: =+INPUT!S160
A9: =+INPUT!J161 -> 160 | B9: =+INPUT!K161 -> 43259 | C9: =+INPUT!L161 | D9: =+INPUT!M161 | E9: =+INPUT!N161 | F9: =+INPUT!O161 -> #DIV/0! | G9: =+INPUT!P161 | H9: =+INPUT!Q161 | ... J9: =+INPUT!S161
A10: =+INPUT!J162 -> 161 | B10: =+INPUT!K162 -> 43260 | C10: =+INPUT!L162 | D10: =+INPUT!M162 | E10: =+INPUT!N162 | F10: =+INPUT!O162 -> #DIV/0! | G10: =+INPUT!P162 | H10: =+INPUT!Q162 | ... J10: =+INPUT!S162
A11: =+INPUT!J163 -> 162 | B11: =+INPUT!K163 -> 43261 | C11: =+INPUT!L163 | D11: =+INPUT!M163 | E11: =+INPUT!N163 | F11: =+INPUT!O163 -> #DIV/0! | G11: =+INPUT!P163 | H11: =+INPUT!Q163 | ... J11: =+INPUT!S163
A12: =+INPUT!J164 -> 163 | B12: =+INPUT!K164 -> 43262 | C12: =+INPUT!L164 | D12: =+INPUT!M164 | E12: =+INPUT!N164 | F12: =+INPUT!O164 -> #DIV/0! | G12: =+INPUT!P164 | H12: =+INPUT!Q164 | ... J12: =+INPUT!S164
A13: =+INPUT!J165 -> 164 | B13: =+INPUT!K165 -> 43263 | C13: =+INPUT!L165 | D13: =+INPUT!M165 | E13: =+INPUT!N165 | F13: =+INPUT!O165 -> #DIV/0! | G13: =+INPUT!P165 | H13: =+INPUT!Q165 | ... J13: =+INPUT!S165
... A31: =+INPUT!J183 -> 182 | B31: =+INPUT!K183 -> 43281 | C31: =+INPUT!L183 | D31: =+INPUT!M183 | E31: =+INPUT!N183 | F31: =+INPUT!O183 -> #DIV/0! | G31: =+INPUT!P183 | H31: =+INPUT!Q183 | ... J31: =+INPUT!S183
B33: MEAN | C33: =AVERAGE(C2:C31) -> #DIV/0! | D33: =AVERAGE(D2:D31) -> #DIV/0! | E33: =AVERAGE(E2:E31) -> #DIV/0! | G33: =AVERAGE(G2:G31) -> #DIV/0! | H33: =AVERAGE(H2:H31) -> #DIV/0! | I33: =AVERAGE(I2:I31) -> #DIV/0! | J33: =AVERAGE(J2:J31) -> #DIV/0!
B34: MIN | C34: =MIN(C2:C31) -> 0 | D34: =MIN(D2:D31) -> 0 | E34: =MIN(E2:E31) -> 0 | G34: =MIN(G2:G31) -> 0 | H34: =MIN(H2:H31) -> 0 | I34: =MIN(I2:I31) -> 0 | J34: =MIN(J2:J31) -> 0
B35: MAX | C35: =MAX(C2:C31) -> 0 | D35: =MAX(D2:D31) -> 0 | E35: =MAX(E2:E31) -> 0 | G35: =MAX(G2:G31) -> 0 | H35: =MAX(H2:H31) -> 0 | I35: =MAX(I2:I31) -> 0 | J35: =MAX(J2:J31) -> 0
B36: SD | C36: =STDEV(C2:C31) -> #DIV/0! | D36: =STDEV(D2:D31) -> #DIV/0! | E36: =STDEV(E2:E31) -> #DIV/0! | G36: =STDEV(G2:G31) -> #DIV/0! | H36: =STDEV(H2:H31) -> #DIV/0! | I36: =STDEV(I2:I31) -> #DIV/0! | J36: =STDEV(J2:J31) -> #DIV/0!
B38: N | C38: =COUNT(C2:C31) -> 0 | D38: =COUNT(D2:D31) -> 0 | E38: =COUNT(E2:E31) -> 0 | G38: =COUNT(G2:G31) -> 0 | H38: =COUNT(H2:H31) -> 0 | I38: =COUNT(I2:I31) -> 0 | J38: =COUNT(J2:J31) -> 0

Sheet JUL
A1: Julian Date | B1: Date | C1: D_mean | D1: D_min | E1: D_max | F1: D_sd | G1: D_range | H1: AWAT | I1: AWMINT | J1: AWMT
A2: =+INPUT!J184 -> 183 | B2: =+INPUT!K184 -> 43282 | C2: =+INPUT!L184 | D2: =+INPUT!M184 | E2: =+INPUT!N184 | F2: =+INPUT!O184 -> #DIV/0! | G2: =+INPUT!P184 | H2: =+INPUT!Q184 | ... J2: =+INPUT!S184
A3: =+INPUT!J185 -> 184 | B3: =+INPUT!K185 -> 43283 | C3: =+INPUT!L185 | D3: =+INPUT!M185 | E3: =+INPUT!N185 | F3: =+INPUT!O185 -> #DIV/0! | G3: =+INPUT!P185 | H3: =+INPUT!Q185 | ... J3: =+INPUT!S185
A4: =+INPUT!J186 -> 185 | B4: =+INPUT!K186 -> 43284 | C4: =+INPUT!L186 | D4: =+INPUT!M186 | E4: =+INPUT!N186 | F4: =+INPUT!O186 -> #DIV/0! | G4: =+INPUT!P186 | H4: =+INPUT!Q186 | ... J4: =+INPUT!S186
A5: =+INPUT!J187 -> 186 | B5: =+INPUT!K187 -> 43285 | C5: =+INPUT!L187 | D5: =+INPUT!M187 | E5: =+INPUT!N187 | F5: =+INPUT!O187 -> #DIV/0! | G5: =+INPUT!P187 | H5: =+INPUT!Q187 | ... J5: =+INPUT!S187
A6: =+INPUT!J188 -> 187 | B6: =+INPUT!K188 -> 43286 | C6: =+INPUT!L188 | D6: =+INPUT!M188 | E6: =+INPUT!N188 | F6: =+INPUT!O188 -> #DIV/0! | G6: =+INPUT!P188 | H6: =+INPUT!Q188 | ... J6: =+INPUT!S188
A7: =+INPUT!J189 -> 188 | B7: =+INPUT!K189 -> 43287 | C7: =+INPUT!L189 | D7: =+INPUT!M189 | E7: =+INPUT!N189 | F7: =+INPUT!O189 -> #DIV/0! | G7: =+INPUT!P189 | H7: =+INPUT!Q189 | ... J7: =+INPUT!S189
A8: =+INPUT!J190 -> 189 | B8: =+INPUT!K190 -> 43288 | C8: =+INPUT!L190 | D8: =+INPUT!M190 | E8: =+INPUT!N190 | F8: =+INPUT!O190 -> #DIV/0! | G8: =+INPUT!P190 | H8: =+INPUT!Q190 | ... J8: =+INPUT!S190
A9: =+INPUT!J191 -> 190 | B9: =+INPUT!K191 -> 43289 | C9: =+INPUT!L191 | D9: =+INPUT!M191 | E9: =+INPUT!N191 | F9: =+INPUT!O191 -> #DIV/0! | G9: =+INPUT!P191 | H9: =+INPUT!Q191 | ... J9: =+INPUT!S191
A10: =+INPUT!J192 -> 191 | B10: =+INPUT!K192 -> 43290 | C10: =+INPUT!L192 | D10: =+INPUT!M192 | E10: =+INPUT!N192 | F10: =+INPUT!O192 -> #DIV/0! | G10: =+INPUT!P192 | H10: =+INPUT!Q192 | ... J10: =+INPUT!S192
A11: =+INPUT!J193 -> 192 | B11: =+INPUT!K193 -> 43291 | C11: =+INPUT!L193 | D11: =+INPUT!M193 | E11: =+INPUT!N193 | F11: =+INPUT!O193 -> #DIV/0! | G11: =+INPUT!P193 | H11: =+INPUT!Q193 | ... J11: =+INPUT!S193
A12: =+INPUT!J194 -> 193 | B12: =+INPUT!K194 -> 43292 | C12: =+INPUT!L194 | D12: =+INPUT!M194 | E12: =+INPUT!N194 | F12: =+INPUT!O194 -> #DIV/0! | G12: =+INPUT!P194 | H12: =+INPUT!Q194 | ... J12: =+INPUT!S194
A13: =+INPUT!J195 -> 194 | B13: =+INPUT!K195 -> 43293 | C13: =+INPUT!L195 | D13: =+INPUT!M195 | E13: =+INPUT!N195 | F13: =+INPUT!O195 -> #DIV/0! | G13: =+INPUT!P195 | H13: =+INPUT!Q195 | ... J13: =+INPUT!S195
... A32: =+INPUT!J214 -> 213 | B32: =+INPUT!K214 -> 43312 | C32: =+INPUT!L214 | D32: =+INPUT!M214 | E32: =+INPUT!N214 | F32: =+INPUT!O214 -> #DIV/0! | G32: =+INPUT!P214 | H32: =+INPUT!Q214 | ... J32: =+INPUT!S214
B34: MEAN | C34: =AVERAGE(C2:C32) -> #DIV/0! | D34: =AVERAGE(D2:D32) -> #DIV/0! | E34: =AVERAGE(E2:E32) -> #DIV/0! | G34: =AVERAGE(G2:G32) -> #DIV/0! | H34: =AVERAGE(H2:H32) -> #DIV/0! | I34: =AVERAGE(I2:I32) -> #DIV/0! | J34: =AVERAGE(J2:J32) -> #DIV/0!
B35: MIN | C35: =MIN(C2:C32) -> 0 | D35: =MIN(D2:D32) -> 0 | E35: =MIN(E2:E32) -> 0 | G35: =MIN(G2:G32) -> 0 | H35: =MIN(H2:H32) -> 0 | I35: =MIN(I2:I32) -> 0 | J35: =MIN(J2:J32) -> 0
B36: MAX | C36: =MAX(C2:C32) -> 0 | D36: =MAX(D2:D32) -> 0 | E36: =MAX(E2:E32) -> 0 | G36: =MAX(G2:G32) -> 0 | H36: =MAX(H2:H32) -> 0 | I36: =MAX(I2:I32) -> 0 | J36: =MAX(J2:J32) -> 0
B37: SD | C37: =STDEV(C2:C32) -> #DIV/0! | D37: =STDEV(D2:D32) -> #DIV/0! | E37: =STDEV(E2:E32) -> #DIV/0! | G37: =STDEV(G2:G32) -> #DIV/0! | H37: =STDEV(H2:H32) -> #DIV/0! | I37: =STDEV(I2:I32) -> #DIV/0! | J37: =STDEV(J2:J32) -> #DIV/0!
B39: N | C39: =COUNT(C2:C32) -> 0 | D39: =COUNT(D2:D32) -> 0 | E39: =COUNT(E2:E32) -> 0 | G39: =COUNT(G2:G32) -> 0 | H39: =COUNT(H2:H32) -> 0 | I39: =COUNT(I2:I32) -> 0 | J39: =COUNT(J2:J32) -> 0

Sheet AUG
A1: Julian Date | B1: Date | C1: D_mean | D1: D_min | E1: D_max | F1: D_sd | G1: D_range | H1: AWAT | I1: AWMINT | J1: AWMT
A2: =+INPUT!J215 -> 214 | B2: =+INPUT!K215 -> 43313 | C2: =+INPUT!L215 | D2: =+INPUT!M215 | E2: =+INPUT!N215 | F2: =+INPUT!O215 -> #DIV/0! | G2: =+INPUT!P215 | H2: =+INPUT!Q215 | ... J2: =+INPUT!S215
A3: =+INPUT!J216 -> 215 | B3: =+INPUT!K216 -> 43314 | C3: =+INPUT!L216 | D3: =+INPUT!M216 | E3: =+INPUT!N216 | F3: =+INPUT!O216 -> #DIV/0! | G3: =+INPUT!P216 | H3: =+INPUT!Q216 | ... J3: =+INPUT!S216
A4: =+INPUT!J217 -> 216 | B4: =+INPUT!K217 -> 43315 | C4: =+INPUT!L217 | D4: =+INPUT!M217 | E4: =+INPUT!N217 | F4: =+INPUT!O217 -> #DIV/0! | G4: =+INPUT!P217 | H4: =+INPUT!Q217 | ... J4: =+INPUT!S217
A5: =+INPUT!J218 -> 217 | B5: =+INPUT!K218 -> 43316 | C5: =+INPUT!L218 | D5: =+INPUT!M218 | E5: =+INPUT!N218 | F5: =+INPUT!O218 -> #DIV/0! | G5: =+INPUT!P218 | H5: =+INPUT!Q218 | ... J5: =+INPUT!S218
A6: =+INPUT!J219 -> 218 | B6: =+INPUT!K219 -> 43317 | C6: =+INPUT!L219 | D6: =+INPUT!M219 | E6: =+INPUT!N219 | F6: =+INPUT!O219 -> #DIV/0! | G6: =+INPUT!P219 | H6: =+INPUT!Q219 | ... J6: =+INPUT!S219
A7: =+INPUT!J220 -> 219 | B7: =+INPUT!K220 -> 43318 | C7: =+INPUT!L220 | D7: =+INPUT!M220 | E7: =+INPUT!N220 | F7: =+INPUT!O220 -> #DIV/0! | G7: =+INPUT!P220 | H7: =+INPUT!Q220 | ... J7: =+INPUT!S220
A8: =+INPUT!J221 -> 220 | B8: =+INPUT!K221 -> 43319 | C8: =+INPUT!L221 | D8: =+INPUT!M221 | E8: =+INPUT!N221 | F8: =+INPUT!O221 -> #DIV/0! | G8: =+INPUT!P221 | H8: =+INPUT!Q221 | ... J8: =+INPUT!S221
A9: =+INPUT!J222 -> 221 | B9: =+INPUT!K222 -> 43320 | C9: =+INPUT!L222 | D9: =+INPUT!M222 | E9: =+INPUT!N222 | F9: =+INPUT!O222 -> #DIV/0! | G9: =+INPUT!P222 | H9: =+INPUT!Q222 | ... J9: =+INPUT!S222
A10: =+INPUT!J223 -> 222 | B10: =+INPUT!K223 -> 43321 | C10: =+INPUT!L223 | D10: =+INPUT!M223 | E10: =+INPUT!N223 | F10: =+INPUT!O223 -> #DIV/0! | G10: =+INPUT!P223 | H10: =+INPUT!Q223 | ... J10: =+INPUT!S223
A11: =+INPUT!J224 -> 223 | B11: =+INPUT!K224 -> 43322 | C11: =+INPUT!L224 | D11: =+INPUT!M224 | E11: =+INPUT!N224 | F11: =+INPUT!O224 -> #DIV/0! | G11: =+INPUT!P224 | H11: =+INPUT!Q224 | ... J11: =+INPUT!S224
A12: =+INPUT!J225 -> 224 | B12: =+INPUT!K225 -> 43323 | C12: =+INPUT!L225 | D12: =+INPUT!M225 | E12: =+INPUT!N225 | F12: =+INPUT!O225 -> #DIV/0! | G12: =+INPUT!P225 | H12: =+INPUT!Q225 | ... J12: =+INPUT!S225
A13: =+INPUT!J226 -> 225 | B13: =+INPUT!K226 -> 43324 | C13: =+INPUT!L226 | D13: =+INPUT!M226 | E13: =+INPUT!N226 | F13: =+INPUT!O226 -> #DIV/0! | G13: =+INPUT!P226 | H13: =+INPUT!Q226 | ... J13: =+INPUT!S226
... A32: =+INPUT!J245 -> 244 | B32: =+INPUT!K245 -> 43343 | C32: =+INPUT!L245 | D32: =+INPUT!M245 | E32: =+INPUT!N245 | F32: =+INPUT!O245 -> #DIV/0! | G32: =+INPUT!P245 | H32: =+INPUT!Q245 | ... J32: =+INPUT!S245
B34: MEAN | C34: =AVERAGE(C2:C32) -> #DIV/0! | D34: =AVERAGE(D2:D32) -> #DIV/0! | E34: =AVERAGE(E2:E32) -> #DIV/0! | G34: =AVERAGE(G2:G32) -> #DIV/0! | H34: =AVERAGE(H2:H32) -> #DIV/0! | I34: =AVERAGE(I2:I32) -> #DIV/0! | J34: =AVERAGE(J2:J32) -> #DIV/0!
B35: MIN | C35: =MIN(C2:C32) -> 0 | D35: =MIN(D2:D32) -> 0 | E35: =MIN(E2:E32) -> 0 | G35: =MIN(G2:G32) -> 0 | H35: =MIN(H2:H32) -> 0 | I35: =MIN(I2:I32) -> 0 | J35: =MIN(J2:J32) -> 0
B36: MAX | C36: =MAX(C2:C32) -> 0 | D36: =MAX(D2:D32) -> 0 | E36: =MAX(E2:E32) -> 0 | G36: =MAX(G2:G32) -> 0 | H36: =MAX(H2:H32) -> 0 | I36: =MAX(I2:I32) -> 0 | J36: =MAX(J2:J32) -> 0
B37: SD | C37: =STDEV(C2:C32) -> #DIV/0! | D37: =STDEV(D2:D32) -> #DIV/0! | E37: =STDEV(E2:E32) -> #DIV/0! | G37: =STDEV(G2:G32) -> #DIV/0! | H37: =STDEV(H2:H32) -> #DIV/0! | I37: =STDEV(I2:I32) -> #DIV/0! | J37: =STDEV(J2:J32) -> #DIV/0!
B39: N | C39: =COUNT(C2:C32) -> 0 | D39: =COUNT(D2:D32) -> 0 | E39: =COUNT(E2:E32) -> 0 | G39: =COUNT(G2:G32) -> 0 | H39: =COUNT(H2:H32) -> 0 | I39: =COUNT(I2:I32) -> 0 | J39: =COUNT(J2:J32) -> 0

Sheet SEP
A1: Julian Date | B1: Date | C1: D_mean | D1: D_min | E1: D_max | F1: D_sd | G1: D_range | H1: AWAT | I1: AWMINT | J1: AWMT
A2: =+INPUT!J246 -> 245 | B2: =+INPUT!K246 -> 43344 | C2: =+INPUT!L246 | D2: =+INPUT!M246 | E2: =+INPUT!N246 | F2: =+INPUT!O246 -> #DIV/0! | G2: =+INPUT!P246 | H2: =+INPUT!Q246 | ... J2: =+INPUT!S246
A3: =+INPUT!J247 -> 246 | B3: =+INPUT!K247 -> 43345 | C3: =+INPUT!L247 | D3: =+INPUT!M247 | E3: =+INPUT!N247 | F3: =+INPUT!O247 -> #DIV/0! | G3: =+INPUT!P247 | H3: =+INPUT!Q247 | ... J3: =+INPUT!S247
A4: =+INPUT!J248 -> 247 | B4: =+INPUT!K248 -> 43346 | C4: =+INPUT!L248 | D4: =+INPUT!M248 | E4: =+INPUT!N248 | F4: =+INPUT!O248 -> #DIV/0! | G4: =+INPUT!P248 | H4: =+INPUT!Q248 | ... J4: =+INPUT!S248
A5: =+INPUT!J249 -> 248 | B5: =+INPUT!K249 -> 43347 | C5: =+INPUT!L249 | D5: =+INPUT!M249 | E5: =+INPUT!N249 | F5: =+INPUT!O249 -> #DIV/0! | G5: =+INPUT!P249 | H5: =+INPUT!Q249 | ... J5: =+INPUT!S249
A6: =+INPUT!J250 -> 249 | B6: =+INPUT!K250 -> 43348 | C6: =+INPUT!L250 | D6: =+INPUT!M250 | E6: =+INPUT!N250 | F6: =+INPUT!O250 -> #DIV/0! | G6: =+INPUT!P250 | H6: =+INPUT!Q250 | ... J6: =+INPUT!S250
A7: =+INPUT!J251 -> 250 | B7: =+INPUT!K251 -> 43349 | C7: =+INPUT!L251 | D7: =+INPUT!M251 | E7: =+INPUT!N251 | F7: =+INPUT!O251 -> #DIV/0! | G7: =+INPUT!P251 | H7: =+INPUT!Q251 | ... J7: =+INPUT!S251
A8: =+INPUT!J252 -> 251 | B8: =+INPUT!K252 -> 43350 | C8: =+INPUT!L252 | D8: =+INPUT!M252 | E8: =+INPUT!N252 | F8: =+INPUT!O252 -> #DIV/0! | G8: =+INPUT!P252 | H8: =+INPUT!Q252 | ... J8: =+INPUT!S252
A9: =+INPUT!J253 -> 252 | B9: =+INPUT!K253 -> 43351 | C9: =+INPUT!L253 | D9: =+INPUT!M253 | E9: =+INPUT!N253 | F9: =+INPUT!O253 -> #DIV/0! | G9: =+INPUT!P253 | H9: =+INPUT!Q253 | ... J9: =+INPUT!S253
A10: =+INPUT!J254 -> 253 | B10: =+INPUT!K254 -> 43352 | C10: =+INPUT!L254 | D10: =+INPUT!M254 | E10: =+INPUT!N254 | F10: =+INPUT!O254 -> #DIV/0! | G10: =+INPUT!P254 | H10: =+INPUT!Q254 | ... J10: =+INPUT!S254
A11: =+INPUT!J255 -> 254 | B11: =+INPUT!K255 -> 43353 | C11: =+INPUT!L255 | D11: =+INPUT!M255 | E11: =+INPUT!N255 | F11: =+INPUT!O255 -> #DIV/0! | G11: =+INPUT!P255 | H11: =+INPUT!Q255 | ... J11: =+INPUT!S255
A12: =+INPUT!J256 -> 255 | B12: =+INPUT!K256 -> 43354 | C12: =+INPUT!L256 | D12: =+INPUT!M256 | E12: =+INPUT!N256 | F12: =+INPUT!O256 -> #DIV/0! | G12: =+INPUT!P256 | H12: =+INPUT!Q256 | ... J12: =+INPUT!S256
A13: =+INPUT!J257 -> 256 | B13: =+INPUT!K257 -> 43355 | C13: =+INPUT!L257 | D13: =+INPUT!M257 | E13: =+INPUT!N257 | F13: =+INPUT!O257 -> #DIV/0! | G13: =+INPUT!P257 | H13: =+INPUT!Q257 | ... J13: =+INPUT!S257
... A31: =+INPUT!J275 -> 274 | B31: =+INPUT!K275 -> 43373 | C31: =+INPUT!L275 | D31: =+INPUT!M275 | E31: =+INPUT!N275 | F31: =+INPUT!O275 -> #DIV/0! | G31: =+INPUT!P275 | H31: =+INPUT!Q275 | ... J31: =+INPUT!S275
B33: MEAN | C33: =AVERAGE(C2:C31) -> #DIV/0! | D33: =AVERAGE(D2:D31) -> #DIV/0! | E33: =AVERAGE(E2:E31) -> #DIV/0! | G33: =AVERAGE(G2:G31) -> #DIV/0! | H33: =AVERAGE(H2:H31) -> #DIV/0! | I33: =AVERAGE(I2:I31) -> #DIV/0! | J33: =AVERAGE(J2:J31) -> #DIV/0!
B34: MIN | C34: =MIN(C2:C31) -> 0 | D34: =MIN(D2:D31) -> 0 | E34: =MIN(E2:E31) -> 0 | G34: =MIN(G2:G31) -> 0 | H34: =MIN(H2:H31) -> 0 | I34: =MIN(I2:I31) -> 0 | J34: =MIN(J2:J31) -> 0
B35: MAX | C35: =MAX(C2:C31) -> 0 | D35: =MAX(D2:D31) -> 0 | E35: =MAX(E2:E31) -> 0 | G35: =MAX(G2:G31) -> 0 | H35: =MAX(H2:H31) -> 0 | I35: =MAX(I2:I31) -> 0 | J35: =MAX(J2:J31) -> 0
B36: SD | C36: =STDEV(C2:C31) -> #DIV/0! | D36: =STDEV(D2:D31) -> #DIV/0! | E36: =STDEV(E2:E31) -> #DIV/0! | G36: =STDEV(G2:G31) -> #DIV/0! | H36: =STDEV(H2:H31) -> #DIV/0! | I36: =STDEV(I2:I31) -> #DIV/0! | J36: =STDEV(J2:J31) -> #DIV/0!
B38: N | C38: =COUNT(C2:C31) -> 0 | D38: =COUNT(D2:D31) -> 0 | E38: =COUNT(E2:E31) -> 0 | G38: =COUNT(G2:G31) -> 0 | H38: =COUNT(H2:H31) -> 0 | I38: =COUNT(I2:I31) -> 0 | J38: =COUNT(J2:J31) -> 0

Sheet OCT
A1: Julian Date | B1: Date | C1: D_mean | D1: D_min | E1: D_max | F1: D_sd | G1: D_range | H1: AWAT | I1: AWMINT | J1: AWMT
A2: =+INPUT!J276 -> 275 | B2: =+INPUT!K276 -> 43374 | C2: =+INPUT!L276 | D2: =+INPUT!M276 | E2: =+INPUT!N276 | F2: =+INPUT!O276 -> #DIV/0! | G2: =+INPUT!P276 | H2: =+INPUT!Q276 | ... J2: =+INPUT!S276
A3: =+INPUT!J277 -> 276 | B3: =+INPUT!K277 -> 43375 | C3: =+INPUT!L277 | D3: =+INPUT!M277 | E3: =+INPUT!N277 | F3: =+INPUT!O277 -> #DIV/0! | G3: =+INPUT!P277 | H3: =+INPUT!Q277 | ... J3: =+INPUT!S277
A4: =+INPUT!J278 -> 277 | B4: =+INPUT!K278 -> 43376 | C4: =+INPUT!L278 | D4: =+INPUT!M278 | E4: =+INPUT!N278 | F4: =+INPUT!O278 -> #DIV/0! | G4: =+INPUT!P278 | H4: =+INPUT!Q278 | ... J4: =+INPUT!S278
A5: =+INPUT!J279 -> 278 | B5: =+INPUT!K279 -> 43377 | C5: =+INPUT!L279 | D5: =+INPUT!M279 | E5: =+INPUT!N279 | F5: =+INPUT!O279 -> #DIV/0! | G5: =+INPUT!P279 | H5: =+INPUT!Q279 | ... J5: =+INPUT!S279
A6: =+INPUT!J280 -> 279 | B6: =+INPUT!K280 -> 43378 | C6: =+INPUT!L280 | D6: =+INPUT!M280 | E6: =+INPUT!N280 | F6: =+INPUT!O280 -> #DIV/0! | G6: =+INPUT!P280 | H6: =+INPUT!Q280 | ... J6: =+INPUT!S280
A7: =+INPUT!J281 -> 280 | B7: =+INPUT!K281 -> 43379 | C7: =+INPUT!L281 | D7: =+INPUT!M281 | E7: =+INPUT!N281 | F7: =+INPUT!O281 -> #DIV/0! | G7: =+INPUT!P281 | H7: =+INPUT!Q281 | ... J7: =+INPUT!S281
A8: =+INPUT!J282 -> 281 | B8: =+INPUT!K282 -> 43380 | C8: =+INPUT!L282 | D8: =+INPUT!M282 | E8: =+INPUT!N282 | F8: =+INPUT!O282 -> #DIV/0! | G8: =+INPUT!P282 | H8: =+INPUT!Q282 | ... J8: =+INPUT!S282
A9: =+INPUT!J283 -> 282 | B9: =+INPUT!K283 -> 43381 | C9: =+INPUT!L283 | D9: =+INPUT!M283 | E9: =+INPUT!N283 | F9: =+INPUT!O283 -> #DIV/0! | G9: =+INPUT!P283 | H9: =+INPUT!Q283 | ... J9: =+INPUT!S283
A10: =+INPUT!J284 -> 283 | B10: =+INPUT!K284 -> 43382 | C10: =+INPUT!L284 | D10: =+INPUT!M284 | E10: =+INPUT!N284 | F10: =+INPUT!O284 -> #DIV/0! | G10: =+INPUT!P284 | H10: =+INPUT!Q284 | ... J10: =+INPUT!S284
A11: =+INPUT!J285 -> 284 | B11: =+INPUT!K285 -> 43383 | C11: =+INPUT!L285 | D11: =+INPUT!M285 | E11: =+INPUT!N285 | F11: =+INPUT!O285 -> #DIV/0! | G11: =+INPUT!P285 | H11: =+INPUT!Q285 | ... J11: =+INPUT!S285
A12: =+INPUT!J286 -> 285 | B12: =+INPUT!K286 -> 43384 | C12: =+INPUT!L286 | D12: =+INPUT!M286 | E12: =+INPUT!N286 | F12: =+INPUT!O286 -> #DIV/0! | G12: =+INPUT!P286 | H12: =+INPUT!Q286 | ... J12: =+INPUT!S286
A13: =+INPUT!J287 -> 286 | B13: =+INPUT!K287 -> 43385 | C13: =+INPUT!L287 | D13: =+INPUT!M287 | E13: =+INPUT!N287 | F13: =+INPUT!O287 -> #DIV/0! | G13: =+INPUT!P287 | H13: =+INPUT!Q287 | ... J13: =+INPUT!S287
... A32: =+INPUT!J306 -> 305 | B32: =+INPUT!K306 -> 43404 | C32: =+INPUT!L306 | D32: =+INPUT!M306 | E32: =+INPUT!N306 | F32: =+INPUT!O306 -> #DIV/0! | G32: =+INPUT!P306 | H32: =+INPUT!Q306 | ... J32: =+INPUT!S306
B34: MEAN | C34: =AVERAGE(C2:C32) -> #DIV/0! | D34: =AVERAGE(D2:D32) -> #DIV/0! | E34: =AVERAGE(E2:E32) -> #DIV/0! | G34: =AVERAGE(G2:G32) -> #DIV/0! | H34: =AVERAGE(H2:H32) -> #DIV/0! | I34: =AVERAGE(I2:I32) -> #DIV/0! | J34: =AVERAGE(J2:J32) -> #DIV/0!
B35: MIN | C35: =MIN(C2:C32) -> 0 | D35: =MIN(D2:D32) -> 0 | E35: =MIN(E2:E32) -> 0 | G35: =MIN(G2:G32) -> 0 | H35: =MIN(H2:H32) -> 0 | I35: =MIN(I2:I32) -> 0 | J35: =MIN(J2:J32) -> 0
B36: MAX | C36: =MAX(C2:C32) -> 0 | D36: =MAX(D2:D32) -> 0 | E36: =MAX(E2:E32) -> 0 | G36: =MAX(G2:G32) -> 0 | H36: =MAX(H2:H32) -> 0 | I36: =MAX(I2:I32) -> 0 | J36: =MAX(J2:J32) -> 0
B37: SD | C37: =STDEV(C2:C32) -> #DIV/0! | D37: =STDEV(D2:D32) -> #DIV/0! | E37: =STDEV(E2:E32) -> #DIV/0! | G37: =STDEV(G2:G32) -> #DIV/0! | H37: =STDEV(H2:H32) -> #DIV/0! | I37: =STDEV(I2:I32) -> #DIV/0! | J37: =STDEV(J2:J32) -> #DIV/0!
B39: N | C39: =COUNT(C2:C32) -> 0 | D39: =COUNT(D2:D32) -> 0 | E39: =COUNT(E2:E32) -> 0 | G39: =COUNT(G2:G32) -> 0 | H39: =COUNT(H2:H32) -> 0 | I39: =COUNT(I2:I32) -> 0 | J39: =COUNT(J2:J32) -> 0

Sheet NOV
A1: Julian Date | B1: Date | C1: D_mean | D1: D_min | E1: D_max | F1: D_sd | G1: D_range | H1: AWAT | I1: AWMINT | J1: AWMT
A2: =+INPUT!J307 -> 306 | B2: =+INPUT!K307 -> 43405 | C2: =+INPUT!L307 | D2: =+INPUT!M307 | E2: =+INPUT!N307 | F2: =+INPUT!O307 -> #DIV/0! | G2: =+INPUT!P307 | H2: =+INPUT!Q307 | ... J2: =+INPUT!S307
A3: =+INPUT!J308 -> 307 | B3: =+INPUT!K308 -> 43406 | C3: =+INPUT!L308 | D3: =+INPUT!M308 | E3: =+INPUT!N308 | F3: =+INPUT!O308 -> #DIV/0! | G3: =+INPUT!P308 | H3: =+INPUT!Q308 | ... J3: =+INPUT!S308
A4: =+INPUT!J309 -> 308 | B4: =+INPUT!K309 -> 43407 | C4: =+INPUT!L309 | D4: =+INPUT!M309 | E4: =+INPUT!N309 | F4: =+INPUT!O309 -> #DIV/0! | G4: =+INPUT!P309 | H4: =+INPUT!Q309 | ... J4: =+INPUT!S309
A5: =+INPUT!J310 -> 309 | B5: =+INPUT!K310 -> 43408 | C5: =+INPUT!L310 | D5: =+INPUT!M310 | E5: =+INPUT!N310 | F5: =+INPUT!O310 -> #DIV/0! | G5: =+INPUT!P310 | H5: =+INPUT!Q310 | ... J5: =+INPUT!S310
A6: =+INPUT!J311 -> 310 | B6: =+INPUT!K311 -> 43409 | C6: =+INPUT!L311 | D6: =+INPUT!M311 | E6: =+INPUT!N311 | F6: =+INPUT!O311 -> #DIV/0! | G6: =+INPUT!P311 | H6: =+INPUT!Q311 | ... J6: =+INPUT!S311
A7: =+INPUT!J312 -> 311 | B7: =+INPUT!K312 -> 43410 | C7: =+INPUT!L312 | D7: =+INPUT!M312 | E7: =+INPUT!N312 | F7: =+INPUT!O312 -> #DIV/0! | G7: =+INPUT!P312 | H7: =+INPUT!Q312 | ... J7: =+INPUT!S312
A8: =+INPUT!J313 -> 312 | B8: =+INPUT!K313 -> 43411 | C8: =+INPUT!L313 | D8: =+INPUT!M313 | E8: =+INPUT!N313 | F8: =+INPUT!O313 -> #DIV/0! | G8: =+INPUT!P313 | H8: =+INPUT!Q313 | ... J8: =+INPUT!S313
A9: =+INPUT!J314 -> 313 | B9: =+INPUT!K314 -> 43412 | C9: =+INPUT!L314 | D9: =+INPUT!M314 | E9: =+INPUT!N314 | F9: =+INPUT!O314 -> #DIV/0! | G9: =+INPUT!P314 | H9: =+INPUT!Q314 | ... J9: =+INPUT!S314
A10: =+INPUT!J315 -> 314 | B10: =+INPUT!K315 -> 43413 | C10: =+INPUT!L315 | D10: =+INPUT!M315 | E10: =+INPUT!N315 | F10: =+INPUT!O315 -> #DIV/0! | G10: =+INPUT!P315 | H10: =+INPUT!Q315 | ... J10: =+INPUT!S315
A11: =+INPUT!J316 -> 315 | B11: =+INPUT!K316 -> 43414 | C11: =+INPUT!L316 | D11: =+INPUT!M316 | E11: =+INPUT!N316 | F11: =+INPUT!O316 -> #DIV/0! | G11: =+INPUT!P316 | H11: =+INPUT!Q316 | ... J11: =+INPUT!S316
A12: =+INPUT!J317 -> 316 | B12: =+INPUT!K317 -> 43415 | C12: =+INPUT!L317 | D12: =+INPUT!M317 | E12: =+INPUT!N317 | F12: =+INPUT!O317 -> #DIV/0! | G12: =+INPUT!P317 | H12: =+INPUT!Q317 | ... J12: =+INPUT!S317
A13: =+INPUT!J318 -> 317 | B13: =+INPUT!K318 -> 43416 | C13: =+INPUT!L318 | D13: =+INPUT!M318 | E13: =+INPUT!N318 | F13: =+INPUT!O318 -> #DIV/0! | G13: =+INPUT!P318 | H13: =+INPUT!Q318 | ... J13: =+INPUT!S318
... A31: =+INPUT!J336 -> 335 | B31: =+INPUT!K336 -> 43434 | C31: =+INPUT!L336 | D31: =+INPUT!M336 | E31: =+INPUT!N336 | F31: =+INPUT!O336 -> #DIV/0! | G31: =+INPUT!P336 | H31: =+INPUT!Q336 | ... J31: =+INPUT!S336
B33: MEAN | C33: =AVERAGE(C2:C31) -> #DIV/0! | D33: =AVERAGE(D2:D31) -> #DIV/0! | E33: =AVERAGE(E2:E31) -> #DIV/0! | G33: =AVERAGE(G2:G31) -> #DIV/0! | H33: =AVERAGE(H2:H31) -> #DIV/0! | I33: =AVERAGE(I2:I31) -> #DIV/0! | J33: =AVERAGE(J2:J31) -> #DIV/0!
B34: MIN | C34: =MIN(C2:C31) -> 0 | D34: =MIN(D2:D31) -> 0 | E34: =MIN(E2:E31) -> 0 | G34: =MIN(G2:G31) -> 0 | H34: =MIN(H2:H31) -> 0 | I34: =MIN(I2:I31) -> 0 | J34: =MIN(J2:J31) -> 0
B35: MAX | C35: =MAX(C2:C31) -> 0 | D35: =MAX(D2:D31) -> 0 | E35: =MAX(E2:E31) -> 0 | G35: =MAX(G2:G31) -> 0 | H35: =MAX(H2:H31) -> 0 | I35: =MAX(I2:I31) -> 0 | J35: =MAX(J2:J31) -> 0
B36: SD | C36: =STDEV(C2:C31) -> #DIV/0! | D36: =STDEV(D2:D31) -> #DIV/0! | E36: =STDEV(E2:E31) -> #DIV/0! | G36: =STDEV(G2:G31) -> #DIV/0! | H36: =STDEV(H2:H31) -> #DIV/0! | I36: =STDEV(I2:I31) -> #DIV/0! | J36: =STDEV(J2:J31) -> #DIV/0!
B38: N | C38: =COUNT(C2:C31) -> 0 | D38: =COUNT(D2:D31) -> 0 | E38: =COUNT(E2:E31) -> 0 | G38: =COUNT(G2:G31) -> 0 | H38: =COUNT(H2:H31) -> 0 | I38: =COUNT(I2:I31) -> 0 | J38: =COUNT(J2:J31) -> 0

Sheet DEC
A1: Julian Date | B1: Date | C1: D_mean | D1: D_min | E1: D_max | F1: D_sd | G1: D_range | H1: AWAT | I1: AWMINT | J1: AWMT
A2: =+INPUT!J337 -> 336 | B2: =+INPUT!K337 -> 43435 | C2: =+INPUT!L337 | D2: =+INPUT!M337 | E2: =+INPUT!N337 | F2: =+INPUT!O337 -> #DIV/0! | G2: =+INPUT!P337 | H2: =+INPUT!Q337 | ... J2: =+INPUT!S337
A3: =+INPUT!J338 -> 337 | B3: =+INPUT!K338 -> 43436 | C3: =+INPUT!L338 | D3: =+INPUT!M338 | E3: =+INPUT!N338 | F3: =+INPUT!O338 -> #DIV/0! | G3: =+INPUT!P338 | H3: =+INPUT!Q338 | ... J3: =+INPUT!S338
A4: =+INPUT!J339 -> 338 | B4: =+INPUT!K339 -> 43437 | C4: =+INPUT!L339 | D4: =+INPUT!M339 | E4: =+INPUT!N339 | F4: =+INPUT!O339 -> #DIV/0! | G4: =+INPUT!P339 | H4: =+INPUT!Q339 | ... J4: =+INPUT!S339
A5: =+INPUT!J340 -> 339 | B5: =+INPUT!K340 -> 43438 | C5: =+INPUT!L340 | D5: =+INPUT!M340 | E5: =+INPUT!N340 | F5: =+INPUT!O340 -> #DIV/0! | G5: =+INPUT!P340 | H5: =+INPUT!Q340 | ... J5: =+INPUT!S340
A6: =+INPUT!J341 -> 340 | B6: =+INPUT!K341 -> 43439 | C6: =+INPUT!L341 | D6: =+INPUT!M341 | E6: =+INPUT!N341 | F6: =+INPUT!O341 -> #DIV/0! | G6: =+INPUT!P341 | H6: =+INPUT!Q341 | ... J6: =+INPUT!S341
A7: =+INPUT!J342 -> 341 | B7: =+INPUT!K342 -> 43440 | C7: =+INPUT!L342 | D7: =+INPUT!M342 | E7: =+INPUT!N342 | F7: =+INPUT!O342 -> #DIV/0! | G7: =+INPUT!P342 | H7: =+INPUT!Q342 | ... J7: =+INPUT!S342
A8: =+INPUT!J343 -> 342 | B8: =+INPUT!K343 -> 43441 | C8: =+INPUT!L343 | D8: =+INPUT!M343 | E8: =+INPUT!N343 | F8: =+INPUT!O343 -> #DIV/0! | G8: =+INPUT!P343 | H8: =+INPUT!Q343 | ... J8: =+INPUT!S343
A9: =+INPUT!J344 -> 343 | B9: =+INPUT!K344 -> 43442 | C9: =+INPUT!L344 | D9: =+INPUT!M344 | E9: =+INPUT!N344 | F9: =+INPUT!O344 -> #DIV/0! | G9: =+INPUT!P344 | H9: =+INPUT!Q344 | ... J9: =+INPUT!S344
A10: =+INPUT!J345 -> 344 | B10: =+INPUT!K345 -> 43443 | C10: =+INPUT!L345 | D10: =+INPUT!M345 | E10: =+INPUT!N345 | F10: =+INPUT!O345 -> #DIV/0! | G10: =+INPUT!P345 | H10: =+INPUT!Q345 | ... J10: =+INPUT!S345
A11: =+INPUT!J346 -> 345 | B11: =+INPUT!K346 -> 43444 | C11: =+INPUT!L346 | D11: =+INPUT!M346 | E11: =+INPUT!N346 | F11: =+INPUT!O346 -> #DIV/0! | G11: =+INPUT!P346 | H11: =+INPUT!Q346 | ... J11: =+INPUT!S346
A12: =+INPUT!J347 -> 346 | B12: =+INPUT!K347 -> 43445 | C12: =+INPUT!L347 | D12: =+INPUT!M347 | E12: =+INPUT!N347 | F12: =+INPUT!O347 -> #DIV/0! | G12: =+INPUT!P347 | H12: =+INPUT!Q347 | ... J12: =+INPUT!S347
