Workbook

Sheet Instructions
A1: Invasive Plant Management Prioritization Tool (iPMP)
A2: Overview
A3: This tool was designed to assist refuge staff in prioritizing invasive plants for management by breaking the process into eight decision elements. This tool is to be applied to one refuge management unit or habitat type (e.g., the tool will need to be re-run for each habitat or management unit under consideration). It is recommended that the Excel file be named for the area under consideration, and a blank template maintained for additional areas/habitats. Ideally, areas (management units or habitats) are prioritized first before using this tool, and the Invasive Plant Inventory and Early Detection Prioritization Tool (iPIP) (USFWS and Utah State Unversity 2018) can be used for this step, as well as for prioritizing plants based on the known ecological threats of the plants. This tool (iPMP) can help refine the the list of plants by incorporating the elements that are important for making management decisions.
A4: The iPMP tool is a framework to help think through the decision of which plants to manage in a particular area, and is customizable to meet the needs of an individual refuge. Each decision element has proposed standard categories and values that can be edited to better meet the refuge's needs, along with an additional "custom definition and scale" (see Tab 1). Once decision elements are defined, they are weighted by the refuge staff to reflect the level of importance of each element in the refuge's decision (Tab 2). The overall score is calculated by normalizing the decision element values and weighting them by their relative importance (Tab 3 and Tab 4).
A5: General Instructions
A6: Step 1 - Go to the "1 - Decision Elements" tab and review the description of each element. Descriptions include a constructed scale of categories and associated values. Edit categories and values to better reflect refuges needs.
A7: Step 2 - Go to the "2 - Relative Importance" tab and enter the relative importance of each decision element to your refuge.
A8: Step 3 - Go to the "3 - Evaluation" tab and enter the area being considered and list the invasive plants that occur in that management unit, in no particular order.
A9: Step 4 - Go to the "4 - Visualize Results" tab to view overall scores and the relative contribution of each decision criteria to aid in your final decision.
A10: References
A11: Literature Cited: USFWS and Utah State University. 2018. An Invasive Plant Inventory and Early Detection Prioritization Tool (version 4.0). USFWS, Pacific Southwest Region, Inventory and Monitoring Initiative. Sacramento, CA. https://ecos.fws.gov/ServCat/Reference/Profile/47680.
A12: Recommended Citation: Casey, J., L. Eaton, and R. Katz. 2020. Invasive Plant Management Prioritization Tool (version 1.0). National Wildlife Refuge System, Division of Natural Resources and Conservation Planning, Hadley MA. https://ecos.fws.gov/ServCat/Reference/Profile/122459.

Sheet 1 - Decision Elements
A1: Step 1- Review and Edit each Decision Element Definitions and Associated Value
A2: Instructions
A3: Review the eight decision elements below, with thier definitions, the constructed scale category and associated values. The categories and values can be changed to suit your needs. Each element has an additional row at the bottom of the list of constructed scale definitions name "custom definition" with "custom value" where a new definitions and values can be added. This will be included in the dropdown menus of the "3 - Evaluation" tab, and will reflect whatever is typed into it, along with the scale you give it. Note that you should not add or delete any rows or columns, as the "4 - Evaluation" tab references this tab and the associated definitions and values.
A4: Larger values (i.e., 10) represent the most preferred conditions for a selected plant. For example, if a plant is peripheral to the refuge (ie, not on the refuge yet) and not spreading quickly, but poses a high threat to the native community, has a simple control method (quick, easy, single treatment) with mimimal effort, and the habitat it invades is easily accessible, this tool would likely give the plant a high overall score, indicating that it should be targeted for management. Lower values (i.e., 1) represent the least preferred conditions for a selected plant. For example, if a plant is well-established and widespread already, spreads quickly, poses a low threat to native communities, management actions are complex, and multiple treatments may be required with limited effectiveness and high staff requirements, this tool would likely give the plant a low overall score, resulting in the plant not being targeted for management. In reality, most plants will be a combination of these conditions and this tool will help explicitly separate these into distinct elements so they can be evaluated.
A5: The names of each category may be altered (e.g., Low, Medium, High can be changed to Some, More, A Lot). The default values can also be changed to represent the differences between categories. The default values for each category range from 1 and 10. If there is a need to reflect greater gains from a condition (e.g., low establishment versus well established) it can be done by widening the difference in the scale values. Changing the values from the default of 10, 7, 5, 1 to 10, 9, 8, 1 for "Level of Establishment" would result in a greater difference between well-established, widespread and established, limited distribution. If this element is very important (tab 2), this change would result in lower overall scores for all well-established, widespread plants.
A6: Decision Elements
A7: Decision Elements | B7: Definition | C7: Constructed Scale Category | D7: Value
A8: 1 - Level of Establishment | B8: The level of infestation within the unit, or level of potential infestation based on the plant status in the surrounding landscape. | C8: Peripheral, not on refuge yet | D8: 10
B9: This tool assumes that plant species in the early stages of invasion are a higher priority for management than well-established infestations. | C9: New, low % cover | D9: 7
C10: Established, limited distribution | D10: 5
C11: Well established, widespread | D11: 1
C12: Custom definition | D12: Custom value
A13: 2 - Rate of Invasiveness | B13: The rate at which an infestion spreads or how aggressively a species spreads or does not spread. | C13: Not Spreading: infestation is contained and not expanding and not expected to expand | D13: 1
B14: This tool assumes that a species that is spreading fast is a higher priority for management than a species not spreading or spreading slowly. | C14: Slow: explands over a course of many years | D14: 3
C15: Medium: expands over a few years (2-3) | D15: 7
C16: Fast: explands quickly, within one season or 1-2 years | D16: 10
C17: Custom definition | D17: Custom value
A18: 3 - Level of Threat to Resources | B18: The level of threat the invasive species poses to the ecological integrety of the ecosystem or to a resource of concern. | C18: Low: threat of altering <10% of native plant community | D18: 1
B19: This tool assumes that an invasive plant that is a high threat to resources of concern are a higher priority for management. | C19: Medium: threat of altering 10 - 45% of native plant community; some impact to refuge resources of concern | D19: 5
C20: High: threat of altering >50% of native plant community; impacts to refuge resouces of concern | D20: 10
C21: Custom definition | D21: Custom value
A22: 4 - Level of Effort Required to Manage | B22: The amount of effort needed to implement the management. | C22: Quick and simple method effective (e.g. 1 foliar spray or hand pull or cut root) | D22: 10
B23: This tool assumes that an infestation that requires less effort to control is more important to manage than an infestation that requires an intensive effort. | C23: Intensive method(s) or multiple methods needed (e.g., snip & drip; mow, herbicide, burn; aerial spray) | D23: 5
C24: Very intensive or complex (e.g., dredge up area and replant; re-establish hydrology) | D24: 1
C25: Custom definition | D25: Custom value
A26: 5 - Number of Treatments Needed | B26: The number of treatments that are needed to meet management targets (1 treatment versus multiple treatments or years of treatments). | C26: One treatment for complete control | D26: 10
B27: This tool assumes that an infestation that can be controlled with few treatments is a higher priority for managment than an infestation that requires multiple treatments. | C27: One treatment for partial control or for containment of infestation | D27: 7
C28: A few treatments (2-3) for removal, partial control, or containment of infestation | D28: 3
C29: Many treatments (>4) for removal, partial control or containment of infestation | D29: 1
C30: Custom definition | D30: Custom value
A31: 6 - Effectiveness | B31: Effectiveness of management in controlling the invasive plant or meeting management objectives. | C31: Highly effective | D31: 10
B32: This tool assumes that invasives plants that can be effectively controlled are a higher priority for management than infestations that lack effective treatments. | C32: Ongoing effort will be required | D32: 7
C33: Uncertainty; Might be effective- more research needed | D33: 3
C34: Limited effectiveness; Will only contain spread | D34: 1
C35: Custom definition | D35: Custom value
A36: 7 - Costs | B36: The general level of cost for management, including the cost of materials, staff time, contracting, etc. | C36: Low: 1 staff; already have equipment; low material costs | D36: 10
B37: This tool assumes that invasive plants that can be managed inexpensively are a higher priority for management than plants that require expensive methods. | C37: Moderate: requires contractor; purchase of equipment; moderate cost of materials | D37: 5
C38: High: requires high cost contractor; expensive equipment; high cost of materials | D38: 1
C39: Custom definition | D39: Custom value
A40: 8 - Ease of Logistics | B40: The level of effort that is required to reach and manage the infested area. | C40: Easy: infestation location is accessible to people and equipment | D40: 10
B41: This tool assumes that an infestation that is easily accessible is a higher priority for management. | C41: Moderate: infestation location is a short distance from an access point; equipment can be brought in with some effort; terrain is navigable | D41: 5
C42: Difficult: no access point near location; location is on an island; it is difficult to bring in equipment; terrain or habitat is very difficult to move through | D42: 1
C43: Custom definition | D43: Custom value

Sheet 2 - Relative Importance
A1: Step 2- Assign Relative Importance to each Decision Element
A2: Instructions
A3: For each of the decision elements below, assign a relative importance value between 0.0 and 1.0 based on how important you feel that element is in relation to the other elements in guiding your decision of which plants to manage. Refer to "1 - Decision Elements" definitions as needed. The relative importance values must sum to 1 across all decision elements. If you do not want an element to be factored into the decision process, you can give it relative importance value of 0. If you think elements have equal importance, assign them equal values. The default relative importance values (row 5) assumes all elements are equally important, which is likely untrue for your refuge. Row 8 provides an example of relative importance values with higher emphasis on the Rate of Invasiveness in the decision. To change the relative importance values, type a number between 0 and 1.0 into row 5 under each decision element and be sure they sum to 1 in the Total column.
A4: Relative Importance Values
B5: 1 -Level of Establishment | C5: 2 - Rate of Invasiveness | D5: 3 - Level of Threat to Resources | E5: 4 - Level of Effort Needed | F5: 5 - Number of Treatments Needed | G5: 6 - Effectiveness of Management | H5: 7 - Costs | I5: 8 - Ease of Logistics | J5: Total
A6: Relative Importance Value | B6: =1/8 -> 0.125 | C6: =1/8 -> 0.125 | D6: =1/8 -> 0.125 | E6: =1/8 -> 0.125 | F6: =1/8 -> 0.125 | G6: =1/8 -> 0.125 | H6: =1/8 -> 0.125 | I6: =1/8 -> 0.125 | J6: =SUM(B6:I6) -> 1
A8: Example (Rate of Invasiveness is more important) | B8: 0.05 | C8: 0.65 | D8: 0.05 | E8: 0.05 | F8: 0.05 | G8: 0.05 | H8: 0.05 | I8: 0.05 | J8: =SUM(B8:I8) -> 1

Sheet 3 - Evaluation
A1: Step 3- Evaluation
A2: Instructions
A3: Enter the name of the management unit being evaluated in the green box below. Enter the name of each plant to be evaluated in column B (replace "plant name" with the actual plant name). For each plant and decision element, click on the text below the "Constructed Scale Category" to select the category that best respresents the plant species condition given current knowledge. When a category is selected, the value will automatically fill in the cell next to it under "Value", and the normalized value and weighted values will be automatically updated (grey - do not edit as these are calculations using the information provided in 1 - Decision Elements tab and 2 - Relative Importance tab. The normalized value ensures that the most preferred category condition gets re-assigned a value of "1" while the worst condition gets assigned a value close to 0. Move to the next element for that plant species and select from the dropdown menu. When the row is completed, the weighted average score for that species is automatically calculated under "Priority Score for Management" column. Note that the default values for all plant species are the worst condition and thus the highest priority for management. Continue to the next plant species row and select conditions for all the elements. When all the species have been scored, the final scores in the far right column can be used to prioritize the species for management and are visualized on the "4 - Visualize Results" tab. Species that receive higher scores should be considered highest priority, the species that recieve lower scores should be considered lower priority.
A4: Evaluation Table
B5: Management Unit: | C5: ENTER AREA NAME HERE
A6: Species | C6: 1 - Level of Establishment | E6: 2 - Rate of Invasiveness | G6: 3 - Level of Threat to Resources | I6: 4 - Level of Effort Required to Manage | K6: 5 - Number of Treatments Needed | M6: 6 - Effectiveness of Management | O6: 7 - Costs | Q6: 8 - Ease of Logistics | S6: Priority Score for Management
C7: Constructed Scale Category | D7: Value | E7: Constructed Scale Category | F7: Value | G7: Constructed Scale Category | H7: Value | I7: Constructed Scale Category | J7: Value | K7: Constructed Scale Category | L7: Value | M7: Constructed Scale Category | N7: Value | O7: Constructed Scale Category | P7: Value | Q7: Constructed Scale Category | R7: Value
A8: 1 | B8: plant name | C8: Peripheral, not on refuge yet | D8: =VLOOKUP(C8,'1 - Decision Elements'!$C$8:$D$12,2,FALSE) -> 10 | E8: Fast: explands quickly, within one season or 1-2 years | F8: =VLOOKUP(E8,'1 - Decision Elements'!$C$13:$D$17,2,FALSE) -> 10 | G8: High: threat of altering >50% of native plant community; impacts to refuge resouces of concern | H8: =VLOOKUP(G8,'1 - Decision Elements'!$C$18:$D$21,2,FALSE) -> 10 | I8: Quick and simple method effective (e.g. 1 foliar spray or hand pull or cut root) | J8: =VLOOKUP(I8,'1 - Decision Elements'!$C$22:$D$25,2,FALSE) -> 10 | K8: One treatment for complete control | L8: =VLOOKUP(K8,'1 - Decision Elements'!$C$26:$D$30,2,FALSE) -> 10 | M8: Highly effective | N8: =VLOOKUP(M8,'1 - Decision Elements'!$C$31:$D$35,2,FALSE) -> 10 | O8: Low: 1 staff; already have equipment; low material costs | P8: =VLOOKUP(O8,'1 - Decision Elements'!$C$36:$D$39,2,FALSE) -> 10 | Q8: Easy: infestation location is accessible to people and equipment | R8: =VLOOKUP(Q8,'1 - Decision Elements'!$C$40:$D$43,2,FALSE) -> 10
B9: normalized value | D9: =D8/MAX('1 - Decision Elements'!$D$8:$D$12) -> 1 | F9: =F8/MAX('1 - Decision Elements'!$D$13:$D$17) -> 1 | H9: =H8/MAX('1 - Decision Elements'!$D$18:$D$21) -> 1 | J9: =J8/MAX('1 - Decision Elements'!$D$22:$D$25) -> 1 | L9: =L8/MAX('1 - Decision Elements'!$D$26:$D$30) -> 1 | N9: =N8/MAX('1 - Decision Elements'!$D$31:$D$35) -> 1 | P9: =P8/MAX('1 - Decision Elements'!$D$36:$D$39) -> 1 | R9: =R8/MAX('1 - Decision Elements'!$D$40:$D$43) -> 1
B10: weighted value | D10: ='2 - Relative Importance'!$B$6*'3 - Evaluation'!D9 -> 0.125 | F10: ='2 - Relative Importance'!$C$6*'3 - Evaluation'!F9 -> 0.125 | H10: ='2 - Relative Importance'!$D$6*'3 - Evaluation'!H9 -> 0.125 | J10: ='2 - Relative Importance'!$E$6*'3 - Evaluation'!J9 -> 0.125 | L10: ='2 - Relative Importance'!$F$6*'3 - Evaluation'!L9 -> 0.125 | N10: ='2 - Relative Importance'!$G$6*'3 - Evaluation'!N9 -> 0.125 | P10: ='2 - Relative Importance'!$H$6*'3 - Evaluation'!P9 -> 0.125 | R10: ='2 - Relative Importance'!$I$6*'3 - Evaluation'!R9 -> 0.125 | S10: =SUM(D10,F10,H10,J10,L10,N10,P10,R10) -> 1
A11: 2 | B11: plant name | C11: Peripheral, not on refuge yet | D11: =VLOOKUP(C11,'1 - Decision Elements'!$C$8:$D$12,2,FALSE) -> 10 | E11: Fast: explands quickly, within one season or 1-2 years | F11: =VLOOKUP(E11,'1 - Decision Elements'!$C$13:$D$17,2,FALSE) -> 10 | G11: High: threat of altering >50% of native plant community; impacts to refuge resouces of concern | H11: =VLOOKUP(G11,'1 - Decision Elements'!$C$18:$D$21,2,FALSE) -> 10 | I11: Quick and simple method effective (e.g. 1 foliar spray or hand pull or cut root) | J11: =VLOOKUP(I11,'1 - Decision Elements'!$C$22:$D$25,2,FALSE) -> 10 | K11: One treatment for complete control | L11: =VLOOKUP(K11,'1 - Decision Elements'!$C$26:$D$30,2,FALSE) -> 10 | M11: Highly effective | N11: =VLOOKUP(M11,'1 - Decision Elements'!$C$31:$D$35,2,FALSE) -> 10 | O11: Low: 1 staff; already have equipment; low material costs | P11: =VLOOKUP(O11,'1 - Decision Elements'!$C$36:$D$39,2,FALSE) -> 10 | Q11: Easy: infestation location is accessible to people and equipment | R11: =VLOOKUP(Q11,'1 - Decision Elements'!$C$40:$D$43,2,FALSE) -> 10
B12: normalized value | D12: =D11/MAX('1 - Decision Elements'!$D$8:$D$12) -> 1 | F12: =F11/MAX('1 - Decision Elements'!$D$13:$D$17) -> 1 | H12: =H11/MAX('1 - Decision Elements'!$D$18:$D$21) -> 1 | J12: =J11/MAX('1 - Decision Elements'!$D$22:$D$25) -> 1 | L12: =L11/MAX('1 - Decision Elements'!$D$26:$D$30) -> 1 | N12: =N11/MAX('1 - Decision Elements'!$D$31:$D$35) -> 1 | P12: =P11/MAX('1 - Decision Elements'!$D$36:$D$39) -> 1 | R12: =R11/MAX('1 - Decision Elements'!$D$40:$D$43) -> 1
B13: weighted value | D13: ='2 - Relative Importance'!$B$6*'3 - Evaluation'!D12 -> 0.125 | F13: ='2 - Relative Importance'!$C$6*'3 - Evaluation'!F12 -> 0.125 | H13: ='2 - Relative Importance'!$D$6*'3 - Evaluation'!H12 -> 0.125 | J13: ='2 - Relative Importance'!$E$6*'3 - Evaluation'!J12 -> 0.125 | L13: ='2 - Relative Importance'!$F$6*'3 - Evaluation'!L12 -> 0.125 | N13: ='2 - Relative Importance'!$G$6*'3 - Evaluation'!N12 -> 0.125 | P13: ='2 - Relative Importance'!$H$6*'3 - Evaluation'!P12 -> 0.125 | R13: ='2 - Relative Importance'!$I$6*'3 - Evaluation'!R12 -> 0.125 | S13: =SUM(D13,F13,H13,J13,L13,N13,P13,R13) -> 1
A14: 3 | B14: plant name | C14: Peripheral, not on refuge yet | D14: =VLOOKUP(C14,'1 - Decision Elements'!$C$8:$D$12,2,FALSE) -> 10 | E14: Fast: explands quickly, within one season or 1-2 years | F14: =VLOOKUP(E14,'1 - Decision Elements'!$C$13:$D$17,2,FALSE) -> 10 | G14: High: threat of altering >50% of native plant community; impacts to refuge resouces of concern | H14: =VLOOKUP(G14,'1 - Decision Elements'!$C$18:$D$21,2,FALSE) -> 10 | I14: Quick and simple method effective (e.g. 1 foliar spray or hand pull or cut root) | J14: =VLOOKUP(I14,'1 - Decision Elements'!$C$22:$D$25,2,FALSE) -> 10 | K14: One treatment for complete control | L14: =VLOOKUP(K14,'1 - Decision Elements'!$C$26:$D$30,2,FALSE) -> 10 | M14: Highly effective | N14: =VLOOKUP(M14,'1 - Decision Elements'!$C$31:$D$35,2,FALSE) -> 10 | O14: Low: 1 staff; already have equipment; low material costs | P14: =VLOOKUP(O14,'1 - Decision Elements'!$C$36:$D$39,2,FALSE) -> 10 | Q14: Easy: infestation location is accessible to people and equipment | R14: =VLOOKUP(Q14,'1 - Decision Elements'!$C$40:$D$43,2,FALSE) -> 10
B15: normalized value | D15: =D14/MAX('1 - Decision Elements'!$D$8:$D$12) -> 1 | F15: =F14/MAX('1 - Decision Elements'!$D$13:$D$17) -> 1 | H15: =H14/MAX('1 - Decision Elements'!$D$18:$D$21) -> 1 | J15: =J14/MAX('1 - Decision Elements'!$D$22:$D$25) -> 1 | L15: =L14/MAX('1 - Decision Elements'!$D$26:$D$30) -> 1 | N15: =N14/MAX('1 - Decision Elements'!$D$31:$D$35) -> 1 | P15: =P14/MAX('1 - Decision Elements'!$D$36:$D$39) -> 1 | R15: =R14/MAX('1 - Decision Elements'!$D$40:$D$43) -> 1
B16: weighted value | D16: ='2 - Relative Importance'!$B$6*'3 - Evaluation'!D15 -> 0.125 | F16: ='2 - Relative Importance'!$C$6*'3 - Evaluation'!F15 -> 0.125 | H16: ='2 - Relative Importance'!$D$6*'3 - Evaluation'!H15 -> 0.125 | J16: ='2 - Relative Importance'!$E$6*'3 - Evaluation'!J15 -> 0.125 | L16: ='2 - Relative Importance'!$F$6*'3 - Evaluation'!L15 -> 0.125 | N16: ='2 - Relative Importance'!$G$6*'3 - Evaluation'!N15 -> 0.125 | P16: ='2 - Relative Importance'!$H$6*'3 - Evaluation'!P15 -> 0.125 | R16: ='2 - Relative Importance'!$I$6*'3 - Evaluation'!R15 -> 0.125 | S16: =SUM(D16,F16,H16,J16,L16,N16,P16,R16) -> 1
A17: 4 | B17: plant name | C17: Peripheral, not on refuge yet | D17: =VLOOKUP(C17,'1 - Decision Elements'!$C$8:$D$12,2,FALSE) -> 10 | E17: Fast: explands quickly, within one season or 1-2 years | F17: =VLOOKUP(E17,'1 - Decision Elements'!$C$13:$D$17,2,FALSE) -> 10 | G17: High: threat of altering >50% of native plant community; impacts to refuge resouces of concern | H17: =VLOOKUP(G17,'1 - Decision Elements'!$C$18:$D$21,2,FALSE) -> 10 | I17: Quick and simple method effective (e.g. 1 foliar spray or hand pull or cut root) | J17: =VLOOKUP(I17,'1 - Decision Elements'!$C$22:$D$25,2,FALSE) -> 10 | K17: One treatment for complete control | L17: =VLOOKUP(K17,'1 - Decision Elements'!$C$26:$D$30,2,FALSE) -> 10 | M17: Highly effective | N17: =VLOOKUP(M17,'1 - Decision Elements'!$C$31:$D$35,2,FALSE) -> 10 | O17: Low: 1 staff; already have equipment; low material costs | P17: =VLOOKUP(O17,'1 - Decision Elements'!$C$36:$D$39,2,FALSE) -> 10 | Q17: Easy: infestation location is accessible to people and equipment | R17: =VLOOKUP(Q17,'1 - Decision Elements'!$C$40:$D$43,2,FALSE) -> 10
B18: normalized value | D18: =D17/MAX('1 - Decision Elements'!$D$8:$D$12) -> 1 | F18: =F17/MAX('1 - Decision Elements'!$D$13:$D$17) -> 1 | H18: =H17/MAX('1 - Decision Elements'!$D$18:$D$21) -> 1 | J18: =J17/MAX('1 - Decision Elements'!$D$22:$D$25) -> 1 | L18: =L17/MAX('1 - Decision Elements'!$D$26:$D$30) -> 1 | N18: =N17/MAX('1 - Decision Elements'!$D$31:$D$35) -> 1 | P18: =P17/MAX('1 - Decision Elements'!$D$36:$D$39) -> 1 | R18: =R17/MAX('1 - Decision Elements'!$D$40:$D$43) -> 1
B19: weighted value | D19: ='2 - Relative Importance'!$B$6*'3 - Evaluation'!D18 -> 0.125 | F19: ='2 - Relative Importance'!$C$6*'3 - Evaluation'!F18 -> 0.125 | H19: ='2 - Relative Importance'!$D$6*'3 - Evaluation'!H18 -> 0.125 | J19: ='2 - Relative Importance'!$E$6*'3 - Evaluation'!J18 -> 0.125 | L19: ='2 - Relative Importance'!$F$6*'3 - Evaluation'!L18 -> 0.125 | N19: ='2 - Relative Importance'!$G$6*'3 - Evaluation'!N18 -> 0.125 | P19: ='2 - Relative Importance'!$H$6*'3 - Evaluation'!P18 -> 0.125 | R19: ='2 - Relative Importance'!$I$6*'3 - Evaluation'!R18 -> 0.125 | S19: =SUM(D19,F19,H19,J19,L19,N19,P19,R19) -> 1
A20: 5 | B20: plant name | C20: Peripheral, not on refuge yet | D20: =VLOOKUP(C20,'1 - Decision Elements'!$C$8:$D$12,2,FALSE) -> 10 | E20: Fast: explands quickly, within one season or 1-2 years | F20: =VLOOKUP(E20,'1 - Decision Elements'!$C$13:$D$17,2,FALSE) -> 10 | G20: High: threat of altering >50% of native plant community; impacts to refuge resouces of concern | H20: =VLOOKUP(G20,'1 - Decision Elements'!$C$18:$D$21,2,FALSE) -> 10 | I20: Quick and simple method effective (e.g. 1 foliar spray or hand pull or cut root) | J20: =VLOOKUP(I20,'1 - Decision Elements'!$C$22:$D$25,2,FALSE) -> 10 | K20: One treatment for complete control | L20: =VLOOKUP(K20,'1 - Decision Elements'!$C$26:$D$30,2,FALSE) -> 10 | M20: Highly effective | N20: =VLOOKUP(M20,'1 - Decision Elements'!$C$31:$D$35,2,FALSE) -> 10 | O20: Low: 1 staff; already have equipment; low material costs | P20: =VLOOKUP(O20,'1 - Decision Elements'!$C$36:$D$39,2,FALSE) -> 10 | Q20: Easy: infestation location is accessible to people and equipment | R20: =VLOOKUP(Q20,'1 - Decision Elements'!$C$40:$D$43,2,FALSE) -> 10
B21: normalized value | D21: =D20/MAX('1 - Decision Elements'!$D$8:$D$12) -> 1 | F21: =F20/MAX('1 - Decision Elements'!$D$13:$D$17) -> 1 | H21: =H20/MAX('1 - Decision Elements'!$D$18:$D$21) -> 1 | J21: =J20/MAX('1 - Decision Elements'!$D$22:$D$25) -> 1 | L21: =L20/MAX('1 - Decision Elements'!$D$26:$D$30) -> 1 | N21: =N20/MAX('1 - Decision Elements'!$D$31:$D$35) -> 1 | P21: =P20/MAX('1 - Decision Elements'!$D$36:$D$39) -> 1 | R21: =R20/MAX('1 - Decision Elements'!$D$40:$D$43) -> 1
B22: weighted value | D22: ='2 - Relative Importance'!$B$6*'3 - Evaluation'!D21 -> 0.125 | F22: ='2 - Relative Importance'!$C$6*'3 - Evaluation'!F21 -> 0.125 | H22: ='2 - Relative Importance'!$D$6*'3 - Evaluation'!H21 -> 0.125 | J22: ='2 - Relative Importance'!$E$6*'3 - Evaluation'!J21 -> 0.125 | L22: ='2 - Relative Importance'!$F$6*'3 - Evaluation'!L21 -> 0.125 | N22: ='2 - Relative Importance'!$G$6*'3 - Evaluation'!N21 -> 0.125 | P22: ='2 - Relative Importance'!$H$6*'3 - Evaluation'!P21 -> 0.125 | R22: ='2 - Relative Importance'!$I$6*'3 - Evaluation'!R21 -> 0.125 | S22: =SUM(D22,F22,H22,J22,L22,N22,P22,R22) -> 1
A23: 6 | B23: plant name | C23: Peripheral, not on refuge yet | D23: =VLOOKUP(C23,'1 - Decision Elements'!$C$8:$D$12,2,FALSE) -> 10 | E23: Fast: explands quickly, within one season or 1-2 years | F23: =VLOOKUP(E23,'1 - Decision Elements'!$C$13:$D$17,2,FALSE) -> 10 | G23: High: threat of altering >50% of native plant community; impacts to refuge resouces of concern | H23: =VLOOKUP(G23,'1 - Decision Elements'!$C$18:$D$21,2,FALSE) -> 10 | I23: Quick and simple method effective (e.g. 1 foliar spray or hand pull or cut root) | J23: =VLOOKUP(I23,'1 - Decision Elements'!$C$22:$D$25,2,FALSE) -> 10 | K23: One treatment for complete control | L23: =VLOOKUP(K23,'1 - Decision Elements'!$C$26:$D$30,2,FALSE) -> 10 | M23: Highly effective | N23: =VLOOKUP(M23,'1 - Decision Elements'!$C$31:$D$35,2,FALSE) -> 10 | O23: Low: 1 staff; already have equipment; low material costs | P23: =VLOOKUP(O23,'1 - Decision Elements'!$C$36:$D$39,2,FALSE) -> 10 | Q23: Easy: infestation location is accessible to people and equipment | R23: =VLOOKUP(Q23,'1 - Decision Elements'!$C$40:$D$43,2,FALSE) -> 10
B24: normalized value | D24: =D23/MAX('1 - Decision Elements'!$D$8:$D$12) -> 1 | F24: =F23/MAX('1 - Decision Elements'!$D$13:$D$17) -> 1 | H24: =H23/MAX('1 - Decision Elements'!$D$18:$D$21) -> 1 | J24: =J23/MAX('1 - Decision Elements'!$D$22:$D$25) -> 1 | L24: =L23/MAX('1 - Decision Elements'!$D$26:$D$30) -> 1 | N24: =N23/MAX('1 - Decision Elements'!$D$31:$D$35) -> 1 | P24: =P23/MAX('1 - Decision Elements'!$D$36:$D$39) -> 1 | R24: =R23/MAX('1 - Decision Elements'!$D$40:$D$43) -> 1
B25: weighted value | D25: ='2 - Relative Importance'!$B$6*'3 - Evaluation'!D24 -> 0.125 | F25: ='2 - Relative Importance'!$C$6*'3 - Evaluation'!F24 -> 0.125 | H25: ='2 - Relative Importance'!$D$6*'3 - Evaluation'!H24 -> 0.125 | J25: ='2 - Relative Importance'!$E$6*'3 - Evaluation'!J24 -> 0.125 | L25: ='2 - Relative Importance'!$F$6*'3 - Evaluation'!L24 -> 0.125 | N25: ='2 - Relative Importance'!$G$6*'3 - Evaluation'!N24 -> 0.125 | P25: ='2 - Relative Importance'!$H$6*'3 - Evaluation'!P24 -> 0.125 | R25: ='2 - Relative Importance'!$I$6*'3 - Evaluation'!R24 -> 0.125 | S25: =SUM(D25,F25,H25,J25,L25,N25,P25,R25) -> 1
A26: 7 | B26: plant name | C26: Peripheral, not on refuge yet | D26: =VLOOKUP(C26,'1 - Decision Elements'!$C$8:$D$12,2,FALSE) -> 10 | E26: Fast: explands quickly, within one season or 1-2 years | F26: =VLOOKUP(E26,'1 - Decision Elements'!$C$13:$D$17,2,FALSE) -> 10 | G26: High: threat of altering >50% of native plant community; impacts to refuge resouces of concern | H26: =VLOOKUP(G26,'1 - Decision Elements'!$C$18:$D$21,2,FALSE) -> 10 | I26: Quick and simple method effective (e.g. 1 foliar spray or hand pull or cut root) | J26: =VLOOKUP(I26,'1 - Decision Elements'!$C$22:$D$25,2,FALSE) -> 10 | K26: One treatment for complete control | L26: =VLOOKUP(K26,'1 - Decision Elements'!$C$26:$D$30,2,FALSE) -> 10 | M26: Highly effective | N26: =VLOOKUP(M26,'1 - Decision Elements'!$C$31:$D$35,2,FALSE) -> 10 | O26: Low: 1 staff; already have equipment; low material costs | P26: =VLOOKUP(O26,'1 - Decision Elements'!$C$36:$D$39,2,FALSE) -> 10 | Q26: Easy: infestation location is accessible to people and equipment | R26: =VLOOKUP(Q26,'1 - Decision Elements'!$C$40:$D$43,2,FALSE) -> 10
B27: normalized value | D27: =D26/MAX('1 - Decision Elements'!$D$8:$D$12) -> 1 | F27: =F26/MAX('1 - Decision Elements'!$D$13:$D$17) -> 1 | H27: =H26/MAX('1 - Decision Elements'!$D$18:$D$21) -> 1 | J27: =J26/MAX('1 - Decision Elements'!$D$22:$D$25) -> 1 | L27: =L26/MAX('1 - Decision Elements'!$D$26:$D$30) -> 1 | N27: =N26/MAX('1 - Decision Elements'!$D$31:$D$35) -> 1 | P27: =P26/MAX('1 - Decision Elements'!$D$36:$D$39) -> 1 | R27: =R26/MAX('1 - Decision Elements'!$D$40:$D$43) -> 1
B28: weighted value | D28: ='2 - Relative Importance'!$B$6*'3 - Evaluation'!D27 -> 0.125 | F28: ='2 - Relative Importance'!$C$6*'3 - Evaluation'!F27 -> 0.125 | H28: ='2 - Relative Importance'!$D$6*'3 - Evaluation'!H27 -> 0.125 | J28: ='2 - Relative Importance'!$E$6*'3 - Evaluation'!J27 -> 0.125 | L28: ='2 - Relative Importance'!$F$6*'3 - Evaluation'!L27 -> 0.125 | N28: ='2 - Relative Importance'!$G$6*'3 - Evaluation'!N27 -> 0.125 | P28: ='2 - Relative Importance'!$H$6*'3 - Evaluation'!P27 -> 0.125 | R28: ='2 - Relative Importance'!$I$6*'3 - Evaluation'!R27 -> 0.125 | S28: =SUM(D28,F28,H28,J28,L28,N28,P28,R28) -> 1
A29: 8 | B29: plant name | C29: Peripheral, not on refuge yet | D29: =VLOOKUP(C29,'1 - Decision Elements'!$C$8:$D$12,2,FALSE) -> 10 | E29: Fast: explands quickly, within one season or 1-2 years | F29: =VLOOKUP(E29,'1 - Decision Elements'!$C$13:$D$17,2,FALSE) -> 10 | G29: High: threat of altering >50% of native plant community; impacts to refuge resouces of concern | H29: =VLOOKUP(G29,'1 - Decision Elements'!$C$18:$D$21,2,FALSE) -> 10 | I29: Quick and simple method effective (e.g. 1 foliar spray or hand pull or cut root) | J29: =VLOOKUP(I29,'1 - Decision Elements'!$C$22:$D$25,2,FALSE) -> 10 | K29: One treatment for complete control | L29: =VLOOKUP(K29,'1 - Decision Elements'!$C$26:$D$30,2,FALSE) -> 10 | M29: Highly effective | N29: =VLOOKUP(M29,'1 - Decision Elements'!$C$31:$D$35,2,FALSE) -> 10 | O29: Low: 1 staff; already have equipment; low material costs | P29: =VLOOKUP(O29,'1 - Decision Elements'!$C$36:$D$39,2,FALSE) -> 10 | Q29: Easy: infestation location is accessible to people and equipment | R29: =VLOOKUP(Q29,'1 - Decision Elements'!$C$40:$D$43,2,FALSE) -> 10
B30: normalized value | D30: =D29/MAX('1 - Decision Elements'!$D$8:$D$12) -> 1 | F30: =F29/MAX('1 - Decision Elements'!$D$13:$D$17) -> 1 | H30: =H29/MAX('1 - Decision Elements'!$D$18:$D$21) -> 1 | J30: =J29/MAX('1 - Decision Elements'!$D$22:$D$25) -> 1 | L30: =L29/MAX('1 - Decision Elements'!$D$26:$D$30) -> 1 | N30: =N29/MAX('1 - Decision Elements'!$D$31:$D$35) -> 1 | P30: =P29/MAX('1 - Decision Elements'!$D$36:$D$39) -> 1 | R30: =R29/MAX('1 - Decision Elements'!$D$40:$D$43) -> 1
B31: weighted value | D31: ='2 - Relative Importance'!$B$6*'3 - Evaluation'!D30 -> 0.125 | F31: ='2 - Relative Importance'!$C$6*'3 - Evaluation'!F30 -> 0.125 | H31: ='2 - Relative Importance'!$D$6*'3 - Evaluation'!H30 -> 0.125 | J31: ='2 - Relative Importance'!$E$6*'3 - Evaluation'!J30 -> 0.125 | L31: ='2 - Relative Importance'!$F$6*'3 - Evaluation'!L30 -> 0.125 | N31: ='2 - Relative Importance'!$G$6*'3 - Evaluation'!N30 -> 0.125 | P31: ='2 - Relative Importance'!$H$6*'3 - Evaluation'!P30 -> 0.125 | R31: ='2 - Relative Importance'!$I$6*'3 - Evaluation'!R30 -> 0.125 | S31: =SUM(D31,F31,H31,J31,L31,N31,P31,R31) -> 1
A32: 9 | B32: plant name | C32: Peripheral, not on refuge yet | D32: =VLOOKUP(C32,'1 - Decision Elements'!$C$8:$D$12,2,FALSE) -> 10 | E32: Fast: explands quickly, within one season or 1-2 years | F32: =VLOOKUP(E32,'1 - Decision Elements'!$C$13:$D$17,2,FALSE) -> 10 | G32: High: threat of altering >50% of native plant community; impacts to refuge resouces of concern | H32: =VLOOKUP(G32,'1 - Decision Elements'!$C$18:$D$21,2,FALSE) -> 10 | I32: Quick and simple method effective (e.g. 1 foliar spray or hand pull or cut root) | J32: =VLOOKUP(I32,'1 - Decision Elements'!$C$22:$D$25,2,FALSE) -> 10 | K32: One treatment for complete control | L32: =VLOOKUP(K32,'1 - Decision Elements'!$C$26:$D$30,2,FALSE) -> 10 | M32: Highly effective | N32: =VLOOKUP(M32,'1 - Decision Elements'!$C$31:$D$35,2,FALSE) -> 10 | O32: Low: 1 staff; already have equipment; low material costs | P32: =VLOOKUP(O32,'1 - Decision Elements'!$C$36:$D$39,2,FALSE) -> 10 | Q32: Easy: infestation location is accessible to people and equipment | R32: =VLOOKUP(Q32,'1 - Decision Elements'!$C$40:$D$43,2,FALSE) -> 10
B33: normalized value | D33: =D32/MAX('1 - Decision Elements'!$D$8:$D$12) -> 1 | F33: =F32/MAX('1 - Decision Elements'!$D$13:$D$17) -> 1 | H33: =H32/MAX('1 - Decision Elements'!$D$18:$D$21) -> 1 | J33: =J32/MAX('1 - Decision Elements'!$D$22:$D$25) -> 1 | L33: =L32/MAX('1 - Decision Elements'!$D$26:$D$30) -> 1 | N33: =N32/MAX('1 - Decision Elements'!$D$31:$D$35) -> 1 | P33: =P32/MAX('1 - Decision Elements'!$D$36:$D$39) -> 1 | R33: =R32/MAX('1 - Decision Elements'!$D$40:$D$43) -> 1
B34: weighted value | D34: ='2 - Relative Importance'!$B$6*'3 - Evaluation'!D33 -> 0.125 | F34: ='2 - Relative Importance'!$C$6*'3 - Evaluation'!F33 -> 0.125 | H34: ='2 - Relative Importance'!$D$6*'3 - Evaluation'!H33 -> 0.125 | J34: ='2 - Relative Importance'!$E$6*'3 - Evaluation'!J33 -> 0.125 | L34: ='2 - Relative Importance'!$F$6*'3 - Evaluation'!L33 -> 0.125 | N34: ='2 - Relative Importance'!$G$6*'3 - Evaluation'!N33 -> 0.125 | P34: ='2 - Relative Importance'!$H$6*'3 - Evaluation'!P33 -> 0.125 | R34: ='2 - Relative Importance'!$I$6*'3 - Evaluation'!R33 -> 0.125 | S34: =SUM(D34,F34,H34,J34,L34,N34,P34,R34) -> 1
A35: 10 | B35: plant name | C35: Peripheral, not on refuge yet | D35: =VLOOKUP(C35,'1 - Decision Elements'!$C$8:$D$12,2,FALSE) -> 10 | E35: Fast: explands quickly, within one season or 1-2 years | F35: =VLOOKUP(E35,'1 - Decision Elements'!$C$13:$D$17,2,FALSE) -> 10 | G35: High: threat of altering >50% of native plant community; impacts to refuge resouces of concern | H35: =VLOOKUP(G35,'1 - Decision Elements'!$C$18:$D$21,2,FALSE) -> 10 | I35: Quick and simple method effective (e.g. 1 foliar spray or hand pull or cut root) | J35: =VLOOKUP(I35,'1 - Decision Elements'!$C$22:$D$25,2,FALSE) -> 10 | K35: One treatment for complete control | L35: =VLOOKUP(K35,'1 - Decision Elements'!$C$26:$D$30,2,FALSE) -> 10 | M35: Highly effective | N35: =VLOOKUP(M35,'1 - Decision Elements'!$C$31:$D$35,2,FALSE) -> 10 | O35: Low: 1 staff; already have equipment; low material costs | P35: =VLOOKUP(O35,'1 - Decision Elements'!$C$36:$D$39,2,FALSE) -> 10 | Q35: Easy: infestation location is accessible to people and equipment | R35: =VLOOKUP(Q35,'1 - Decision Elements'!$C$40:$D$43,2,FALSE) -> 10
B36: normalized value | D36: =D35/MAX('1 - Decision Elements'!$D$8:$D$12) -> 1 | F36: =F35/MAX('1 - Decision Elements'!$D$13:$D$17) -> 1 | H36: =H35/MAX('1 - Decision Elements'!$D$18:$D$21) -> 1 | J36: =J35/MAX('1 - Decision Elements'!$D$22:$D$25) -> 1 | L36: =L35/MAX('1 - Decision Elements'!$D$26:$D$30) -> 1 | N36: =N35/MAX('1 - Decision Elements'!$D$31:$D$35) -> 1 | P36: =P35/MAX('1 - Decision Elements'!$D$36:$D$39) -> 1 | R36: =R35/MAX('1 - Decision Elements'!$D$40:$D$43) -> 1
B37: weighted value | D37: ='2 - Relative Importance'!$B$6*'3 - Evaluation'!D36 -> 0.125 | F37: ='2 - Relative Importance'!$C$6*'3 - Evaluation'!F36 -> 0.125 | H37: ='2 - Relative Importance'!$D$6*'3 - Evaluation'!H36 -> 0.125 | J37: ='2 - Relative Importance'!$E$6*'3 - Evaluation'!J36 -> 0.125 | L37: ='2 - Relative Importance'!$F$6*'3 - Evaluation'!L36 -> 0.125 | N37: ='2 - Relative Importance'!$G$6*'3 - Evaluation'!N36 -> 0.125 | P37: ='2 - Relative Importance'!$H$6*'3 - Evaluation'!P36 -> 0.125 | R37: ='2 - Relative Importance'!$I$6*'3 - Evaluation'!R36 -> 0.125 | S37: =SUM(D37,F37,H37,J37,L37,N37,P37,R37) -> 1
A38: 11 | B38: plant name | C38: Peripheral, not on refuge yet | D38: =VLOOKUP(C38,'1 - Decision Elements'!$C$8:$D$12,2,FALSE) -> 10 | E38: Fast: explands quickly, within one season or 1-2 years | F38: =VLOOKUP(E38,'1 - Decision Elements'!$C$13:$D$17,2,FALSE) -> 10 | G38: High: threat of altering >50% of native plant community; impacts to refuge resouces of concern | H38: =VLOOKUP(G38,'1 - Decision Elements'!$C$18:$D$21,2,FALSE) -> 10 | I38: Quick and simple method effective (e.g. 1 foliar spray or hand pull or cut root) | J38: =VLOOKUP(I38,'1 - Decision Elements'!$C$22:$D$25,2,FALSE) -> 10 | K38: One treatment for complete control | L38: =VLOOKUP(K38,'1 - Decision Elements'!$C$26:$D$30,2,FALSE) -> 10 | M38: Highly effective | N38: =VLOOKUP(M38,'1 - Decision Elements'!$C$31:$D$35,2,FALSE) -> 10 | O38: Low: 1 staff; already have equipment; low material costs | P38: =VLOOKUP(O38,'1 - Decision Elements'!$C$36:$D$39,2,FALSE) -> 10 | Q38: Easy: infestation location is accessible to people and equipment | R38: =VLOOKUP(Q38,'1 - Decision Elements'!$C$40:$D$43,2,FALSE) -> 10
B39: normalized value | D39: =D38/MAX('1 - Decision Elements'!$D$8:$D$12) -> 1 | F39: =F38/MAX('1 - Decision Elements'!$D$13:$D$17) -> 1 | H39: =H38/MAX('1 - Decision Elements'!$D$18:$D$21) -> 1 | J39: =J38/MAX('1 - Decision Elements'!$D$22:$D$25) -> 1 | L39: =L38/MAX('1 - Decision Elements'!$D$26:$D$30) -> 1 | N39: =N38/MAX('1 - Decision Elements'!$D$31:$D$35) -> 1 | P39: =P38/MAX('1 - Decision Elements'!$D$36:$D$39) -> 1 | R39: =R38/MAX('1 - Decision Elements'!$D$40:$D$43) -> 1
B40: weighted value | D40: ='2 - Relative Importance'!$B$6*'3 - Evaluation'!D39 -> 0.125 | F40: ='2 - Relative Importance'!$C$6*'3 - Evaluation'!F39 -> 0.125 | H40: ='2 - Relative Importance'!$D$6*'3 - Evaluation'!H39 -> 0.125 | J40: ='2 - Relative Importance'!$E$6*'3 - Evaluation'!J39 -> 0.125 | L40: ='2 - Relative Importance'!$F$6*'3 - Evaluation'!L39 -> 0.125 | N40: ='2 - Relative Importance'!$G$6*'3 - Evaluation'!N39 -> 0.125 | P40: ='2 - Relative Importance'!$H$6*'3 - Evaluation'!P39 -> 0.125 | R40: ='2 - Relative Importance'!$I$6*'3 - Evaluation'!R39 -> 0.125 | S40: =SUM(D40,F40,H40,J40,L40,N40,P40,R40) -> 1
A41: 12 | B41: plant name | C41: Peripheral, not on refuge yet | D41: =VLOOKUP(C41,'1 - Decision Elements'!$C$8:$D$12,2,FALSE) -> 10 | E41: Fast: explands quickly, within one season or 1-2 years | F41: =VLOOKUP(E41,'1 - Decision Elements'!$C$13:$D$17,2,FALSE) -> 10 | G41: High: threat of altering >50% of native plant community; impacts to refuge resouces of concern | H41: =VLOOKUP(G41,'1 - Decision Elements'!$C$18:$D$21,2,FALSE) -> 10 | I41: Quick and simple method effective (e.g. 1 foliar spray or hand pull or cut root) | J41: =VLOOKUP(I41,'1 - Decision Elements'!$C$22:$D$25,2,FALSE) -> 10 | K41: One treatment for complete control | L41: =VLOOKUP(K41,'1 - Decision Elements'!$C$26:$D$30,2,FALSE) -> 10 | M41: Highly effective | N41: =VLOOKUP(M41,'1 - Decision Elements'!$C$31:$D$35,2,FALSE) -> 10 | O41: Low: 1 staff; already have equipment; low material costs | P41: =VLOOKUP(O41,'1 - Decision Elements'!$C$36:$D$39,2,FALSE) -> 10 | Q41: Easy: infestation location is accessible to people and equipment | R41: =VLOOKUP(Q41,'1 - Decision Elements'!$C$40:$D$43,2,FALSE) -> 10
B42: normalized value | D42: =D41/MAX('1 - Decision Elements'!$D$8:$D$12) -> 1 | F42: =F41/MAX('1 - Decision Elements'!$D$13:$D$17) -> 1 | H42: =H41/MAX('1 - Decision Elements'!$D$18:$D$21) -> 1 | J42: =J41/MAX('1 - Decision Elements'!$D$22:$D$25) -> 1 | L42: =L41/MAX('1 - Decision Elements'!$D$26:$D$30) -> 1 | N42: =N41/MAX('1 - Decision Elements'!$D$31:$D$35) -> 1 | P42: =P41/MAX('1 - Decision Elements'!$D$36:$D$39) -> 1 | R42: =R41/MAX('1 - Decision Elements'!$D$40:$D$43) -> 1
B43: weighted value | D43: ='2 - Relative Importance'!$B$6*'3 - Evaluation'!D42 -> 0.125 | F43: ='2 - Relative Importance'!$C$6*'3 - Evaluation'!F42 -> 0.125 | H43: ='2 - Relative Importance'!$D$6*'3 - Evaluation'!H42 -> 0.125 | J43: ='2 - Relative Importance'!$E$6*'3 - Evaluation'!J42 -> 0.125 | L43: ='2 - Relative Importance'!$F$6*'3 - Evaluation'!L42 -> 0.125 | N43: ='2 - Relative Importance'!$G$6*'3 - Evaluation'!N42 -> 0.125 | P43: ='2 - Relative Importance'!$H$6*'3 - Evaluation'!P42 -> 0.125 | R43: ='2 - Relative Importance'!$I$6*'3 - Evaluation'!R42 -> 0.125 | S43: =SUM(D43,F43,H43,J43,L43,N43,P43,R43) -> 1
A44: 13 | B44: plant name | C44: Peripheral, not on refuge yet | D44: =VLOOKUP(C44,'1 - Decision Elements'!$C$8:$D$12,2,FALSE) -> 10 | E44: Fast: explands quickly, within one season or 1-2 years | F44: =VLOOKUP(E44,'1 - Decision Elements'!$C$13:$D$17,2,FALSE) -> 10 | G44: High: threat of altering >50% of native plant community; impacts to refuge resouces of concern | H44: =VLOOKUP(G44,'1 - Decision Elements'!$C$18:$D$21,2,FALSE) -> 10 | I44: Quick and simple method effective (e.g. 1 foliar spray or hand pull or cut root) | J44: =VLOOKUP(I44,'1 - Decision Elements'!$C$22:$D$25,2,FALSE) -> 10 | K44: One treatment for complete control | L44: =VLOOKUP(K44,'1 - Decision Elements'!$C$26:$D$30,2,FALSE) -> 10 | M44: Highly effective | N44: =VLOOKUP(M44,'1 - Decision Elements'!$C$31:$D$35,2,FALSE) -> 10 | O44: Low: 1 staff; already have equipment; low material costs | P44: =VLOOKUP(O44,'1 - Decision Elements'!$C$36:$D$39,2,FALSE) -> 10 | Q44: Easy: infestation location is accessible to people and equipment | R44: =VLOOKUP(Q44,'1 - Decision Elements'!$C$40:$D$43,2,FALSE) -> 10
B45: normalized value | D45: =D44/MAX('1 - Decision Elements'!$D$8:$D$12) -> 1 | F45: =F44/MAX('1 - Decision Elements'!$D$13:$D$17) -> 1 | H45: =H44/MAX('1 - Decision Elements'!$D$18:$D$21) -> 1 | J45: =J44/MAX('1 - Decision Elements'!$D$22:$D$25) -> 1 | L45: =L44/MAX('1 - Decision Elements'!$D$26:$D$30) -> 1 | N45: =N44/MAX('1 - Decision Elements'!$D$31:$D$35) -> 1 | P45: =P44/MAX('1 - Decision Elements'!$D$36:$D$39) -> 1 | R45: =R44/MAX('1 - Decision Elements'!$D$40:$D$43) -> 1
B46: weighted value | D46: ='2 - Relative Importance'!$B$6*'3 - Evaluation'!D45 -> 0.125 | F46: ='2 - Relative Importance'!$C$6*'3 - Evaluation'!F45 -> 0.125 | H46: ='2 - Relative Importance'!$D$6*'3 - Evaluation'!H45 -> 0.125 | J46: ='2 - Relative Importance'!$E$6*'3 - Evaluation'!J45 -> 0.125 | L46: ='2 - Relative Importance'!$F$6*'3 - Evaluation'!L45 -> 0.125 | N46: ='2 - Relative Importance'!$G$6*'3 - Evaluation'!N45 -> 0.125 | P46: ='2 - Relative Importance'!$H$6*'3 - Evaluation'!P45 -> 0.125 | R46: ='2 - Relative Importance'!$I$6*'3 - Evaluation'!R45 -> 0.125 | S46: =SUM(D46,F46,H46,J46,L46,N46,P46,R46) -> 1
A47: 14 | B47: plant name | C47: Peripheral, not on refuge yet | D47: =VLOOKUP(C47,'1 - Decision Elements'!$C$8:$D$12,2,FALSE) -> 10 | E47: Fast: explands quickly, within one season or 1-2 years | F47: =VLOOKUP(E47,'1 - Decision Elements'!$C$13:$D$17,2,FALSE) -> 10 | G47: High: threat of altering >50% of native plant community; impacts to refuge resouces of concern | H47: =VLOOKUP(G47,'1 - Decision Elements'!$C$18:$D$21,2,FALSE) -> 10 | I47: Quick and simple method effective (e.g. 1 foliar spray or hand pull or cut root) | J47: =VLOOKUP(I47,'1 - Decision Elements'!$C$22:$D$25,2,FALSE) -> 10 | K47: One treatment for complete control | L47: =VLOOKUP(K47,'1 - Decision Elements'!$C$26:$D$30,2,FALSE) -> 10 | M47: Highly effective | N47: =VLOOKUP(M47,'1 - Decision Elements'!$C$31:$D$35,2,FALSE) -> 10 | O47: Low: 1 staff; already have equipment; low material costs | P47: =VLOOKUP(O47,'1 - Decision Elements'!$C$36:$D$39,2,FALSE) -> 10 | Q47: Easy: infestation location is accessible to people and equipment | R47: =VLOOKUP(Q47,'1 - Decision Elements'!$C$40:$D$43,2,FALSE) -> 10
B48: normalized value | D48: =D47/MAX('1 - Decision Elements'!$D$8:$D$12) -> 1 | F48: =F47/MAX('1 - Decision Elements'!$D$13:$D$17) -> 1 | H48: =H47/MAX('1 - Decision Elements'!$D$18:$D$21) -> 1 | J48: =J47/MAX('1 - Decision Elements'!$D$22:$D$25) -> 1 | L48: =L47/MAX('1 - Decision Elements'!$D$26:$D$30) -> 1 | N48: =N47/MAX('1 - Decision Elements'!$D$31:$D$35) -> 1 | P48: =P47/MAX('1 - Decision Elements'!$D$36:$D$39) -> 1 | R48: =R47/MAX('1 - Decision Elements'!$D$40:$D$43) -> 1
B49: weighted value | D49: ='2 - Relative Importance'!$B$6*'3 - Evaluation'!D48 -> 0.125 | F49: ='2 - Relative Importance'!$C$6*'3 - Evaluation'!F48 -> 0.125 | H49: ='2 - Relative Importance'!$D$6*'3 - Evaluation'!H48 -> 0.125 | J49: ='2 - Relative Importance'!$E$6*'3 - Evaluation'!J48 -> 0.125 | L49: ='2 - Relative Importance'!$F$6*'3 - Evaluation'!L48 -> 0.125 | N49: ='2 - Relative Importance'!$G$6*'3 - Evaluation'!N48 -> 0.125 | P49: ='2 - Relative Importance'!$H$6*'3 - Evaluation'!P48 -> 0.125 | R49: ='2 - Relative Importance'!$I$6*'3 - Evaluation'!R48 -> 0.125 | S49: =SUM(D49,F49,H49,J49,L49,N49,P49,R49) -> 1
A50: 15 | B50: plant name | C50: Peripheral, not on refuge yet | D50: =VLOOKUP(C50,'1 - Decision Elements'!$C$8:$D$12,2,FALSE) -> 10 | E50: Fast: explands quickly, within one season or 1-2 years | F50: =VLOOKUP(E50,'1 - Decision Elements'!$C$13:$D$17,2,FALSE) -> 10 | G50: High: threat of altering >50% of native plant community; impacts to refuge resouces of concern | H50: =VLOOKUP(G50,'1 - Decision Elements'!$C$18:$D$21,2,FALSE) -> 10 | I50: Quick and simple method effective (e.g. 1 foliar spray or hand pull or cut root) | J50: =VLOOKUP(I50,'1 - Decision Elements'!$C$22:$D$25,2,FALSE) -> 10 | K50: One treatment for complete control | L50: =VLOOKUP(K50,'1 - Decision Elements'!$C$26:$D$30,2,FALSE) -> 10 | M50: Highly effective | N50: =VLOOKUP(M50,'1 - Decision Elements'!$C$31:$D$35,2,FALSE) -> 10 | O50: Low: 1 staff; already have equipment; low material costs | P50: =VLOOKUP(O50,'1 - Decision Elements'!$C$36:$D$39,2,FALSE) -> 10 | Q50: Easy: infestation location is accessible to people and equipment | R50: =VLOOKUP(Q50,'1 - Decision Elements'!$C$40:$D$43,2,FALSE) -> 10
B51: normalized value | D51: =D50/MAX('1 - Decision Elements'!$D$8:$D$12) -> 1 | F51: =F50/MAX('1 - Decision Elements'!$D$13:$D$17) -> 1 | H51: =H50/MAX('1 - Decision Elements'!$D$18:$D$21) -> 1 | J51: =J50/MAX('1 - Decision Elements'!$D$22:$D$25) -> 1 | L51: =L50/MAX('1 - Decision Elements'!$D$26:$D$30) -> 1 | N51: =N50/MAX('1 - Decision Elements'!$D$31:$D$35) -> 1 | P51: =P50/MAX('1 - Decision Elements'!$D$36:$D$39) -> 1 | R51: =R50/MAX('1 - Decision Elements'!$D$40:$D$43) -> 1
B52: weighted value | D52: ='2 - Relative Importance'!$B$6*'3 - Evaluation'!D51 -> 0.125 | F52: ='2 - Relative Importance'!$C$6*'3 - Evaluation'!F51 -> 0.125 | H52: ='2 - Relative Importance'!$D$6*'3 - Evaluation'!H51 -> 0.125 | J52: ='2 - Relative Importance'!$E$6*'3 - Evaluation'!J51 -> 0.125 | L52: ='2 - Relative Importance'!$F$6*'3 - Evaluation'!L51 -> 0.125 | N52: ='2 - Relative Importance'!$G$6*'3 - Evaluation'!N51 -> 0.125 | P52: ='2 - Relative Importance'!$H$6*'3 - Evaluation'!P51 -> 0.125 | R52: ='2 - Relative Importance'!$I$6*'3 - Evaluation'!R51 -> 0.125 | S52: =SUM(D52,F52,H52,J52,L52,N52,P52,R52) -> 1
A53: 16 | B53: plant name | C53: Peripheral, not on refuge yet | D53: =VLOOKUP(C53,'1 - Decision Elements'!$C$8:$D$12,2,FALSE) -> 10 | E53: Fast: explands quickly, within one season or 1-2 years | F53: =VLOOKUP(E53,'1 - Decision Elements'!$C$13:$D$17,2,FALSE) -> 10 | G53: High: threat of altering >50% of native plant community; impacts to refuge resouces of concern | H53: =VLOOKUP(G53,'1 - Decision Elements'!$C$18:$D$21,2,FALSE) -> 10 | I53: Quick and simple method effective (e.g. 1 foliar spray or hand pull or cut root) | J53: =VLOOKUP(I53,'1 - Decision Elements'!$C$22:$D$25,2,FALSE) -> 10 | K53: One treatment for complete control | L53: =VLOOKUP(K53,'1 - Decision Elements'!$C$26:$D$30,2,FALSE) -> 10 | M53: Highly effective | N53: =VLOOKUP(M53,'1 - Decision Elements'!$C$31:$D$35,2,FALSE) -> 10 | O53: Low: 1 staff; already have equipment; low material costs | P53: =VLOOKUP(O53,'1 - Decision Elements'!$C$36:$D$39,2,FALSE) -> 10 | Q53: Easy: infestation location is accessible to people and equipment | R53: =VLOOKUP(Q53,'1 - Decision Elements'!$C$40:$D$43,2,FALSE) -> 10
B54: normalized value | D54: =D53/MAX('1 - Decision Elements'!$D$8:$D$12) -> 1 | F54: =F53/MAX('1 - Decision Elements'!$D$13:$D$17) -> 1 | H54: =H53/MAX('1 - Decision Elements'!$D$18:$D$21) -> 1 | J54: =J53/MAX('1 - Decision Elements'!$D$22:$D$25) -> 1 | L54: =L53/MAX('1 - Decision Elements'!$D$26:$D$30) -> 1 | N54: =N53/MAX('1 - Decision Elements'!$D$31:$D$35) -> 1 | P54: =P53/MAX('1 - Decision Elements'!$D$36:$D$39) -> 1 | R54: =R53/MAX('1 - Decision Elements'!$D$40:$D$43) -> 1
B55: weighted value | D55: ='2 - Relative Importance'!$B$6*'3 - Evaluation'!D54 -> 0.125 | F55: ='2 - Relative Importance'!$C$6*'3 - Evaluation'!F54 -> 0.125 | H55: ='2 - Relative Importance'!$D$6*'3 - Evaluation'!H54 -> 0.125 | J55: ='2 - Relative Importance'!$E$6*'3 - Evaluation'!J54 -> 0.125 | L55: ='2 - Relative Importance'!$F$6*'3 - Evaluation'!L54 -> 0.125 | N55: ='2 - Relative Importance'!$G$6*'3 - Evaluation'!N54 -> 0.125 | P55: ='2 - Relative Importance'!$H$6*'3 - Evaluation'!P54 -> 0.125 | R55: ='2 - Relative Importance'!$I$6*'3 - Evaluation'!R54 -> 0.125 | S55: =SUM(D55,F55,H55,J55,L55,N55,P55,R55) -> 1
A56: 17 | B56: plant name | C56: Peripheral, not on refuge yet | D56: =VLOOKUP(C56,'1 - Decision Elements'!$C$8:$D$12,2,FALSE) -> 10 | E56: Fast: explands quickly, within one season or 1-2 years | F56: =VLOOKUP(E56,'1 - Decision Elements'!$C$13:$D$17,2,FALSE) -> 10 | G56: High: threat of altering >50% of native plant community; impacts to refuge resouces of concern | H56: =VLOOKUP(G56,'1 - Decision Elements'!$C$18:$D$21,2,FALSE) -> 10 | I56: Quick and simple method effective (e.g. 1 foliar spray or hand pull or cut root) | J56: =VLOOKUP(I56,'1 - Decision Elements'!$C$22:$D$25,2,FALSE) -> 10 | K56: One treatment for complete control | L56: =VLOOKUP(K56,'1 - Decision Elements'!$C$26:$D$30,2,FALSE) -> 10 | M56: Highly effective | N56: =VLOOKUP(M56,'1 - Decision Elements'!$C$31:$D$35,2,FALSE) -> 10 | O56: Low: 1 staff; already have equipment; low material costs | P56: =VLOOKUP(O56,'1 - Decision Elements'!$C$36:$D$39,2,FALSE) -> 10 | Q56: Easy: infestation location is accessible to people and equipment | R56: =VLOOKUP(Q56,'1 - Decision Elements'!$C$40:$D$43,2,FALSE) -> 10
B57: normalized value | D57: =D56/MAX('1 - Decision Elements'!$D$8:$D$12) -> 1 | F57: =F56/MAX('1 - Decision Elements'!$D$13:$D$17) -> 1 | H57: =H56/MAX('1 - Decision Elements'!$D$18:$D$21) -> 1 | J57: =J56/MAX('1 - Decision Elements'!$D$22:$D$25) -> 1 | L57: =L56/MAX('1 - Decision Elements'!$D$26:$D$30) -> 1 | N57: =N56/MAX('1 - Decision Elements'!$D$31:$D$35) -> 1 | P57: =P56/MAX('1 - Decision Elements'!$D$36:$D$39) -> 1 | R57: =R56/MAX('1 - Decision Elements'!$D$40:$D$43) -> 1
B58: weighted value | D58: ='2 - Relative Importance'!$B$6*'3 - Evaluation'!D57 -> 0.125 | F58: ='2 - Relative Importance'!$C$6*'3 - Evaluation'!F57 -> 0.125 | H58: ='2 - Relative Importance'!$D$6*'3 - Evaluation'!H57 -> 0.125 | J58: ='2 - Relative Importance'!$E$6*'3 - Evaluation'!J57 -> 0.125 | L58: ='2 - Relative Importance'!$F$6*'3 - Evaluation'!L57 -> 0.125 | N58: ='2 - Relative Importance'!$G$6*'3 - Evaluation'!N57 -> 0.125 | P58: ='2 - Relative Importance'!$H$6*'3 - Evaluation'!P57 -> 0.125 | R58: ='2 - Relative Importance'!$I$6*'3 - Evaluation'!R57 -> 0.125 | S58: =SUM(D58,F58,H58,J58,L58,N58,P58,R58) -> 1
A59: 18 | B59: plant name | C59: Peripheral, not on refuge yet | D59: =VLOOKUP(C59,'1 - Decision Elements'!$C$8:$D$12,2,FALSE) -> 10 | E59: Fast: explands quickly, within one season or 1-2 years | F59: =VLOOKUP(E59,'1 - Decision Elements'!$C$13:$D$17,2,FALSE) -> 10 | G59: High: threat of altering >50% of native plant community; impacts to refuge resouces of concern | H59: =VLOOKUP(G59,'1 - Decision Elements'!$C$18:$D$21,2,FALSE) -> 10 | I59: Quick and simple method effective (e.g. 1 foliar spray or hand pull or cut root) | J59: =VLOOKUP(I59,'1 - Decision Elements'!$C$22:$D$25,2,FALSE) -> 10 | K59: One treatment for complete control | L59: =VLOOKUP(K59,'1 - Decision Elements'!$C$26:$D$30,2,FALSE) -> 10 | M59: Highly effective | N59: =VLOOKUP(M59,'1 - Decision Elements'!$C$31:$D$35,2,FALSE) -> 10 | O59: Low: 1 staff; already have equipment; low material costs | P59: =VLOOKUP(O59,'1 - Decision Elements'!$C$36:$D$39,2,FALSE) -> 10 | Q59: Easy: infestation location is accessible to people and equipment | R59: =VLOOKUP(Q59,'1 - Decision Elements'!$C$40:$D$43,2,FALSE) -> 10
B60: normalized value | D60: =D59/10 -> 1 | F60: =F59/MAX('1 - Decision Elements'!$D$13:$D$17) -> 1 | H60: =H59/MAX('1 - Decision Elements'!$D$18:$D$21) -> 1 | J60: =J59/MAX('1 - Decision Elements'!$D$22:$D$25) -> 1 | L60: =L59/MAX('1 - Decision Elements'!$D$26:$D$30) -> 1 | N60: =N59/MAX('1 - Decision Elements'!$D$31:$D$35) -> 1 | P60: =P59/MAX('1 - Decision Elements'!$D$36:$D$39) -> 1 | R60: =R59/MAX('1 - Decision Elements'!$D$40:$D$43) -> 1
B61: weighted value | D61: ='2 - Relative Importance'!$B$6*'3 - Evaluation'!D60 -> 0.125 | F61: ='2 - Relative Importance'!$C$6*'3 - Evaluation'!F60 -> 0.125 | H61: ='2 - Relative Importance'!$D$6*'3 - Evaluation'!H60 -> 0.125 | J61: ='2 - Relative Importance'!$E$6*'3 - Evaluation'!J60 -> 0.125 | L61: ='2 - Relative Importance'!$F$6*'3 - Evaluation'!L60 -> 0.125 | N61: ='2 - Relative Importance'!$G$6*'3 - Evaluation'!N60 -> 0.125 | P61: ='2 - Relative Importance'!$H$6*'3 - Evaluation'!P60 -> 0.125 | R61: ='2 - Relative Importance'!$I$6*'3 - Evaluation'!R60 -> 0.125 | S61: =SUM(D61,F61,H61,J61,L61,N61,P61,R61) -> 1
A62: 19 | B62: plant name | C62: Peripheral, not on refuge yet | D62: =VLOOKUP(C62,'1 - Decision Elements'!$C$8:$D$12,2,FALSE) -> 10 | E62: Fast: explands quickly, within one season or 1-2 years | F62: =VLOOKUP(E62,'1 - Decision Elements'!$C$13:$D$17,2,FALSE) -> 10 | G62: High: threat of altering >50% of native plant community; impacts to refuge resouces of concern | H62: =VLOOKUP(G62,'1 - Decision Elements'!$C$18:$D$21,2,FALSE) -> 10 | I62: Quick and simple method effective (e.g. 1 foliar spray or hand pull or cut root) | J62: =VLOOKUP(I62,'1 - Decision Elements'!$C$22:$D$25,2,FALSE) -> 10 | K62: One treatment for complete control | L62: =VLOOKUP(K62,'1 - Decision Elements'!$C$26:$D$30,2,FALSE) -> 10 | M62: Highly effective | N62: =VLOOKUP(M62,'1 - Decision Elements'!$C$31:$D$35,2,FALSE) -> 10 | O62: Low: 1 staff; already have equipment; low material costs | P62: =VLOOKUP(O62,'1 - Decision Elements'!$C$36:$D$39,2,FALSE) -> 10 | Q62: Easy: infestation location is accessible to people and equipment | R62: =VLOOKUP(Q62,'1 - Decision Elements'!$C$40:$D$43,2,FALSE) -> 10
B63: normalized value | D63: =D62/MAX('1 - Decision Elements'!$D$8:$D$12) -> 1 | F63: =F62/MAX('1 - Decision Elements'!$D$13:$D$17) -> 1 | H63: =H62/MAX('1 - Decision Elements'!$D$18:$D$21) -> 1 | J63: =J62/MAX('1 - Decision Elements'!$D$22:$D$25) -> 1 | L63: =L62/MAX('1 - Decision Elements'!$D$26:$D$30) -> 1 | N63: =N62/MAX('1 - Decision Elements'!$D$31:$D$35) -> 1 | P63: =P62/MAX('1 - Decision Elements'!$D$36:$D$39) -> 1 | R63: =R62/MAX('1 - Decision Elements'!$D$40:$D$43) -> 1
B64: weighted value | D64: ='2 - Relative Importance'!$B$6*'3 - Evaluation'!D63 -> 0.125 | F64: ='2 - Relative Importance'!$C$6*'3 - Evaluation'!F63 -> 0.125 | H64: ='2 - Relative Importance'!$D$6*'3 - Evaluation'!H63 -> 0.125 | J64: ='2 - Relative Importance'!$E$6*'3 - Evaluation'!J63 -> 0.125 | L64: ='2 - Relative Importance'!$F$6*'3 - Evaluation'!L63 -> 0.125 | N64: ='2 - Relative Importance'!$G$6*'3 - Evaluation'!N63 -> 0.125 | P64: ='2 - Relative Importance'!$H$6*'3 - Evaluation'!P63 -> 0.125 | R64: ='2 - Relative Importance'!$I$6*'3 - Evaluation'!R63 -> 0.125 | S64: =SUM(D64,F64,H64,J64,L64,N64,P64,R64) -> 1
A65: 20 | B65: plant name | C65: Peripheral, not on refuge yet | D65: =VLOOKUP(C65,'1 - Decision Elements'!$C$8:$D$12,2,FALSE) -> 10 | E65: Fast: explands quickly, within one season or 1-2 years | F65: =VLOOKUP(E65,'1 - Decision Elements'!$C$13:$D$17,2,FALSE) -> 10 | G65: High: threat of altering >50% of native plant community; impacts to refuge resouces of concern | H65: =VLOOKUP(G65,'1 - Decision Elements'!$C$18:$D$21,2,FALSE) -> 10 | I65: Quick and simple method effective (e.g. 1 foliar spray or hand pull or cut root) | J65: =VLOOKUP(I65,'1 - Decision Elements'!$C$22:$D$25,2,FALSE) -> 10 | K65: One treatment for complete control | L65: =VLOOKUP(K65,'1 - Decision Elements'!$C$26:$D$30,2,FALSE) -> 10 | M65: Highly effective | N65: =VLOOKUP(M65,'1 - Decision Elements'!$C$31:$D$35,2,FALSE) -> 10 | O65: Low: 1 staff; already have equipment; low material costs | P65: =VLOOKUP(O65,'1 - Decision Elements'!$C$36:$D$39,2,FALSE) -> 10 | Q65: Easy: infestation location is accessible to people and equipment | R65: =VLOOKUP(Q65,'1 - Decision Elements'!$C$40:$D$43,2,FALSE) -> 10
B66: normalized value | D66: =D65/MAX('1 - Decision Elements'!$D$8:$D$12) -> 1 | F66: =F65/MAX('1 - Decision Elements'!$D$13:$D$17) -> 1 | H66: =H65/MAX('1 - Decision Elements'!$D$18:$D$21) -> 1 | J66: =J65/MAX('1 - Decision Elements'!$D$22:$D$25) -> 1 | L66: =L65/MAX('1 - Decision Elements'!$D$26:$D$30) -> 1 | N66: =N65/MAX('1 - Decision Elements'!$D$31:$D$35) -> 1 | P66: =P65/MAX('1 - Decision Elements'!$D$36:$D$39) -> 1 | R66: =R65/MAX('1 - Decision Elements'!$D$40:$D$43) -> 1
B67: weighted value | D67: ='2 - Relative Importance'!$B$6*'3 - Evaluation'!D66 -> 0.125 | F67: ='2 - Relative Importance'!$C$6*'3 - Evaluation'!F66 -> 0.125 | H67: ='2 - Relative Importance'!$D$6*'3 - Evaluation'!H66 -> 0.125 | J67: ='2 - Relative Importance'!$E$6*'3 - Evaluation'!J66 -> 0.125 | L67: ='2 - Relative Importance'!$F$6*'3 - Evaluation'!L66 -> 0.125 | N67: ='2 - Relative Importance'!$G$6*'3 - Evaluation'!N66 -> 0.125 | P67: ='2 - Relative Importance'!$H$6*'3 - Evaluation'!P66 -> 0.125 | R67: ='2 - Relative Importance'!$I$6*'3 - Evaluation'!R66 -> 0.125 | S67: =SUM(D67,F67,H67,J67,L67,N67,P67,R67) -> 1

Sheet 4 - Visualize Results
A1: Step 4 - Visualize Results
A2: Instructions
A3: View the results below and revise decision elements, relative importance, or evaluation tables as needed. The first section visualizes the "overall score" for each plant and the relative contribution fo each decision element. The second section visualizes the "decision element categories" assigned to each plant to ensure the most appropriate categories were selected for each plant by comparing what was assigned across plants. All grey cells in both sections reference the results from the "3 - Evaluation" tab and should not be edited. If the refuge wants to change the values, then this should be done in the previous tabs and these graphics should automatically re-calculate all values and graphics accordingly.
A4: Overall Score
B5: Species | C5: 1 - Level of Establishment | D5: 2 - Rate of Invasiveness | E5: 3 - Level of Threat to Resources | F5: 4 - Level of Effort Required to Manage | G5: 5 - Number of Treatments Needed | H5: 6 - Effectiveness of Management | I5: 7 - Costs | J5: 8 - Ease of Logistics | K5: Priority Score for Management
A6: ='3 - Evaluation'!A8 -> 1 | B6: ='3 - Evaluation'!B8 -> plant name | C6: ='3 - Evaluation'!D10 -> 0.125 | D6: ='3 - Evaluation'!F10 -> 0.125 | E6: ='3 - Evaluation'!H10 -> 0.125 | F6: ='3 - Evaluation'!J10 -> 0.125 | G6: ='3 - Evaluation'!L10 -> 0.125 | H6: ='3 - Evaluation'!N10 -> 0.125 | I6: ='3 - Evaluation'!P10 -> 0.125 | J6: ='3 - Evaluation'!R10 -> 0.125 | K6: ='3 - Evaluation'!S10 -> 1
A7: ='3 - Evaluation'!A11 -> 2 | B7: ='3 - Evaluation'!B11 -> plant name | C7: ='3 - Evaluation'!D13 -> 0.125 | D7: ='3 - Evaluation'!F13 -> 0.125 | E7: ='3 - Evaluation'!H13 -> 0.125 | F7: ='3 - Evaluation'!J13 -> 0.125 | G7: ='3 - Evaluation'!L13 -> 0.125 | H7: ='3 - Evaluation'!N13 -> 0.125 | I7: ='3 - Evaluation'!P13 -> 0.125 | J7: ='3 - Evaluation'!R13 -> 0.125 | K7: ='3 - Evaluation'!S13 -> 1
A8: ='3 - Evaluation'!A14 -> 3 | B8: ='3 - Evaluation'!B14 -> plant name | C8: ='3 - Evaluation'!D16 -> 0.125 | D8: ='3 - Evaluation'!F16 -> 0.125 | E8: ='3 - Evaluation'!H16 -> 0.125 | F8: ='3 - Evaluation'!J16 -> 0.125 | G8: ='3 - Evaluation'!L16 -> 0.125 | H8: ='3 - Evaluation'!N16 -> 0.125 | I8: ='3 - Evaluation'!P16 -> 0.125 | J8: ='3 - Evaluation'!R16 -> 0.125 | K8: ='3 - Evaluation'!S16 -> 1
A9: ='3 - Evaluation'!A17 -> 4 | B9: ='3 - Evaluation'!B17 -> plant name | C9: ='3 - Evaluation'!D19 -> 0.125 | D9: ='3 - Evaluation'!F19 -> 0.125 | E9: ='3 - Evaluation'!H19 -> 0.125 | F9: ='3 - Evaluation'!J19 -> 0.125 | G9: ='3 - Evaluation'!L19 -> 0.125 | H9: ='3 - Evaluation'!N19 -> 0.125 | I9: ='3 - Evaluation'!P19 -> 0.125 | J9: ='3 - Evaluation'!R19 -> 0.125 | K9: ='3 - Evaluation'!S19 -> 1
A10: ='3 - Evaluation'!A20 -> 5 | B10: ='3 - Evaluation'!B20 -> plant name | C10: ='3 - Evaluation'!D22 -> 0.125 | D10: ='3 - Evaluation'!F22 -> 0.125 | E10: ='3 - Evaluation'!H22 -> 0.125 | F10: ='3 - Evaluation'!J22 -> 0.125 | G10: ='3 - Evaluation'!L22 -> 0.125 | H10: ='3 - Evaluation'!N22 -> 0.125 | I10: ='3 - Evaluation'!P22 -> 0.125 | J10: ='3 - Evaluation'!R22 -> 0.125 | K10: ='3 - Evaluation'!S22 -> 1
A11: ='3 - Evaluation'!A23 -> 6 | B11: ='3 - Evaluation'!B23 -> plant name | C11: ='3 - Evaluation'!D25 -> 0.125 | D11: ='3 - Evaluation'!F25 -> 0.125 | E11: ='3 - Evaluation'!H25 -> 0.125 | F11: ='3 - Evaluation'!J25 -> 0.125 | G11: ='3 - Evaluation'!L25 -> 0.125 | H11: ='3 - Evaluation'!N25 -> 0.125 | I11: ='3 - Evaluation'!P25 -> 0.125 | J11: ='3 - Evaluation'!R25 -> 0.125 | K11: ='3 - Evaluation'!S25 -> 1
A12: ='3 - Evaluation'!A26 -> 7 | B12: ='3 - Evaluation'!B26 -> plant name | C12: ='3 - Evaluation'!D28 -> 0.125 | D12: ='3 - Evaluation'!F28 -> 0.125 | E12: ='3 - Evaluation'!H28 -> 0.125 | F12: ='3 - Evaluation'!J28 -> 0.125 | G12: ='3 - Evaluation'!L28 -> 0.125 | H12: ='3 - Evaluation'!N28 -> 0.125 | I12: ='3 - Evaluation'!P28 -> 0.125 | J12: ='3 - Evaluation'!R28 -> 0.125 | K12: ='3 - Evaluation'!S28 -> 1
A13: ='3 - Evaluation'!A29 -> 8 | B13: ='3 - Evaluation'!B29 -> plant name | C13: ='3 - Evaluation'!D31 -> 0.125 | D13: ='3 - Evaluation'!F31 -> 0.125 | E13: ='3 - Evaluation'!H31 -> 0.125 | F13: ='3 - Evaluation'!J31 -> 0.125 | G13: ='3 - Evaluation'!L31 -> 0.125 | H13: ='3 - Evaluation'!N31 -> 0.125 | I13: ='3 - Evaluation'!P31 -> 0.125 | J13: ='3 - Evaluation'!R31 -> 0.125 | K13: ='3 - Evaluation'!S31 -> 1
A14: ='3 - Evaluation'!A32 -> 9 | B14: ='3 - Evaluation'!B32 -> plant name | C14: ='3 - Evaluation'!D34 -> 0.125 | D14: ='3 - Evaluation'!F34 -> 0.125 | E14: ='3 - Evaluation'!H34 -> 0.125 | F14: ='3 - Evaluation'!J34 -> 0.125 | G14: ='3 - Evaluation'!L34 -> 0.125 | H14: ='3 - Evaluation'!N34 -> 0.125 | I14: ='3 - Evaluation'!P34 -> 0.125 | J14: ='3 - Evaluation'!R34 -> 0.125 | K14: ='3 - Evaluation'!S34 -> 1
A15: ='3 - Evaluation'!A35 -> 10 | B15: ='3 - Evaluation'!B35 -> plant name | C15: ='3 - Evaluation'!D37 -> 0.125 | D15: ='3 - Evaluation'!F37 -> 0.125 | E15: ='3 - Evaluation'!H37 -> 0.125 | F15: ='3 - Evaluation'!J37 -> 0.125 | G15: ='3 - Evaluation'!L37 -> 0.125 | H15: ='3 - Evaluation'!N37 -> 0.125 | I15: ='3 - Evaluation'!P37 -> 0.125 | J15: ='3 - Evaluation'!R37 -> 0.125 | K15: ='3 - Evaluation'!S37 -> 1
A16: ='3 - Evaluation'!A38 -> 11 | B16: ='3 - Evaluation'!B38 -> plant name | C16: ='3 - Evaluation'!D40 -> 0.125 | D16: ='3 - Evaluation'!F40 -> 0.125 | E16: ='3 - Evaluation'!H40 -> 0.125 | F16: ='3 - Evaluation'!J40 -> 0.125 | G16: ='3 - Evaluation'!L40 -> 0.125 | H16: ='3 - Evaluation'!N40 -> 0.125 | I16: ='3 - Evaluation'!P40 -> 0.125 | J16: ='3 - Evaluation'!R40 -> 0.125 | K16: ='3 - Evaluation'!S40 -> 1
A17: ='3 - Evaluation'!A41 -> 12 | B17: ='3 - Evaluation'!B41 -> plant name | C17: ='3 - Evaluation'!D43 -> 0.125 | D17: ='3 - Evaluation'!F43 -> 0.125 | E17: ='3 - Evaluation'!H43 -> 0.125 | F17: ='3 - Evaluation'!J43 -> 0.125 | G17: ='3 - Evaluation'!L43 -> 0.125 | H17: ='3 - Evaluation'!N43 -> 0.125 | I17: ='3 - Evaluation'!P43 -> 0.125 | J17: ='3 - Evaluation'!R43 -> 0.125 | K17: ='3 - Evaluation'!S43 -> 1
A18: ='3 - Evaluation'!A44 -> 13 | B18: ='3 - Evaluation'!B44 -> plant name | C18: ='3 - Evaluation'!D46 -> 0.125 | D18: ='3 - Evaluation'!F46 -> 0.125 | E18: ='3 - Evaluation'!H46 -> 0.125 | F18: ='3 - Evaluation'!J46 -> 0.125 | G18: ='3 - Evaluation'!L46 -> 0.125 | H18: ='3 - Evaluation'!N46 -> 0.125 | I18: ='3 - Evaluation'!P46 -> 0.125 | J18: ='3 - Evaluation'!R46 -> 0.125 | K18: ='3 - Evaluation'!S46 -> 1
A19: ='3 - Evaluation'!A47 -> 14 | B19: ='3 - Evaluation'!B47 -> plant name | C19: ='3 - Evaluation'!D49 -> 0.125 | D19: ='3 - Evaluation'!F49 -> 0.125 | E19: ='3 - Evaluation'!H49 -> 0.125 | F19: ='3 - Evaluation'!J49 -> 0.125 | G19: ='3 - Evaluation'!L49 -> 0.125 | H19: ='3 - Evaluation'!N49 -> 0.125 | I19: ='3 - Evaluation'!P49 -> 0.125 | J19: ='3 - Evaluation'!R49 -> 0.125 | K19: ='3 - Evaluation'!S49 -> 1
A20: ='3 - Evaluation'!A50 -> 15 | B20: ='3 - Evaluation'!B50 -> plant name | C20: ='3 - Evaluation'!D52 -> 0.125 | D20: ='3 - Evaluation'!F52 -> 0.125 | E20: ='3 - Evaluation'!H52 -> 0.125 | F20: ='3 - Evaluation'!J52 -> 0.125 | G20: ='3 - Evaluation'!L52 -> 0.125 | H20: ='3 - Evaluation'!N52 -> 0.125 | I20: ='3 - Evaluation'!P52 -> 0.125 | J20: ='3 - Evaluation'!R52 -> 0.125 | K20: ='3 - Evaluation'!S52 -> 1
A21: ='3 - Evaluation'!A53 -> 16 | B21: ='3 - Evaluation'!B53 -> plant name | C21: ='3 - Evaluation'!D55 -> 0.125 | D21: ='3 - Evaluation'!F55 -> 0.125 | E21: ='3 - Evaluation'!H55 -> 0.125 | F21: ='3 - Evaluation'!J55 -> 0.125 | G21: ='3 - Evaluation'!L55 -> 0.125 | H21: ='3 - Evaluation'!N55 -> 0.125 | I21: ='3 - Evaluation'!P55 -> 0.125 | J21: ='3 - Evaluation'!R55 -> 0.125 | K21: ='3 - Evaluation'!S55 -> 1
A22: ='3 - Evaluation'!A56 -> 17 | B22: ='3 - Evaluation'!B56 -> plant name | C22: ='3 - Evaluation'!D58 -> 0.125 | D22: ='3 - Evaluation'!F58 -> 0.125 | E22: ='3 - Evaluation'!H58 -> 0.125 | F22: ='3 - Evaluation'!J58 -> 0.125 | G22: ='3 - Evaluation'!L58 -> 0.125 | H22: ='3 - Evaluation'!N58 -> 0.125 | I22: ='3 - Evaluation'!P58 -> 0.125 | J22: ='3 - Evaluation'!R58 -> 0.125 | K22: ='3 - Evaluation'!S58 -> 1
A23: ='3 - Evaluation'!A59 -> 18 | B23: ='3 - Evaluation'!B59 -> plant name | C23: ='3 - Evaluation'!D61 -> 0.125 | D23: ='3 - Evaluation'!F61 -> 0.125 | E23: ='3 - Evaluation'!H61 -> 0.125 | F23: ='3 - Evaluation'!J61 -> 0.125 | G23: ='3 - Evaluation'!L61 -> 0.125 | H23: ='3 - Evaluation'!N61 -> 0.125 | I23: ='3 - Evaluation'!P61 -> 0.125 | J23: ='3 - Evaluation'!R61 -> 0.125 | K23: ='3 - Evaluation'!S61 -> 1
A24: ='3 - Evaluation'!A62 -> 19 | B24: ='3 - Evaluation'!B62 -> plant name | C24: ='3 - Evaluation'!D64 -> 0.125 | D24: ='3 - Evaluation'!F64 -> 0.125 | E24: ='3 - Evaluation'!H64 -> 0.125 | F24: ='3 - Evaluation'!J64 -> 0.125 | G24: ='3 - Evaluation'!L64 -> 0.125 | H24: ='3 - Evaluation'!N64 -> 0.125 | I24: ='3 - Evaluation'!P64 -> 0.125 | J24: ='3 - Evaluation'!R64 -> 0.125 | K24: ='3 - Evaluation'!S64 -> 1
A25: ='3 - Evaluation'!A65 -> 20 | B25: ='3 - Evaluation'!B65 -> plant name | C25: ='3 - Evaluation'!D67 -> 0.125 | D25: ='3 - Evaluation'!F67 -> 0.125 | E25: ='3 - Evaluation'!H67 -> 0.125 | F25: ='3 - Evaluation'!J67 -> 0.125 | G25: ='3 - Evaluation'!L67 -> 0.125 | H25: ='3 - Evaluation'!N67 -> 0.125 | I25: ='3 - Evaluation'!P67 -> 0.125 | J25: ='3 - Evaluation'!R67 -> 0.125 | K25: ='3 - Evaluation'!S67 -> 1
A27: Compare Decision Element Assigned Categories
B28: Species | C28: 1 - Level of Establishment | D28: 2 - Rate of Invasiveness | E28: 3 - Level of Threat to Resources | F28: 4 - Level of Effort Required to Manage | G28: 5 - Number of Treatments Needed | H28: 6 - Effectiveness of Management | I28: 7 - Costs | J28: 8 - Ease of Logistics
A29: =A6 -> 1 | B29: =B6 -> plant name | C29: ='3 - Evaluation'!D8 -> 10 | D29: ='3 - Evaluation'!F8 -> 10 | E29: ='3 - Evaluation'!H8 -> 10 | F29: ='3 - Evaluation'!J8 -> 10 | G29: ='3 - Evaluation'!L8 -> 10 | H29: ='3 - Evaluation'!N8 -> 10 | I29: ='3 - Evaluation'!P8 -> 10 | J29: ='3 - Evaluation'!R8 -> 10
A30: =A7 -> 2 | B30: =B7 -> plant name | C30: ='3 - Evaluation'!D11 -> 10 | D30: ='3 - Evaluation'!F11 -> 10 | E30: ='3 - Evaluation'!H11 -> 10 | F30: ='3 - Evaluation'!J11 -> 10 | G30: ='3 - Evaluation'!L11 -> 10 | H30: ='3 - Evaluation'!N11 -> 10 | I30: ='3 - Evaluation'!P11 -> 10 | J30: ='3 - Evaluation'!R11 -> 10
A31: =A8 -> 3 | B31: =B8 -> plant name | C31: ='3 - Evaluation'!D14 -> 10 | D31: ='3 - Evaluation'!F14 -> 10 | E31: ='3 - Evaluation'!H14 -> 10 | F31: ='3 - Evaluation'!J14 -> 10 | G31: ='3 - Evaluation'!L14 -> 10 | H31: ='3 - Evaluation'!N14 -> 10 | I31: ='3 - Evaluation'!P14 -> 10 | J31: ='3 - Evaluation'!R14 -> 10
A32: =A9 -> 4 | B32: =B9 -> plant name | C32: ='3 - Evaluation'!D17 -> 10 | D32: ='3 - Evaluation'!F17 -> 10 | E32: ='3 - Evaluation'!H17 -> 10 | F32: ='3 - Evaluation'!J17 -> 10 | G32: ='3 - Evaluation'!L17 -> 10 | H32: ='3 - Evaluation'!N17 -> 10 | I32: ='3 - Evaluation'!P17 -> 10 | J32: ='3 - Evaluation'!R17 -> 10
A33: =A10 -> 5 | B33: =B10 -> plant name | C33: ='3 - Evaluation'!D20 -> 10 | D33: ='3 - Evaluation'!F20 -> 10 | E33: ='3 - Evaluation'!H20 -> 10 | F33: ='3 - Evaluation'!J20 -> 10 | G33: ='3 - Evaluation'!L20 -> 10 | H33: ='3 - Evaluation'!N20 -> 10 | I33: ='3 - Evaluation'!P20 -> 10 | J33: ='3 - Evaluation'!R20 -> 10
A34: =A11 -> 6 | B34: =B11 -> plant name | C34: ='3 - Evaluation'!D23 -> 10 | D34: ='3 - Evaluation'!F23 -> 10 | E34: ='3 - Evaluation'!H23 -> 10 | F34: ='3 - Evaluation'!J23 -> 10 | G34: ='3 - Evaluation'!L23 -> 10 | H34: ='3 - Evaluation'!N23 -> 10 | I34: ='3 - Evaluation'!P23 -> 10 | J34: ='3 - Evaluation'!R23 -> 10
A35: =A12 -> 7 | B35: =B12 -> plant name | C35: ='3 - Evaluation'!D26 -> 10 | D35: ='3 - Evaluation'!F26 -> 10 | E35: ='3 - Evaluation'!H26 -> 10 | F35: ='3 - Evaluation'!J26 -> 10 | G35: ='3 - Evaluation'!L26 -> 10 | H35: ='3 - Evaluation'!N26 -> 10 | I35: ='3 - Evaluation'!P26 -> 10 | J35: ='3 - Evaluation'!R26 -> 10
A36: =A13 -> 8 | B36: =B13 -> plant name | C36: ='3 - Evaluation'!D29 -> 10 | D36: ='3 - Evaluation'!F29 -> 10 | E36: ='3 - Evaluation'!H29 -> 10 | F36: ='3 - Evaluation'!J29 -> 10 | G36: ='3 - Evaluation'!L29 -> 10 | H36: ='3 - Evaluation'!N29 -> 10 | I36: ='3 - Evaluation'!P29 -> 10 | J36: ='3 - Evaluation'!R29 -> 10
A37: =A14 -> 9 | B37: =B14 -> plant name | C37: ='3 - Evaluation'!D32 -> 10 | D37: ='3 - Evaluation'!F32 -> 10 | E37: ='3 - Evaluation'!H32 -> 10 | F37: ='3 - Evaluation'!J32 -> 10 | G37: ='3 - Evaluation'!L32 -> 10 | H37: ='3 - Evaluation'!N32 -> 10 | I37: ='3 - Evaluation'!P32 -> 10 | J37: ='3 - Evaluation'!R32 -> 10
A38: =A15 -> 10 | B38: =B15 -> plant name | C38: ='3 - Evaluation'!D35 -> 10 | D38: ='3 - Evaluation'!F35 -> 10 | E38: ='3 - Evaluation'!H35 -> 10 | F38: ='3 - Evaluation'!J35 -> 10 | G38: ='3 - Evaluation'!L35 -> 10 | H38: ='3 - Evaluation'!N35 -> 10 | I38: ='3 - Evaluation'!P35 -> 10 | J38: ='3 - Evaluation'!R35 -> 10
A39: =A16 -> 11 | B39: =B16 -> plant name | C39: ='3 - Evaluation'!D38 -> 10 | D39: ='3 - Evaluation'!F38 -> 10 | E39: ='3 - Evaluation'!H38 -> 10 | F39: ='3 - Evaluation'!J38 -> 10 | G39: ='3 - Evaluation'!L38 -> 10 | H39: ='3 - Evaluation'!N38 -> 10 | I39: ='3 - Evaluation'!P38 -> 10 | J39: ='3 - Evaluation'!R38 -> 10
A40: =A17 -> 12 | B40: =B17 -> plant name | C40: ='3 - Evaluation'!D41 -> 10 | D40: ='3 - Evaluation'!F41 -> 10 | E40: ='3 - Evaluation'!H41 -> 10 | F40: ='3 - Evaluation'!J41 -> 10 | G40: ='3 - Evaluation'!L41 -> 10 | H40: ='3 - Evaluation'!N41 -> 10 | I40: ='3 - Evaluation'!P41 -> 10 | J40: ='3 - Evaluation'!R41 -> 10
A41: =A18 -> 13 | B41: =B18 -> plant name | C41: ='3 - Evaluation'!D44 -> 10 | D41: ='3 - Evaluation'!F44 -> 10 | E41: ='3 - Evaluation'!H44 -> 10 | F41: ='3 - Evaluation'!J44 -> 10 | G41: ='3 - Evaluation'!L44 -> 10 | H41: ='3 - Evaluation'!N44 -> 10 | I41: ='3 - Evaluation'!P44 -> 10 | J41: ='3 - Evaluation'!R44 -> 10
A42: =A19 -> 14 | B42: =B19 -> plant name | C42: ='3 - Evaluation'!D47 -> 10 | D42: ='3 - Evaluation'!F47 -> 10 | E42: ='3 - Evaluation'!H47 -> 10 | F42: ='3 - Evaluation'!J47 -> 10 | G42: ='3 - Evaluation'!L47 -> 10 | H42: ='3 - Evaluation'!N47 -> 10 | I42: ='3 - Evaluation'!P47 -> 10 | J42: ='3 - Evaluation'!R47 -> 10
A43: =A20 -> 15 | B43: =B20 -> plant name | C43: ='3 - Evaluation'!D50 -> 10 | D43: ='3 - Evaluation'!F50 -> 10 | E43: ='3 - Evaluation'!H50 -> 10 | F43: ='3 - Evaluation'!J50 -> 10 | G43: ='3 - Evaluation'!L50 -> 10 | H43: ='3 - Evaluation'!N50 -> 10 | I43: ='3 - Evaluation'!P50 -> 10 | J43: ='3 - Evaluation'!R50 -> 10
A44: =A21 -> 16 | B44: =B21 -> plant name | C44: ='3 - Evaluation'!D53 -> 10 | D44: ='3 - Evaluation'!F53 -> 10 | E44: ='3 - Evaluation'!H53 -> 10 | F44: ='3 - Evaluation'!J53 -> 10 | G44: ='3 - Evaluation'!L53 -> 10 | H44: ='3 - Evaluation'!N53 -> 10 | I44: ='3 - Evaluation'!P53 -> 10 | J44: ='3 - Evaluation'!R53 -> 10
A45: =A22 -> 17 | B45: =B22 -> plant name | C45: ='3 - Evaluation'!D56 -> 10 | D45: ='3 - Evaluation'!F56 -> 10 | E45: ='3 - Evaluation'!H56 -> 10 | F45: ='3 - Evaluation'!J56 -> 10 | G45: ='3 - Evaluation'!L56 -> 10 | H45: ='3 - Evaluation'!N56 -> 10 | I45: ='3 - Evaluation'!P56 -> 10 | J45: ='3 - Evaluation'!R56 -> 10
A46: =A23 -> 18 | B46: =B23 -> plant name | C46: ='3 - Evaluation'!D59 -> 10 | D46: ='3 - Evaluation'!F59 -> 10 | E46: ='3 - Evaluation'!H59 -> 10 | F46: ='3 - Evaluation'!J59 -> 10 | G46: ='3 - Evaluation'!L59 -> 10 | H46: ='3 - Evaluation'!N59 -> 10 | I46: ='3 - Evaluation'!P59 -> 10 | J46: ='3 - Evaluation'!R59 -> 10
A47: =A24 -> 19 | B47: =B24 -> plant name | C47: ='3 - Evaluation'!D62 -> 10 | D47: ='3 - Evaluation'!F62 -> 10 | E47: ='3 - Evaluation'!H62 -> 10 | F47: ='3 - Evaluation'!J62 -> 10 | G47: ='3 - Evaluation'!L62 -> 10 | H47: ='3 - Evaluation'!N62 -> 10 | I47: ='3 - Evaluation'!P62 -> 10 | J47: ='3 - Evaluation'!R62 -> 10
A48: =A25 -> 20 | B48: =B25 -> plant name | C48: ='3 - Evaluation'!D65 -> 10 | D48: ='3 - Evaluation'!F65 -> 10 | E48: ='3 - Evaluation'!H65 -> 10 | F48: ='3 - Evaluation'!J65 -> 10 | G48: ='3 - Evaluation'!L65 -> 10 | H48: ='3 - Evaluation'!N65 -> 10 | I48: ='3 - Evaluation'!P65 -> 10 | J48: ='3 - Evaluation'!R65 -> 10
